Workbook
Name data24: 'pns_A5EB03E23BB5F6A0E040640 (2)'!$A$3:$AX$4558
Name DATAUSUL: USUL25!$A$3:$R$1048576
Name DATAusul: #REF!
Name nomor: #REF!
Name noSK: #REF!
Name noSK.III: #REF!
Name noSK21: #REF!
Name noSK22: #REF!
Name nosk22.II: #REF!
Name REKAP: 'LAP PENSIUN 25'!$AQ$6:$AV$18
Name REKAP021: 'LAP PENSIUN 25'!$AP$7:$AV$18
Name REKAP21: 'LAP PENSIUN 25'!$AQ$7:$AV$18
Name SAPK04: '[1]DATA SAPK'!$1:$5299
Name sapk20: #REF!
Name sapk21: #REF!
Name sapk22: #REF!
Name siasn25: #REF!
Name Usul22: #REF!
Name USUL25: USUL25!$A$6:$R$1048576

Sheet pns_A5EB03E23BB5F6A0E040640 (2)
A1: NIP BARU | B1: NIP LAMA | C1: NAMA | D1: GELAR DEPAN | E1: GELAR BELAKANG | F1: TEMPAT LAHIR NAMA | G1: TANGGAL LAHIR | H1: JENIS KELAMIN | I1: AGAMA NAMA | J1: JENIS KAWIN NAMA | K1: NIK | L1: NOMOR HP | M1: EMAIL | N1: EMAIL GOV | O1: ALAMAT | P1: NPWP NOMOR | Q1: BPJS | R1: JENIS PEGAWAI ID | S1: KEDUDUKAN HUKUM NAMA | T1: KARTU ASN VIRTUAL | U1: NOMOR SK CPNS | V1: TANGGAL SK CPNS | W1: TMT CPNS | X1: NOMOR SK PNS | Y1: TANGGAL SK PNS | Z1: TMT PNS | AA1: GOL AWAL ID | AB1: GOL AWAL NAMA | AC1: GOL AKHIR ID | AD1: GOL AKHIR NAMA | AE1: TMT GOLONGAN | AF1: MK TAHUN | AG1: MK BULAN | AH1: JENIS JABATAN NAMA | AI1: JABATAN NAMA | AJ1: ESELON | AK1: TMT JABATAN | AL1: TINGKAT PENDIDIKAN ID | AM1: TINGKAT PENDIDIKAN NAMA | AN1: PENDIDIKAN ID | AO1: PENDIDIKAN NAMA | AP1: TAHUN LULUS | AQ1: LOKASI KERJA NAMA | AR1: UNOR NAMA | AS1: INSTANSI INDUK NAMA | AT1: INSTANSI KERJA NAMA | AU1: SATUAN KERJA INDUK ID | AV1: SATUAN KERJA INDUK NAMA | AW1: SATUAN KERJA KERJA NAMA | AX1: NAMA SEKOLAH
A2: 1 | B2: 2 | C2: 3 | D2: 4 | E2: 5 | F2: 6 | G2: 7 | H2: 8 | I2: 9 | J2: 10 | K2: 11 | L2: 12 | M2: 13 | N2: 14 | O2: 15 | P2: 16 | Q2: 17 | R2: 18 | S2: 19 | T2: 20 | U2: 21 | V2: 22 | W2: 23 | X2: 24 | Y2: 25 | Z2: 26 | AA2: 27 | AB2: 28 | AC2: 29 | AD2: 30 | AE2: 31 | AF2: 32 | AG2: 33 | AH2: 34 | AI2: 35 | AJ2: 36 | AK2: 37 | AL2: 38 | AM2: 39 | AN2: 40 | AO2: 41 | AP2: 42 | AQ2: 43 | AR2: 44 | AS2: 45 | AT2: 46 | AU2: 47 | AV2: 48 | AW2: 49 | AX2: 50
A3: 196212311982062039 | B3: 131062087 | C3: KASMAWATI | F3: TOLITOLI | G3: 23011 | H3: F | I3: Islam | J3: Cerai Hidup | K3: '7204074902630003 | M3: kasmawati044@gmail.com | O3: JL. VETERAN 1 KEL.BARU | P3: '145139523834000 | Q3: '0000135303568 | R3: 15 | S3: Aktif | T3: A198400009501 | W3: 30103 | Z3: 30742 | AA3: 21 | AB3: II/a | AC3: 41 | AD3: IV/a | AE3: 38261 | AF3: 17 | AG3: 4 | AH3: Jabatan Fungsional | AI3: Guru Pembina | AK3: 38261 | AL3: 25 | AM3: Diploma II | AN3: A5EB03E2100AF6A0E040640A040252AD | AO3: D-II/A-II | AP3: 2001 | AQ3: BAOLAN | AR3: SD Negeri Pembina - Dinas Pendidikan Dan Kebudayaan | AS3: Pemerintah Kab. Tolitoli | AT3: Pemerintah Kab. Tolitoli | AU3: A5EB03E2428FF6A0E040640A040252AD | AV3: Pemerintah Kab. Tolitoli
A4: 196307141984122005 | B4: 131210465 | C4: KARTINI TANGAHU | F4: SINJAI | G4: 23206 | H4: F | I4: Islam | J4: Menikah | K4: '7204076407630001 | M4: kartinitangahu@gmail.com | O4: JL. TADULAKO II NO. 11 KEL. PANASAKAN KEC. BAOLAN | P4: '78.807.999.4.834.000 | Q4: '0000135295042 | R4: 15 | S4: Aktif | T4: A198600021469 | W4: 31017 | Z4: 31533 | AA4: 21 | AB4: II/a | AC4: 34 | AD4: III/d | AE4: 39722 | AF4: 18 | AG4: 10 | AH4: Jabatan Fungsional | AI4: Guru Ahli Madya | AK4: 42746 | AL4: 15 | AM4: SLTA | AN4: A5EB03E20C3FF6A0E040640A040252AD | AO4: KPG | AP4: 1984 | AQ4: OGODEIDE | AR4: SD Negeri 1 Labuan Lobo - Dinas Pendidikan Dan Kebudayaan | AS4: Pemerintah Kab. Tolitoli | AT4: Pemerintah Kab. Tolitoli | AU4: A5EB03E2428FF6A0E040640A040252AD | AV4: Pemerintah Kab. Tolitoli | AW4: Pemerintah Kab. Tolitoli
A5: 196404231984122010 | B5: 131210504 | C5: MARYAM D HANAPI | F5: TOLITOLI | G5: 23490 | H5: F | I5: Islam | J5: Menikah | K5: '7204036304640002 | L5: 0 | M5: maryamhanapi2@gmail.com | O5: DESA TINABOGAN KEC. DONDO | P5: '78.498.118.5.834.000 | Q5: '0000135304784 | R5: 15 | S5: Aktif | T5: A198600032122 | U5: P DAN K : 25/L/BT/86 | V5: 31523 | W5: 31017 | X5: 329/Repeg.1/PNS/DPB/84 | Y5: 31012 | Z5: 31533 | AA5: 21 | AB5: II/a | AC5: 34 | AD5: III/d | AE5: 40452 | AF5: 20 | AG5: 10 | AH5: Jabatan Fungsional | AI5: Guru Ahli Muda | AK5: 44670 | AL5: 25 | AM5: Diploma II | AN5: A5EB03E2100AF6A0E040640A040252AD | AO5: D-II/A-II | AP5: 2002 | AQ5: DONDO | AR5: SD Negeri 3 Bambapun - Dinas Pendidikan Dan Kebudayaan | AS5: Pemerintah Kab. Tolitoli | AT5: Pemerintah Kab. Tolitoli | AU5: A5EB03E2428FF6A0E040640A040252AD | AV5: Pemerintah Kab. Tolitoli | AW5: Pemerintah Kab. Tolitoli
A6: 196406011989031021 | B6: 131840763 | C6: ERLIS | F6: TOLITOLI | G6: 23529 | H6: M | I6: Islam | J6: Menikah | K6: '1771060106640001 | O6: JL. AHMAD YANI NO 29 | P6: ' | Q6: ' | R6: 15 | S6: Aktif | T6: A199100010611 | W6: 32568 | Z6: 33270 | AA6: 11 | AB6: I/a | AC6: 21 | AD6: II/a | AE6: 36800 | AF6: 5 | AG6: 7 | AH6: Jabatan Pelaksana | AI6: PENGADMINISTRASI UMUM | AK6: 42746 | AL6: 15 | AM6: SLTA | AN6: A5EB03E215B8F6A0E040640A040252AD | AO6: SMA A.3/IPS | AP6: 1996 | AQ6: BAOLAN | AR6: Sub Bagian Umum Dan Kepegawaian - Dinas Pendidikan Dan Kebudayaan | AS6: Pemerintah Kab. Tolitoli | AT6: Pemerintah Kab. Tolitoli | AU6: A5EB03E2428FF6A0E040640A040252AD | AV6: Pemerintah Kab. Tolitoli | AW6: Pemerintah Kab. Tolitoli
A7: 196411041985121003 | B7: 131342669 | C7: MAKMUR H HAMIR | E7: S.Pd.SD | F7: TOLITOLI | G7: 23685 | H7: M | I7: Islam | J7: Menikah | K7: '7204070411640003 | M7: radenkia00@gmail.com | O7: DESA DADAKITAN | P7: '15.499.554.2834.000 | Q7: '0000135304345 | R7: 15 | S7: Aktif | T7: A198700041846 | U7: 537/ROPEG.6/DPB/85 | V7: 31369 | W7: 31382 | X7: 162/821.12/BT/1987 | Y7: 32109 | Z7: 32112 | AA7: 21 | AB7: II/a | AC7: 42 | AD7: IV/b | AE7: 44835 | AF7: 31 | AG7: 10 | AH7: Jabatan Fungsional | AI7: Guru Ahli Madya | AK7: 45120 | AL7: 40 | AM7: S-1/Sarjana | AN7: 7634B30B9A590205E050640A29031FF8 | AO7: S-1 PGSD (PENDIDIKAN GURU SEKOLAH DASAR) | AP7: 2002 | AQ7: BAOLAN | AR7: SD Negeri 3 Tambun - Dinas Pendidikan Dan Kebudayaan | AS7: Pemerintah Kab. Tolitoli | AT7: Pemerintah Kab. Tolitoli | AU7: A5EB03E2428FF6A0E040640A040252AD | AV7: Pemerintah Kab. Tolitoli | AW7: Pemerintah Kab. Tolitoli
A8: 196411081983071001 | B8: 131057014 | C8: AMIRUDIN | E8: A. Ma.Pd | F8: TOLITOLI | G8: 23689 | H8: M | I8: Islam | J8: Menikah | K8: '7204070811640003 | L8: 82188788864 | M8: amirudintolitoli@gmail.com | O8: JLN. RAJAWALI NO. 16 TUWELEY | P8: '69.806-298.1-834.000 | Q8: '0000135297718 | R8: 15 | S8: Aktif | T8: A198500022707 | U8: 173/ROPEG/DPB/1983 | V8: 30487 | W8: 30498 | X8: 134/L/BT/1985 | Y8: 31218 | Z8: 31229 | AA8: 21 | AB8: II/a | AC8: 41 | AD8: IV/a | AE8: 39904 | AF8: 20 | AG8: 9 | AH8: Jabatan Fungsional | AI8: Guru Ahli Madya | AK8: 44670 | AL8: 25 | AM8: Diploma II | AN8: 8ae482893c955451013ca2b695830ad7 | AO8: D-II PENDIDIKAN GURU SEKOLAH DASAR | AP8: 2005 | AQ8: TOLITOLI | AR8: SD Negeri 12 Tolitoli - Dinas Pendidikan Dan Kebudayaan | AS8: Pemerintah Kab. Tolitoli | AT8: Pemerintah Kab. Tolitoli | AU8: A5EB03E2428FF6A0E040640A040252AD | AV8: Pemerintah Kab. Tolitoli | AW8: Pemerintah Kab. Tolitoli
A9: 196411111983062001 | B9: 131216404 | C9: SEPI | E9: S.Pd.SD | F9: GANDANGBATU | G9: 23692 | H9: F | I9: Kristen | J9: Menikah | K9: '7204075111640001 | L9: 81214965486 | M9: Sepitoliz@gmail.com | O9: JL.CENDRAWASIH NO. 07 KEL. TUWELEY KEC. BAOLAN KAB. TOLITOLI | P9: '77.485.760.1.834.000 | Q9: '0000135310702 | R9: 15 | S9: Aktif | T9: A198500022732 | U9: GN.813.2-060 | V9: 30453 | W9: 30468 | X9: GR.821.12-3437/DPK | Y9: 31050 | Z9: 31079 | AA9: 21 | AB9: II/a | AC9: 42 | AD9: IV/b | AE9: 43922 | AF9: 31 | AG9: 4 | AH9: Jabatan Fungsional | AI9: Guru Ahli Madya | AK9: 44670 | AL9: 40 | AM9: S-1/Sarjana | AN9: ff8080815252a7a7015257aa17d06c02 | AO9: S-1 PENDIDIKAN GURU SEKOLAH DASAR | AP9: 2009 | AQ9: BAOLAN | AR9: SD Negeri 10 Tolitoli - Dinas Pendidikan Dan Kebudayaan | AS9: Pemerintah Kab. Tolitoli | AT9: Pemerintah Kab. Tolitoli | AU9: A5EB03E2428FF6A0E040640A040252AD | AV9: Pemerintah Kab. Tolitoli | AW9: Pemerintah Kab. Tolitoli
A10: 196411161984121002 | B10: 131210448 | C10: MOH SURAJUDDIN IBRAHIM | E10: S.Pd | F10: TOLITOLI | G10: 23697 | H10: M | I10: Islam | J10: Menikah | K10: '7204091611640001 | L10: 81242970664 | M10: mohsurajuddin1964@gmail.com | O10: Desa Binontoan | P10: '78.805.487.2.834000 | Q10: '0000135305662 | R10: 15 | S10: Aktif | T10: A198600038223 | U10: 70/L/BT/1986 | V10: 31621 | W10: 31017 | Z10: 31625 | AA10: 21 | AB10: II/a | AC10: 41 | AD10: IV/a | AE10: 44652 | AF10: 32 | AG10: 4 | AH10: Jabatan Fungsional | AI10: Guru Ahli Madya | AK10: 44652 | AL10: 40 | AM10: S-1/Sarjana | AN10: 14a66e0a9093449c96aca3650ba42f0b | AO10: S-1 PENDIDIKAN GURU SEKOLAH DASAR | AP10: 2015 | AQ10: TOLI-TOLI UTARA | AR10: SD Negeri Harapan Jaya - Dinas Pendidikan Dan Kebudayaan | AS10: Pemerintah Kab. Tolitoli | AT10: Pemerintah Kab. Tolitoli | AU10: A5EB03E2428FF6A0E040640A040252AD | AV10: Pemerintah Kab. Tolitoli
A11: 196411161986012004 | B11: 131565225 | C11: DINIARSI | E11: S.Pd | F11: BLORA | G11: 23697 | H11: F | I11: Islam | J11: Menikah | K11: '7204075611640003 | L11: 82292706299 | M11: diniarsi@yahoo.co.id | O11: JL. ELANG I NO. 8 | P11: '68.233.042.8.834.000 | Q11: '0000135327429 | R11: 15 | S11: Aktif | T11: A198700042481 | U11: 662/c/I.24.1.III/1986 | V11: 31565 | W11: 31413 | X11: 1097/Kepeg/Ca-2/Kwst/1987 | Y11: 32111 | Z11: 32112 | AA11: 21 | AB11: II/a | AC11: 42 | AD11: IV/b | AE11: 43739 | AF11: 28 | AG11: 9 | AH11: Jabatan Fungsional | AI11: Guru Ahli Madya | AK11: 43739 | AL11: 40 | AM11: S-1/Sarjana | AN11: A5EB03E21B2EF6A0E040640A040252AD | AO11: A-IV MATEMATIKA | AP11: 2001 | AQ11: BAOLAN | AR11: SMP NEGERI 3 TOLITOLI - Dinas Pendidikan Dan Kebudayaan | AS11: Pemerintah Kab. Tolitoli | AT11: Pemerintah Kab. Tolitoli | AU11: A5EB03E2428FF6A0E040640A040252AD | AV11: Pemerintah Kab. Tolitoli
A12: 196411191994082001 | B12: 132080137 | C12: RAHMATIA | E12: A.Ma.Pd | F12: TOLITOLI | G12: 23700 | H12: F | I12: Islam | J12: Menikah | K12: '7204075911640001 | L12: 85222357825 | M12: r_tia37@yahoo.co.id | O12: JL. STADION 1 DINOPI NO. 7 | P12: '779871755834000 | Q12: '0000135232705 | R12: 15 | S12: Aktif | T12: A199500007079 | U12: 813.2/34-DPB/1994 | V12: 34540 | W12: 34547 | X12: 821/96.15/PDK | Y12: 35033 | Z12: 34943 | AA12: 21 | AB12: II/a | AC12: 41 | AD12: IV/a | AE12: 42278 | AF12: 16 | AG12: 2 | AH12: Jabatan Fungsional | AI12: Guru Ahli Madya | AK12: 42278 | AL12: 25 | AM12: Diploma II | AN12: A5EB03E21871F6A0E040640A040252AD | AO12: D-II/A-II PGSD | AP12: 2005 | AQ12: BAOLAN | AR12: SD Negeri 2 Nalu - Dinas Pendidikan Dan Kebudayaan | AS12: Pemerintah Kab. Tolitoli | AT12: Pemerintah Kab. Tolitoli | AU12: A5EB03E2428FF6A0E040640A040252AD | AV12: Pemerintah Kab. Tolitoli
A13: 196411301993042001 | B13: 132034196 | C13: PETRONELA N. RONDONUWU | E13: S.Pd | F13: MINAHASA | G13: 23711 | H13: F | I13: Katholik | J13: Menikah | K13: '7204077011640002 | L13: 82293828849 | M13: sd.kat_theresia@yahoo.co.id | O13: JL. MAGAMU SAMPING SD 10 TOLITOLI | P13: '69.806.336.9834.000 | Q13: '0000201112694 | R13: 15 | S13: Aktif | T13: A199400008555 | U13: 813.2/42/DPB/1993 | V13: 34059 | W13: 34060 | X13: 821.12/13.03/PDK | Y13: 34668 | Z13: 34669 | AA13: 22 | AB13: II/b | AC13: 42 | AD13: IV/b | AE13: 44470 | AF13: 26 | AG13: 6 | AH13: Jabatan Fungsional | AI13: Guru Ahli Madya | AK13: 45200 | AL13: 40 | AM13: S-1/Sarjana | AN13: ff80808147e76ffd0147f23adb30009a | AO13: S-1 SARJANA PENDIDIKAN | AP13: 2019 | AQ13: BAOLAN | AR13: SD Negeri 13 Tolitoli - Dinas Pendidikan Dan Kebudayaan | AS13: Pemerintah Kab. Tolitoli | AT13: Pemerintah Kab. Tolitoli | AU13: A5EB03E2428FF6A0E040640A040252AD | AV13: Pemerintah Kab. Tolitoli
A14: 196412021991032002 | B14: 131947698 | C14: NURBAYA BADOALI | E14: S.Pd | F14: TOLITOLI | G14: 23713 | H14: F | I14: Islam | J14: Cerai Hidup | K14: '7204074212640001 | L14: 85399259520 | M14: badoalin@gmail.com | O14: JL LADAPI NO 36 | P14: '77.485.803.9.834.000 | Q14: '0000135291464 | R14: 15 | S14: Aktif | T14: A199300009932 | U14: 26/c/I.24.III/1991 | V14: 33392 | W14: 33298 | X14: 137/I.24.1/Ca-2/1993 | Y14: 33999 | Z14: 34029 | AA14: 23 | AB14: II/c | AC14: 42 | AD14: IV/b | AE14: 44287 | AF14: 28 | AG14: 1 | AH14: Jabatan Fungsional | AI14: Guru Ahli Madya | AK14: 44287 | AL14: 40 | AM14: S-1/Sarjana | AN14: ff808081451ccaf90145205943f36b46 | AO14: S-1 PENDIDIKAN | AP14: 2001 | AQ14: BAOLAN | AR14: SMP NEGERI 3 TOLITOLI - Dinas Pendidikan Dan Kebudayaan | AS14: Pemerintah Kab. Tolitoli | AT14: Pemerintah Kab. Tolitoli | AU14: A5EB03E2428FF6A0E040640A040252AD | AV14: Pemerintah Kab. Tolitoli
A15: 196412041985121001 | B15: 131342680 | C15: MOHDAR | E15: A.Ma.Pd | F15: BUNOBOGU | G15: 23715 | H15: M | I15: Islam | J15: Menikah | K15: '7204030107640020 | L15: 81376026586 | M15: mohdar.kuonoto@gmail.com | O15: DESA MALOMBA KEC. DONDO | P15: '78.498.144.1.834.000 | Q15: '0000135305785 | R15: 15 | S15: Aktif | T15: A198700043259 | U15: 537/BOPEG/6/DPB/1985 | V15: 31369 | W15: 31382 | X15: 129/821/BT/PDK | Y15: 32109 | Z15: 32112 | AA15: 21 | AB15: II/a | AC15: 41 | AD15: IV/a | AE15: 41183 | AF15: 21 | AG15: 10 | AH15: Jabatan Fungsional | AI15: Guru Ahli Madya | AK15: 45120 | AL15: 25 | AM15: Diploma II | AN15: A5EB03E21871F6A0E040640A040252AD | AO15: D-II/A-II PGSD | AP15: 2003 | AQ15: DONDO | AR15: SD Negeri 1 Malomba - Dinas Pendidikan Dan Kebudayaan | AS15: Pemerintah Kab. Tolitoli | AT15: Pemerintah Kab. Tolitoli | AU15: A5EB03E2428FF6A0E040640A040252AD | AV15: Pemerintah Kab. Tolitoli | AW15: Pemerintah Kab. Tolitoli
A16: 196412082006042004 | B16: 570021136 | C16: RESNI MOH NAWIR | D16: Dra. | F16: TOLITOLI | G16: 23719 | H16: F | I16: Islam | J16: Menikah | K16: '7204074812640002 | L16: 85395097008 | M16: dranawir28@guru.smp.belajar.id | O16: JL. DAUD LAPAU I NO.06 KEL. TUWELEY | P16: '68.233.013.9.834.000 | Q16: '0000135329938 | R16: 15 | S16: Aktif | T16: A200700002368 | U16: 813.3/5207-CPNS/Bag.Kepeg | V16: 39038 | W16: 38808 | X16: 821.3/2435-PNS/TT/2007 | Y16: 39353 | Z16: 39356 | AA16: 31 | AB16: III/a | AC16: 41 | AD16: IV/a | AE16: 44105 | AF16: 25 | AG16: 8 | AH16: Jabatan Fungsional | AI16: Guru Ahli Madya | AK16: 44013 | AL16: 40 | AM16: S-1/Sarjana | AN16: A5EB03E2165BF6A0E040640A040252AD | AO16: S-1 PENDIDIKAN LUAR SEKOLAH | AP16: 1991 | AQ16: BAOLAN | AR16: SMP Negeri 2 Tolitoli - Dinas Pendidikan Dan Kebudayaan | AS16: Pemerintah Kab. Tolitoli | AT16: Pemerintah Kab. Tolitoli | AU16: A5EB03E2428FF6A0E040640A040252AD | AV16: Pemerintah Kab. Tolitoli | AW16: Pemerintah Kab. Tolitoli
A17: 196412281983071001 | B17: 131057065 | C17: SYAPRUDIN A MITO | E17: A.Ma.Pd | F17: TOLITOLI | G17: 23739 | H17: M | I17: Islam | J17: Menikah | K17: '7204092812640001 | L17: 85394130545 | M17: syafrudinmito@gmail.com | O17: DESA BINONTOAN | P17: '78.805.491.4.834.000 | Q17: '0000135312772 | R17: 15 | S17: Aktif | T17: A198500023062 | U17: 173/ROPEG/DPB/1983 | V17: 30487 | W17: 30498 | X17: 128/L/BT/1985 | Y17: 31213 | Z17: 31229 | AA17: 21 | AB17: II/a | AC17: 41 | AD17: IV/a | AE17: 40087 | AF17: 21 | AG17: 3 | AH17: Jabatan Fungsional | AI17: Guru Ahli Madya | AK17: 45120 | AL17: 25 | AM17: Diploma II | AN17: A5EB03E21343F6A0E040640A040252AD | AO17: D-II | AP17: 2001 | AQ17: TOLI-TOLI UTARA | AR17: SD Negeri 5 Binontoan - Dinas Pendidikan Dan Kebudayaan | AS17: Pemerintah Kab. Tolitoli | AT17: Pemerintah Kab. Tolitoli | AU17: A5EB03E2428FF6A0E040640A040252AD | AV17: Pemerintah Kab. Tolitoli | AW17: Pemerintah Kab. Tolitoli
A18: 196412311986012019 | B18: 131566116 | C18: HALIMA | E18: S.Pd | F18: GANDANGBATU | G18: 23742 | H18: F | I18: Islam | J18: Menikah | K18: '7204087112640007 | L18: 82291267280 | M18: halima311264@gmail.com | O18: DESA LALOS KEC. GALANG | P18: '793960873834000 | Q18: '0000135331503 | R18: 15 | S18: Aktif | T18: A198700045223 | U18: 148/C/I.24.1.III/1986 | V18: 31472 | W18: 31413 | X18: 986/Kepeg/Ca-2/Kwst/1987 | Y18: 32111 | Z18: 32112 | AA18: 21 | AB18: II/a | AC18: 41 | AD18: IV/a | AE18: 39722 | AF18: 17 | AG18: 9 | AH18: Jabatan Fungsional | AI18: Guru Ahli Madya | AK18: 41275 | AL18: 40 | AM18: S-1/Sarjana | AN18: ff8080815133783a0151385facc07076 | AO18: S-1 PENDIDIKAN MATEMATIKA | AP18: 2001 | AQ18: GALANG | AR18: SMP Negeri 1 Galang - Dinas Pendidikan Dan Kebudayaan | AS18: Pemerintah Kab. Tolitoli | AT18: Pemerintah Kab. Tolitoli | AU18: A5EB03E2428FF6A0E040640A040252AD | AV18: Pemerintah Kab. Tolitoli
A19: 196412311987111005 | B19: 80089423 | C19: I NYOMAN SUARMA | E19: SP | F19: JEMBRANA | G19: 23742 | H19: M | I19: Hindu | J19: Menikah | K19: '7204042501640001 | L19: 85241923442 | M19: suarmanyoman006@gmail.com | O19: DESA KAYU LOMPA RT/RW : 002 / 002 KECAMATAN BASIDONDO KABUPATEN TOLITOLI | P19: '78.800.862.1.834.000 | Q19: '0000135243224 | R19: 15 | S19: Aktif | T19: A198900025263 | U19: KP.330/4260/II/1987 | V19: 32111 | W19: 32082 | X19: 298/KPT/UP/BK.VI-A/PN/89 | Y19: 32777 | Z19: 32782 | AA19: 21 | AB19: II/a | AC19: 42 | AD19: IV/b | AE19: 43009 | AF19: 26 | AG19: 6 | AH19: Jabatan Fungsional | AI19: Penyuluh Pertanian Ahli Madya | AK19: 44925 | AL19: 40 | AM19: S-1/Sarjana | AN19: ff8080815133783a0151386c2ec579f7 | AO19: S-1 PERTANIAN | AP19: 2005 | AQ19: TOLITOLI | AR19: UPT. BALAI PENYULUH PERTANIAN DINAS TANAMAN PANGAN DAN HORTIKULTURA - Dinas Tanaman Pangan Dan Hortikultura | AS19: Pemerintah Kab. Tolitoli | AT19: Pemerintah Kab. Tolitoli | AU19: A5EB03E2428FF6A0E040640A040252AD | AV19: Pemerintah Kab. Tolitoli | AW19: Pemerintah Kab. Tolitoli
A20: 196412312002111001 | B20: 570014027 | C20: SYAMSUDDIN | D20: Drs. | F20: TOLITOLI | G20: 23742 | H20: M | I20: Islam | J20: Menikah | K20: '7204083112640004 | L20: 82292529220 | M20: basyamsuddin21@gmail.com | O20: DESA SABANG | P20: '77.981.694.1.834.000 | Q20: '0000135330816 | R20: 15 | S20: Aktif | T20: A200300000833 | U20: 814.2/199-CP/2002 | V20: 37557 | W20: 37561 | X20: 821.2.PD/2642-PEG/2003 | Y20: 37945 | Z20: 37956 | AA20: 23 | AB20: II/c | AC20: 41 | AD20: IV/a | AE20: 43739 | AF20: 21 | AG20: 6 | AH20: Jabatan Fungsional | AI20: Guru Ahli Madya | AK20: 43647 | AL20: 40 | AM20: S-1/Sarjana | AN20: 8ae4829d513cb45f01513cc83254063f | AO20: S-1 TARBIYAH | AP20: 1990 | AQ20: GALANG | AR20: SMP Negeri 1 Galang - Dinas Pendidikan Dan Kebudayaan | AS20: Pemerintah Kab. Tolitoli | AT20: Pemerintah Kab. Tolitoli | AU20: A5EB03E2428FF6A0E040640A040252AD | AV20: Pemerintah Kab. Tolitoli | AW20: Pemerintah Kab. Tolitoli
A21: 196501031988032015 | B21: 131743593 | C21: MARIAM | E21: A.Ma | F21: TOLITOLI | G21: 23745 | H21: F | I21: Islam | J21: Menikah | K21: '7204104103650002 | L21: 82347873466 | M21: bahnan6@gmail.com | O21: DESA DUNGINGIS KEC. DAKOPEMEAN | P21: '793917089834000 | Q21: '0000135239927 | R21: 15 | S21: Aktif | T21: A198900025559 | U21: 813.2/34/DPB/1988 | V21: 32199 | W21: 32203 | X21: 142/821.12/BT/BT/PN/89 | Y21: 32801 | Z21: 32813 | AA21: 21 | AB21: II/a | AC21: 33 | AD21: III/c | AE21: 41183 | AF21: 19 | AG21: 7 | AH21: Jabatan Fungsional | AI21: Guru Dewasa | AK21: 41183 | AL21: 25 | AM21: Diploma II | AN21: A5EB03E21871F6A0E040640A040252AD | AO21: D-II/A-II PGSD | AP21: 2003 | AQ21: TOLITOLI | AR21: SD Negeri 1 Dungingis - Dinas Pendidikan Dan Kebudayaan | AS21: Pemerintah Kab. Tolitoli | AT21: Pemerintah Kab. Tolitoli | AU21: A5EB03E2428FF6A0E040640A040252AD | AV21: Pemerintah Kab. Tolitoli | AW21: Pemerintah Kab. Tolitoli
A22: 196501041986021003 | B22: 131527116 | C22: JAMRI | E22: S.S | F22: BUOL | G22: 23746 | H22: M | I22: Islam | J22: Menikah | K22: '7204060401650001 | M22: jamri.btlp@gmail.com | O22: DESA JANJA | P22: '16.599.845.1.834.000 | Q22: '0000158799925 | R22: 15 | S22: Aktif | T22: A198800041922 | U22: 830/08/PN/DPB/1986 | V22: 31441 | W22: 31444 | X22: 47/821.12/BT/PN | Y22: 32172 | Z22: 32174 | AA22: 21 | AB22: II/a | AC22: 33 | AD22: III/c | AE22: 44835 | AF22: 31 | AG22: 9 | AH22: Jabatan Fungsional | AI22: Guru Ahli Muda | AK22: 44835 | AL22: 40 | AM22: S-1/Sarjana | AN22: 81D2E914E9DBFE19E050640A2903486E | AO22: S-1 SASTRA DAN BAHASA INDONESIA | AP22: 2006 | AQ22: LAMPASIO | AR22: SD Negeri Janja Kompi - Dinas Pendidikan Dan Kebudayaan | AS22: Pemerintah Kab. Tolitoli | AT22: Pemerintah Kab. Tolitoli | AU22: A5EB03E2428FF6A0E040640A040252AD | AV22: Pemerintah Kab. Tolitoli | AW22: Pemerintah Kab. Tolitoli
A23: 196501051984122003 | B23: 131210506 | C23: ROHANI | E23: A.Ma.Pd | F23: BUOL | G23: 23747 | H23: F | I23: Islam | J23: Menikah | K23: '7209054501650001 | L23: 81328036970 | M23: rohaniarman2@gmail.com | O23: DESA TINABOGAN KEC. DONDO | P23: '78.498.147.4834.000 | Q23: '0000135309025 | R23: 15 | S23: Aktif | T23: A198600040376 | U23: 329/ROPEG.I/PNS/PNS/DPD/1984 | V23: 31012 | W23: 31017 | X23: 127/L/BT/1986 | Y23: 31675 | Z23: 31686 | AA23: 21 | AB23: II/a | AC23: 34 | AD23: III/d | AE23: 39356 | AF23: 17 | AG23: 10 | AH23: Jabatan Fungsional | AI23: Guru Ahli Muda | AK23: 45239 | AL23: 25 | AM23: Diploma II | AN23: A5EB03E2100AF6A0E040640A040252AD | AO23: D-II/A-II | AP23: 2001 | AQ23: DONDO | AR23: SD Negeri 2 Tinabogan - Dinas Pendidikan Dan Kebudayaan | AS23: Pemerintah Kab. Tolitoli | AT23: Pemerintah Kab. Tolitoli | AU23: A5EB03E2428FF6A0E040640A040252AD | AV23: Pemerintah Kab. Tolitoli
A24: 196501061988031011 | B24: 131743569 | C24: HARDI M RAHMAN | E24: A.Ma.Pd | F24: GORONTALO | G24: 23748 | H24: M | I24: Islam | J24: Menikah | K24: '7204070601650002 | L24: 85341499655 | M24: tolitolisdn@gmail.com | O24: KEL SIDOARJO | P24: '791214711834000 | Q24: '0000135239793 | R24: 15 | S24: Aktif | T24: A198900025687 | U24: S13.2/34/DPB/1988 | V24: 32199 | W24: 32203 | X24: 67/821.12/BT/PN/89 | Y24: 32811 | Z24: 32813 | AA24: 21 | AB24: II/a | AC24: 41 | AD24: IV/a | AE24: 39904 | AF24: 16 | AG24: 1 | AH24: Jabatan Fungsional | AI24: Guru Ahli Madya | AK24: 44900 | AL24: 25 | AM24: Diploma II | AN24: ff80808148cfa72e0148edf02dab3a2b | AO24: D-II | AP24: 2003 | AQ24: BAOLAN | AR24: SD Negeri 7 Tolitoli - Dinas Pendidikan Dan Kebudayaan | AS24: Pemerintah Kab. Tolitoli | AT24: Pemerintah Kab. Tolitoli | AU24: A5EB03E2428FF6A0E040640A040252AD | AV24: Pemerintah Kab. Tolitoli | AW24: Pemerintah Kab. Tolitoli
A25: 196501081988031014 | B25: 131743520 | C25: SYAMSUL BAHRI SAIHI | E25: A.Ma.Pd | F25: PALELEH | G25: 23750 | H25: M | I25: Islam | J25: Menikah | K25: '7204010801650001 | L25: 81356513004 | M25: syamsulbahri202@yahoo.co.id | O25: DESA KOMBO KEC. DAMPAL SELATAN | P25: '79.124.511.1.834.000 | Q25: '2003.13.002353.8 | R25: 15 | S25: Aktif | T25: A198900025780 | U25: 813.2/34/DPB/1988 | V25: 32199 | W25: 32203 | X25: 41/821.12/BT/PN/89 | Y25: 32811 | Z25: 32813 | AA25: 21 | AB25: II/a | AC25: 41 | AD25: IV/a | AE25: 40452 | AF25: 17 | AG25: 7 | AH25: Jabatan Fungsional | AI25: Guru Ahli Madya | AK25: 45120 | AL25: 25 | AM25: Diploma II | AN25: 8ae48288503bd9ee01504566e26e7061 | AO25: D-II PGSD | AP25: 2003 | AQ25: DAMPAL SELATAN | AR25: SD Negeri Salae - Dinas Pendidikan Dan Kebudayaan | AS25: Pemerintah Kab. Tolitoli | AT25: Pemerintah Kab. Tolitoli | AU25: A5EB03E2428FF6A0E040640A040252AD | AV25: Pemerintah Kab. Tolitoli | AW25: Pemerintah Kab. Tolitoli
A26: 196501121988031021 | B26: 131743532 | C26: JAMALUDIN J SUUD | F26: TOLITOLI | G26: 23754 | H26: M | I26: Islam | J26: Menikah | K26: '7204011201650002 | L26: 85242996664 | M26: jamaludinjamaludin592@gmail.com | O26: DESA TAMPIALA | P26: '791244817834000 | Q26: '0000135315281 | R26: 15 | S26: Aktif | T26: A199000023759 | U26: 818.8/84/DPB/1988 | V26: 32199 | W26: 32203 | X26: 188/821.12/BT/N/89 | Y26: 32872 | Z26: 32874 | AA26: 21 | AB26: II/a | AC26: 33 | AD26: III/c | AE26: 41183 | AF26: 19 | AG26: 7 | AH26: Jabatan Fungsional | AI26: Guru Ahli Muda | AK26: 44670 | AL26: 40 | AM26: S-1/Sarjana | AN26: A5EB03E20E8EF6A0E040640A040252AD | AO26: A-IV PENDIDIKAN PGSD | AP26: 2000 | AQ26: DAMPAL SELATAN | AR26: SD Negeri Pulias Pulau - Dinas Pendidikan Dan Kebudayaan | AS26: Pemerintah Kab. Tolitoli | AT26: Pemerintah Kab. Tolitoli | AU26: A5EB03E2428FF6A0E040640A040252AD | AV26: Pemerintah Kab. Tolitoli | AW26: Pemerintah Kab. Tolitoli
A27: 196501201993101002 | B27: 132034030 | C27: SYAFRUDDIN | E27: S.Pd SD | F27: UJUNG PANDANG | G27: 23762 | H27: M | I27: Islam | J27: Menikah | K27: '7204102001650001 | L27: 82188934899 | M27: syafruddin.dhabith@gmail.com | O27: DESA GALUMPANG KEC. DAKOPEMEAN | P27: '784981250834000 | Q27: '0000135198055 | R27: 15 | S27: Aktif | T27: A199500008288 | U27: 813.2/80/DPB/ | V27: 34240 | W27: 34243 | X27: 821.12/03.09/PDK | Y27: 34789 | Z27: 34790 | AA27: 21 | AB27: II/a | AC27: 42 | AD27: IV/b | AE27: 45200 | AF27: 25 | AG27: 6 | AH27: Jabatan Fungsional | AI27: Guru Ahli Madya | AK27: 44670 | AL27: 40 | AM27: S-1/Sarjana | AN27: ff8080815133783a0151386dff7d7bec | AO27: S-1 PGSD | AP27: 2001 | AQ27: DAKO PEMEAN | AR27: SD Negeri 1 Galumpang - Dinas Pendidikan Dan Kebudayaan | AS27: Pemerintah Kab. Tolitoli | AT27: Pemerintah Kab. Tolitoli | AU27: A5EB03E2428FF6A0E040640A040252AD | AV27: Pemerintah Kab. Tolitoli | AW27: Pemerintah Kab. Tolitoli
A28: 196501211988031011 | B28: 131743546 | C28: SUBAGYO | F28: PATI | G28: 23763 | H28: M | I28: Islam | J28: Menikah | K28: '7204022101650002 | L28: 0 | M28: Subagyosubagyo948@gmail.com | O28: DESA TOMPOH KEC.DAMPAL UTARA | P28: '16.559.923.6.834.000 | Q28: '0000135316034 | R28: 15 | S28: Aktif | T28: A199000024017 | U28: 813.2/34/DPB/1988 | V28: 32199 | W28: 32203 | X28: 141/821.12/BT/PN/89 | Y28: 32873 | Z28: 32874 | AA28: 21 | AB28: II/a | AC28: 34 | AD28: III/d | AE28: 43922 | AF28: 26 | AG28: 7 | AH28: Jabatan Fungsional | AI28: Guru Ahli Muda | AK28: 43922 | AL28: 15 | AM28: SLTA | AN28: A5EB03E20C36F6A0E040640A040252AD | AO28: SPG PENDIDIKAN SD | AP28: 1986 | AQ28: DAMPAL UTARA | AR28: SD Negeri 3 Tompoh - Dinas Pendidikan Dan Kebudayaan | AS28: Pemerintah Kab. Tolitoli | AT28: Pemerintah Kab. Tolitoli | AU28: A5EB03E2428FF6A0E040640A040252AD | AV28: Pemerintah Kab. Tolitoli | AW28: Pemerintah Kab. Tolitoli
A29: 196501221988031007 | B29: 131743708 | C29: SUMITRO HL HASAN | E29: A.Ma.Pd | F29: GORONTALO | G29: 23764 | H29: M | I29: Islam | J29: Menikah | K29: '7204072201650001 | L29: 82219389155 | M29: alana.anara.akhtar@gmail.com | O29: JL.DAPALAK NO.1 KEL.NALU | P29: '89.156.324.9.834.000 | Q29: '0000135241143 | R29: 15 | S29: Aktif | T29: A198900026199 | U29: 813.2/31/BPD/1988 | V29: 32197 | W29: 32203 | X29: 110/821.12/BT/PK/89 | Y29: 32811 | Z29: 32813 | AA29: 21 | AB29: II/a | AC29: 34 | AD29: III/d | AE29: 40817 | AF29: 18 | AG29: 8 | AH29: Jabatan Fungsional | AI29: Guru Ahli Muda | AK29: 45120 | AL29: 25 | AM29: Diploma II | AN29: A5EB03E2119FF6A0E040640A040252AD | AO29: D-II/A-II OLAH RAGA DAN KESEHATAN | AP29: 1998 | AQ29: BAOLAN | AR29: SD Negeri 3 Tolitoli - Dinas Pendidikan Dan Kebudayaan | AS29: Pemerintah Kab. Tolitoli | AT29: Pemerintah Kab. Tolitoli | AU29: A5EB03E2428FF6A0E040640A040252AD | AV29: Pemerintah Kab. Tolitoli | AW29: Pemerintah Kab. Tolitoli
A30: 196502061992032003 | B30: 132013525 | C30: SUTJIATI TANGAHU | E30: A.Ma.Pd | F30: GORONTALO | G30: 23779 | H30: F | I30: Islam | J30: Menikah | K30: '7205024602650001 | L30: 85242983287 | M30: sutjiatitangahu12@gmail.com | O30: DESA LAKEA II | P30: '78.805.520.0834.000 | Q30: '0000135232964 | R30: 15 | S30: Aktif | T30: A199400010134 | W30: 33664 | Z30: 34366 | AA30: 21 | AB30: II/a | AC30: 34 | AD30: III/d | AE30: 43009 | AF30: 20 | AG30: 7 | AH30: Jabatan Fungsional | AI30: Guru Ahli Muda | AK30: 43009 | AL30: 25 | AM30: Diploma II | AN30: 8ae482894661232f014665925dbd1f3b | AO30: D-II/AKTA-II | AP30: 2003 | AQ30: TOLI-TOLI UTARA | AR30: SD Negeri 2 Lakuan Tolitoli - Dinas Pendidikan Dan Kebudayaan | AS30: Pemerintah Kab. Tolitoli | AT30: Pemerintah Kab. Tolitoli | AU30: A5EB03E2428FF6A0E040640A040252AD | AV30: Pemerintah Kab. Tolitoli | AW30: Pemerintah Kab. Tolitoli
A31: 196502201989071001 | B31: 131778278 | C31: SYAFRUDIN | E31: S.Pd | F31: BUNOBOGU | G31: 23793 | H31: M | I31: Islam | J31: Menikah | K31: '7204052002650001 | L31: 85241033465 | M31: syafrudinpupns@gmail.com | O31: BTN MOIPOS BLOK J NOMOR 2 KEL NALU | P31: '791214299834000 | Q31: '0000135223266 | R31: 15 | S31: Aktif | T31: A199100017798 | U31: 813.2/49/DPB/1989 | V31: 32734 | W31: 32690 | X31: 07/821.12/BT/PK/1991 | Y31: 33269 | Z31: 33270 | AA31: 21 | AB31: II/a | AC31: 41 | AD31: IV/a | AE31: 44287 | AF31: 26 | AG31: 9 | AH31: Jabatan Fungsional | AI31: Guru Ahli Madya | AK31: 44287 | AL31: 40 | AM31: S-1/Sarjana | AN31: ff80808147e76ffd0147f23adb30009a | AO31: S-1 SARJANA PENDIDIKAN | AP31: 2014 | AQ31: BAOLAN | AR31: SD Negeri 4 Tambun - Dinas Pendidikan Dan Kebudayaan | AS31: Pemerintah Kab. Tolitoli | AT31: Pemerintah Kab. Tolitoli | AU31: A5EB03E2428FF6A0E040640A040252AD | AV31: Pemerintah Kab. Tolitoli
A32: 196502211991031007 | B32: 131963280 | C32: BINSUD | E32: S.Pd.SD | F32: BUNOBOGU | G32: 23794 | H32: M | I32: Islam | J32: Menikah | K32: '7204072102650001 | L32: 85395454728 | M32: binsudbinsud942@gmail.com | O32: BTN TOLI-TOLI PERMAI BLOK G/18 | P32: '77.482.603.6.834.000 | Q32: '0000135238926 | R32: 15 | S32: Aktif | T32: A199200014640 | U32: 813.2/38-CP/DPB/1991 | V32: 33381 | W32: 33298 | X32: 27/821.12/BT/PN/1992 | Y32: 33754 | Z32: 33756 | AA32: 21 | AB32: II/a | AC32: 42 | AD32: IV/b | AE32: 44652 | AF32: 26 | AG32: 1 | AH32: Jabatan Fungsional | AI32: Guru Ahli Madya | AK32: 45120 | AL32: 40 | AM32: S-1/Sarjana | AN32: ff80808137361a7c01373a1b88a936c2 | AO32: S-1/A-IV PENDIDIKAN PGSD | AP32: 2012 | AQ32: BAOLAN | AR32: SD Negeri 1 Tambun - Dinas Pendidikan Dan Kebudayaan | AS32: Pemerintah Kab. Tolitoli | AT32: Pemerintah Kab. Tolitoli | AU32: A5EB03E2428FF6A0E040640A040252AD | AV32: Pemerintah Kab. Tolitoli | AW32: Pemerintah Kab. Tolitoli
A33: 196502252006041012 | B33: 570021150 | C33: AHMAD ABD GANI | E33: SH | F33: MAKASSAR | G33: 23798 | H33: M | I33: Islam | J33: Menikah | K33: '7204072502650003 | L33: 85241115034 | M33: ahmadgani734@gmail.com | O33: JL. TADULAKO NO. 21, KEL. TAMBUN, KEC. BAOLAN, KAB. TOLITOLI | P33: '14.50.43.5.834000 | Q33: '0000135333156 | R33: 15 | S33: Aktif | T33: A200700003359 | U33: 813.3/5224-CPNS/Bag.Kepeg | V33: 39038 | W33: 38808 | X33: 821.3/2430-PNS/TT/2007 | Y33: 39353 | Z33: 39356 | AA33: 31 | AB33: III/a | AC33: 41 | AD33: IV/a | AE33: 44287 | AF33: 26 | AG33: 2 | AH33: Jabatan Fungsional | AI33: Guru Ahli Madya | AK33: 44670 | AL33: 40 | AM33: S-1/Sarjana | AN33: A5EB03E219AAF6A0E040640A040252AD | AO33: S-1 HUKUM TATA NEGARA | AP33: 1989 | AQ33: BAOLAN | AR33: SMP Negeri 4 Tolitoli - Dinas Pendidikan Dan Kebudayaan | AS33: Pemerintah Kab. Tolitoli | AT33: Pemerintah Kab. Tolitoli | AU33: A5EB03E2428FF6A0E040640A040252AD | AV33: Pemerintah Kab. Tolitoli | AW33: Pemerintah Kab. Tolitoli
A34: 196502261985121002 | B34: 131449792 | C34: FERDINAND RAWALI | E34: S.Pd | F34: MANADO | G34: 23799 | H34: M | I34: Islam | J34: Menikah | K34: '7205012602650002 | L34: 85294612087 | M34: ferdinandrawali14@gmail.com | O34: DESA AMADONG 1 RT. 005, RW. 003 KECAMATAN MOMUNU. | P34: '89.272.965.9.834.000 | Q34: '0001135371092 | R34: 10 | S34: Aktif | T34: A198700047761 | U34: 538/Ropeg.6/DPB/1985 | V34: 31370 | W34: 31382 | X34: 175/821.12/BT/PDK | Y34: 32111 | Z34: 32112 | AA34: 21 | AB34: II/a | AC34: 42 | AD34: IV/b | AE34: 44287 | AF34: 40 | AG34: 4 | AH34: Jabatan Fungsional | AI34: Guru Ahli Madya | AK34: 44308 | AL34: 40 | AM34: S-1/Sarjana | AN34: ff80808141007c2301410c1eced872e8 | AO34: S-1/A-IV PENJASKES | AP34: 2013 | AQ34: TOLITOLI | AR34: SMP NEGERI 3 TOLITOLI - Dinas Pendidikan Dan Kebudayaan | AS34: Pemerintah Kab. Tolitoli | AT34: Pemerintah Kab. Tolitoli | AU34: A5EB03E2428FF6A0E040640A040252AD | AV34: Pemerintah Kab. Tolitoli
A35: 196503011991042001 | B35: 131896607 | C35: SULEHA ALUD | E35: S.Pd | F35: PINJAN | G35: 23802 | H35: F | I35: Islam | J35: Menikah | K35: '7204104103650001 | L35: 85229734544 | M35: suleha.alud@gmail.com | O35: FF808081501E5C7C01501F19600F03BF | P35: '793916578834000 | Q35: '0000135241378 | R35: 15 | S35: Aktif | T35: A199200014798 | U35: 813.2/24-CP/DPB/91 | V35: 33325 | W35: 33329 | X35: 08/821.12/BT/PN/1992 | Y35: 33753 | Z35: 33756 | AA35: 21 | AB35: II/a | AC35: 42 | AD35: IV/b | AE35: 45505 | AF35: 28 | AG35: 4 | AH35: Jabatan Fungsional | AI35: Guru Ahli Madya | AK35: 41913 | AL35: 40 | AM35: S-1/Sarjana | AN35: 14a66e0a9093449c96aca3650ba42f0b | AO35: S-1 PENDIDIKAN GURU SEKOLAH DASAR | AP35: 2019 | AQ35: DAKO PEMEAN | AR35: SD Negeri 2 Galumpang - Dinas Pendidikan Dan Kebudayaan | AS35: Pemerintah Kab. Tolitoli | AT35: Pemerintah Kab. Tolitoli | AU35: A5EB03E2428FF6A0E040640A040252AD | AV35: Pemerintah Kab. Tolitoli
A36: 196503012003122001 | B36: 570015664 | C36: MASTIA | F36: LALOS | G36: 23802 | H36: F | I36: Islam | J36: Belum Kawin | K36: '7204084103650002 | L36: 82292431394 | M36: andihelpi60@gmail.com | O36: DUSUN BAMBAUPI DESA LALOS KEC. GALANG | P36: '15.605.634.3.834.000 | Q36: '0000135251515 | R36: 15 | S36: Aktif | T36: A200500066126 | U36: 814.2/109-CP/2004 | V36: 37998 | W36: 37956 | X36: 821.2/1682-PNS/TT/2005 | Y36: 38408 | Z36: 38412 | AA36: 21 | AB36: II/a | AC36: 23 | AD36: II/c | AE36: 40634 | AF36: 14 | AG36: 1 | AH36: Jabatan Fungsional | AI36: Guru Ahli Pertama | AK36: 44378 | AL36: 15 | AM36: SLTA | AN36: A5EB03E215B5F6A0E040640A040252AD | AO36: SEKOLAH MENENGAH ATAS | AP36: 1986 | AQ36: TOLITOLI | AR36: SD Negeri 4 Binontoan - Dinas Pendidikan Dan Kebudayaan | AS36: Pemerintah Kab. Tolitoli | AT36: Pemerintah Kab. Tolitoli | AU36: A5EB03E2428FF6A0E040640A040252AD | AV36: Pemerintah Kab. Tolitoli
A37: 196503021993021006 | B37: 380051877 | C37: MUSTARING | E37: SH | F37: TOLITOLI | G37: 23803 | H37: M | I37: Islam | J37: Menikah | K37: '7204070203650005 | L37: 82347510022 | M37: musbenop@gmail.com | O37: BTN NOPI BLOK J NO.7 KEL.NALU | P37: '779805480834000 | Q37: '0000159540243 | R37: 15 | S37: Aktif | T37: A199400010615 | U37: 665/I/Peg/1993 | V37: 34013 | W37: 34001 | X37: 1810/I/Peg/1994 | Y37: 34573 | Z37: 34578 | AA37: 31 | AB37: III/a | AC37: 42 | AD37: IV/b | AE37: 41183 | AF37: 19 | AG37: 8 | AH37: Jabatan Fungsional | AI37: Pengawas Pemerintahan Madya / Ahli Madya | AK37: 43466 | AL37: 40 | AM37: S-1/Sarjana | AN37: ff8080815123bf7a01513347a36156d0 | AO37: S-1 HUKUM PERDATA | AP37: 1991 | AQ37: BAOLAN | AR37: Inspektur III - Inspektorat Daerah | AS37: Pemerintah Kab. Tolitoli | AT37: Pemerintah Kab. Tolitoli | AU37: A5EB03E2428FF6A0E040640A040252AD | AV37: Pemerintah Kab. Tolitoli | AW37: Pemerintah Kab. Tolitoli
A38: 196503031987032017 | B38: 131663803 | C38: SUTARNI ABD KADIR RASYID | E38: S.Pd.SD | F38: TOLITOLI | G38: 23804 | H38: F | I38: Islam | J38: Menikah | K38: '7204074303650004 | L38: 85241466695 | M38: sutarnikadir2@gmail.com | O38: JL.SYARIF MANSUR NO.129 PANASAKAN | P38: '88.575.025.7834.000 | Q38: '0000135312221 | R38: 15 | S38: Aktif | T38: A198900027673 | U38: 203/0/I,24.1.I/1987 | V38: 31930 | W38: 31837 | X38: 36/I.24.1/Ce-2/1989 | Y38: 32532 | Z38: 32540 | AA38: 21 | AB38: II/a | AC38: 42 | AD38: IV/b | AE38: 43922 | AF38: 28 | AG38: 1 | AH38: Jabatan Fungsional | AI38: Guru Ahli Madya | AK38: 45200 | AL38: 40 | AM38: S-1/Sarjana | AN38: 75FA55A8CDBA356DE050640A290335C7 | AO38: S-1 PENDIDIKAN GURU SD | AP38: 2012 | AQ38: TOLITOLI | AR38: TK NEGERI Pembina Tolitoli - Dinas Pendidikan Dan Kebudayaan | AS38: Pemerintah Kab. Tolitoli | AT38: Pemerintah Kab. Tolitoli | AU38: A5EB03E2428FF6A0E040640A040252AD | AV38: Pemerintah Kab. Tolitoli
A39: 196503092006041005 | B39: 570021197 | C39: TUGIMIN | E39: S.Pd | F39: BANYUWANGI | G39: 23810 | H39: M | I39: Islam | J39: Menikah | K39: '7204040903650003 | L39: 85397231177 | M39: 08tugimin@gmail.com | O39: DESA SILONDOU KECAMATAN BASIDONDO KABUPATEN TOLITOLI | P39: '894982024834000 | Q39: '0000135313064 | R39: 15 | S39: Aktif | T39: A200700003483 | U39: 813.2/5432-CPNS/BAG.KEPEG | V39: 39038 | W39: 38808 | X39: 821.2/2155-PNS/TT/2007 | Y39: 39353 | Z39: 39356 | AA39: 21 | AB39: II/a | AC39: 32 | AD39: III/b | AE39: 45444 | AF39: 24 | AG39: 4 | AH39: Jabatan Fungsional | AI39: Guru Ahli Pertama | AK39: 44470 | AL39: 40 | AM39: S-1/Sarjana | AN39: ff8080815133783a0151385a6e786d62 | AO39: S-1 PENDIDIKAN GURU SEKOLAH DASAR | AP39: 2017 | AQ39: TOLITOLI | AR39: SD Negeri Galandau - Dinas Pendidikan Dan Kebudayaan | AS39: Pemerintah Kab. Tolitoli | AT39: Pemerintah Kab. Tolitoli | AU39: A5EB03E2428FF6A0E040640A040252AD | AV39: Pemerintah Kab. Tolitoli | AW39: Pemerintah Kab. Tolitoli
A40: 196503101992031002 | B40: 120152085 | C40: USBIYANTO USMAN MASYHUR | E40: S.SOS | F40: TOLITOLI | G40: 23811 | H40: M | I40: Islam | J40: Belum Kawin | K40: '7204071003650003 | M40: usbiyanto_masyhur@yahoo.co.id | O40: JL. JEND.SUDIRMAN 45 TOLI-TOLI | P40: '682265905834000 | Q40: '0000135223896 | R40: 15 | S40: Aktif | T40: A199300012319 | U40: SK.278/KP.301/I/PHB-93 | V40: 33987 | W40: 33664 | X40: SK.878/KP.301/VII/PHB-93 | Y40: 34179 | Z40: 34182 | AA40: 21 | AB40: II/a | AC40: 34 | AD40: III/d | AE40: 41730 | AF40: 17 | AG40: 1 | AH40: Jabatan Pelaksana | AI40: PENGADMINISTRASI UMUM | AK40: 43282 | AL40: 40 | AM40: S-1/Sarjana | AN40: ff808081513cb660015146aeef9b6edd | AO40: S-1 ADMINISTRASI NEGARA | AP40: 2001 | AQ40: TOLITOLI | AR40: Sub Bagian Umum dan Kepegawaian - DINAS KOMUNIKASI INFORMATIKA, PERSANDIAN DAN STATISTIK | AS40: Pemerintah Kab. Tolitoli | AT40: Pemerintah Kab. Tolitoli | AU40: A5EB03E2428FF6A0E040640A040252AD | AV40: Pemerintah Kab. Tolitoli | AW40: Pemerintah Kab. Tolitoli
...

Sheet USUL25
A1: Rekap Usulan Pemberhentian Pemerintah Kab. Tolitoli 29-07-2025
I3: MK Lama | K3: MK Pensiun
A4: NIP | B4: Nama | D4: Instansi | E4: Unit_Kerja | F4: Unit_Kerja_Induk | G4: Jenis Pemberhentian | H4: Jenis Detail Pemberhentian | I4: MK Bulan Lama | J4: MK Tahun Lama | K4: MK Bulan Pensiun | L4: MK Tahun Pensiun | M4: Tanggal Usulan | N4: Status Usulan | O4: No Pertek | P4: No SK | Q4: TMT Berhenti | R4: TMT Pensiun | S4: Petugas Input Usul | T4: Petugas Approval
A5: 1 | B5: 2 | C5: 3 | D5: 4 | E5: 5 | F5: 6 | G5: 7 | H5: 8 | I5: 9 | J5: 10 | K5: 11 | L5: 12 | M5: 13 | N5: 14 | O5: 15 | P5: 16 | Q5: 17 | R5: 18
A6: 196502211991031007 | B6: BINSUD | D6: Pemerintah Kab. Tolitoli | E6: SD Negeri 1 Tambun | F6: Dinas Pendidikan Dan Kebudayaan | G6: Pemberhentian Instansi Daerah IV/c ke Atas Non Jenjang Utama | H6: BUP KPP | I6: 11 | J6: 28 | K6: 0 | L6: 34 | M6: 45716 | N6: Sudah TTE SK | O6: PH-27206000040 | P6: 00042/27206/AZ/03/25 | Q6: 28-02-2025 | R6: 45717 | S6: SUMIDAH | T6: RANDU RAHMANDA ANTON
A7: 196503092006041005 | B7: TUGIMIN | D7: Pemerintah Kab. Tolitoli | E7: SD Negeri Galandau | F7: Dinas Pendidikan Dan Kebudayaan | G7: Pemberhentian Instansi Daerah IV/b ke Bawah | H7: BUP Non KPP | I7: 1 | J7: 25 | K7: 2 | L7: 30 | M7: 45720 | N7: Sudah TTE SK | O7: PD-27206000008 | P7: 00012/27206/AV/03/25 | Q7: 31-03-2025 | R7: 45748 | S7: SUMIDAH | T7: RANDU RAHMANDA ANTON
A8: 196503101999032002 | B8: SYAMSIAR S MAHMUD | D8: Pemerintah Kab. Tolitoli | E8: SD Negeri 1 Maibua | F8: Dinas Pendidikan Dan Kebudayaan | G8: Pemberhentian Instansi Daerah IV/b ke Bawah | H8: BUP KPP | I8: 0 | J8: 21 | K8: 1 | L8: 26 | M8: 45721 | N8: Sudah TTE SK | O8: PH-27206000025 | P8: 00030/27206/AZ/03/25 | Q8: 31-03-2025 | R8: 45748 | S8: SUMIDAH | T8: RANDU RAHMANDA ANTON
A9: 196503201985121002 | B9: MARTINUS TALUNDA | D9: Pemerintah Kab. Tolitoli | E9: SD Negeri 2 Tambun | F9: Dinas Pendidikan Dan Kebudayaan | G9: Pemberhentian Instansi Daerah IV/b ke Bawah | H9: BUP Non KPP | I9: 3 | J9: 34 | K9: 4 | L9: 39 | M9: 45712 | N9: Sudah TTE SK | O9: PD-27206000005 | P9: 00009/27206/AV/03/25 | Q9: 31-03-2025 | R9: 45748 | S9: SUMIDAH | T9: RANDU RAHMANDA ANTON
A10: 196504061986021010 | B10: ABD KADIR | D10: Pemerintah Kab. Tolitoli | E10: SD Negeri 3 Basi | F10: Dinas Pendidikan Dan Kebudayaan | G10: Pemberhentian Instansi Daerah IV/b ke Bawah | H10: BUP Non KPP | I10: 2 | J10: 34 | K10: 3 | L10: 39 | M10: 45716 | N10: Sudah TTE SK | O10: PD-27206000007 | P10: 00010/27206/AV/03/25 | Q10: 30-04-2025 | R10: 45778 | S10: SUMIDAH | T10: RANDU RAHMANDA ANTON
A11: 196505041999031006 | B11: SUKONO | D11: Pemerintah Kab. Tolitoli | E11: UPT. BALAI PENYULUH PERTANIAN DINAS TANAMAN PANGAN DAN HORTIKULTURA | F11: Dinas Tanaman Pangan Dan Hortikultura | G11: Pemberhentian Instansi Daerah IV/c ke Atas Non Jenjang Utama | H11: BUP KPP | I11: 1 | J11: 32 | K11: 2 | L11: 37 | M11: 45666 | N11: Sudah TTE SK | O11: PH-27206000044 | P11: 00046/27206/AZ/04/25 | Q11: 31-05-2025 | R11: 45809 | S11: SUMIDAH | T11: KHAIRUL ANWAR
A12: 196505081989091001 | B12: WIJI | D12: Pemerintah Kab. Tolitoli | E12: SD Negeri 3 Basi | F12: Dinas Pendidikan Dan Kebudayaan | G12: Pemberhentian Instansi Daerah IV/c ke Atas Non Jenjang Utama | H12: BUP KPP | I12: 8 | J12: 30 | K12: 9 | L12: 35 | M12: 45670 | N12: Sudah TTE SK | O12: PH-27206000008 | P12: 00028/27206/AZ/03/25 | Q12: 31-05-2025 | R12: 45809 | S12: SUMIDAH | T12: SUMIDAH
A13: 196505161989101005 | B13: MUHAMMAD SYAFEI | D13: Pemerintah Kab. Tolitoli | E13: SD Negeri Mosing | F13: Dinas Pendidikan Dan Kebudayaan | G13: Pemberhentian Instansi Daerah IV/b ke Bawah | H13: BUP KPP | I13: 7 | J13: 30 | K13: 8 | L13: 35 | M13: 45698 | N13: Sudah TTE SK | O13: PH-27206000013 | P13: 00022/27206/AZ/02/25 | Q13: 31-05-2025 | R13: 45809 | S13: SUMIDAH | T13: RANDU RAHMANDA ANTON
A14: 196506021992031009 | B14: R FADJAR SUKO SYUHADHA | D14: Pemerintah Kab. Tolitoli | E14: Dinas Pekerjaan Umum Dan Penataan Ruang | F14: Pemerintah Kabupaten Tolitoli | G14: Pemberhentian Instansi Daerah IV/c ke Atas Non Jenjang Utama | H14: BUP KPP | I14: 3 | J14: 33 | K14: 4 | L14: 33 | M14: 45743 | N14: Sudah TTE SK | O14: PH-27206000050 | P14: 00055/27206/AZ/04/25 | Q14: 30-06-2025 | R14: 45839 | S14: SUMIDAH | T14: RANDU RAHMANDA ANTON
A15: 196506031993031009 | B15: SYAFRUDDIN | D15: Pemerintah Kab. Tolitoli | E15: SMP NEGERI 3 TOLITOLI | F15: Dinas Pendidikan Dan Kebudayaan | G15: Pemberhentian Instansi Daerah IV/c ke Atas Non Jenjang Utama | H15: BUP KPP | I15: 3 | J15: 32 | K15: 4 | L15: 32 | M15: 45673 | N15: Sudah TTE SK | O15: PH-27206000043 | P15: 00052/27206/AZ/04/25 | Q15: 30-06-2025 | R15: 45839 | S15: SUMIDAH | T15: SUMIDAH
A16: 196506162006041008 | B16: MOHAMMAD RUM | D16: Pemerintah Kab. Tolitoli | E16: UPT. BALAI PENYULUH PERTANIAN DINAS TANAMAN PANGAN DAN HORTIKULTURA | F16: Dinas Tanaman Pangan Dan Hortikultura | G16: Pemberhentian Instansi Daerah IV/c ke Atas Non Jenjang Utama | H16: BUP Non KPP | I16: 6 | J16: 31 | K16: 7 | L16: 31 | M16: 45763 | N16: Sudah TTE SK | O16: PD-27206000009 | P16: 00013/27206/AV/05/25 | Q16: 30-06-2025 | R16: 45839 | S16: SUMIDAH | T16: SUMIDAH
A17: 196506222006042004 | B17: FITRI D SWATAN | D17: Pemerintah Kab. Tolitoli | E17: SMP Negeri 2 Tolitoli Utara | F17: Dinas Pendidikan Dan Kebudayaan | G17: Pemberhentian Instansi Daerah IV/c ke Atas Non Jenjang Utama | H17: BUP KPP | I17: 4 | J17: 25 | K17: 5 | L17: 30 | M17: 45674 | N17: Sudah TTE SK | O17: PH-27206000057 | P17: 00060/27206/AZ/05/25 | Q17: 30-06-2025 | R17: 45839 | S17: SUMIDAH | T17: RANDU RAHMANDA ANTON
... A20: 196507031986021007 | B20: AZIS | D20: Pemerintah Kab. Tolitoli | E20: SD Negeri 1 Sambujang | F20: Dinas Pendidikan Dan Kebudayaan | G20: Pemberhentian Instansi Daerah IV/b ke Bawah | H20: BUP KPP | I20: 4 | J20: 34 | K20: 5 | L20: 39 | M20: 45708 | N20: Sudah TTE SK | O20: PH-27206000035 | P20: 00053/27206/AZ/04/25 | Q20: 31-07-2025 | R20: 45870 | S20: SUMIDAH | T20: SUMIDAH
A21: 196507121995121006 | B21: BUHARI HI AZIS | D21: Pemerintah Kab. Tolitoli | E21: SD Negeri 2 Galumpang | F21: Dinas Pendidikan Dan Kebudayaan | G21: Pemberhentian Instansi Daerah IV/b ke Bawah | H21: BUP KPP | I21: 7 | J21: 24 | K21: 8 | L21: 29 | M21: 45695 | N21: Validasi BKN - BTS | Q21: 31-07-2025 | R21: 45870 | S21: SUMIDAH | T21: SUMIDAH
A22: 196507151986112003 | B22: WARDA | D22: Pemerintah Kab. Tolitoli | E22: SD Negeri Pembina | F22: Dinas Pendidikan Dan Kebudayaan | G22: Pemberhentian Instansi Daerah IV/b ke Bawah | H22: BUP KPP | I22: 8 | J22: 33 | K22: 9 | L22: 38 | M22: 45763 | N22: Sudah TTE SK | O22: PH-27206000073 | P22: 00090/27206/AZ/07/25 | Q22: 31-07-2025 | R22: 45870 | S22: SUMIDAH | T22: RANDU RAHMANDA ANTON
A23: 196507151988032023 | B23: SAHMIN NUWA | D23: Pemerintah Kab. Tolitoli | E23: SD Negeri Percontohan | F23: Dinas Pendidikan Dan Kebudayaan | G23: Pemberhentian Instansi Daerah IV/c ke Atas Non Jenjang Utama | H23: Pemberhentian Karena Meninggal Dunia (Janda/Duda) KPP | I23: 7 | J23: 31 | K23: 8 | L23: 36 | M23: 45698 | N23: Sudah TTE SK | O23: PH-27206000016 | P23: 00015/27206/AZ/02/25 | Q23: 18-11-2024 | R23: 45627 | S23: SUMIDAH | T23: SAPRIADI RUSLI
A24: 196507201989091001 | B24: PONIMAN | D24: Pemerintah Kab. Tolitoli | E24: SD Negeri Dontong | F24: Dinas Pendidikan Dan Kebudayaan | G24: Pemberhentian Instansi Daerah IV/c ke Atas Non Jenjang Utama | H24: BUP KPP | I24: 9 | J24: 30 | K24: 10 | L24: 35 | M24: 45667 | N24: Sudah TTE SK | O24: PH-27206000059 | P24: 00069/27206/AZ/05/25 | Q24: 31-07-2025 | R24: 45870 | S24: SUMIDAH | T24: SUMIDAH
A25: 196508091992031006 | B25: NASIR DAENG SILASA | D25: Pemerintah Kab. Tolitoli | E25: Inspektur IV | F25: Inspektorat Daerah | G25: Pemberhentian Instansi Daerah IV/c ke Atas Non Jenjang Utama | H25: BUP KPP | I25: 5 | J25: 31 | K25: 6 | L25: 33 | M25: 45779 | N25: Sudah TTE SK | O25: PH-27206000063 | P25: 00070/27206/AZ/05/25 | Q25: 31-08-2025 | R25: 45901 | S25: SUMIDAH | T25: SUMIDAH
A26: 196508141986012002 | B26: MARITJE HADJU | D26: Pemerintah Kab. Tolitoli | E26: SMP Negeri 1 Dondo | F26: Dinas Pendidikan Dan Kebudayaan | G26: Pemberhentian Instansi Daerah IV/b ke Bawah | H26: BUP KPP | I26: 7 | J26: 34 | K26: 8 | L26: 39 | M26: 45797 | N26: Sudah TTE SK | O26: PH-27206000077 | P26: 00080/27206/AZ/06/25 | Q26: 31-08-2025 | R26: 45901 | S26: SUMIDAH | T26: SUMIDAH
A27: 196508152000121003 | B27: BANGUN | D27: Pemerintah Kab. Tolitoli | E27: SMP Negeri 1 Ogodeide | F27: Dinas Pendidikan Dan Kebudayaan | G27: Pemberhentian Instansi Daerah IV/b ke Bawah | H27: BUP KPP | I27: 8 | J27: 24 | K27: 9 | L27: 24 | M27: 45797 | N27: Sudah TTE SK | O27: PH-27206000083 | P27: 00082/27206/AZ/06/25 | Q27: 31-08-2025 | R27: 45901 | S27: SUMIDAH
A28: 196508241988032010 | B28: FAISAL DAUD A USU | D28: Pemerintah Kab. Tolitoli | E28: SD Negeri Taring | F28: Dinas Pendidikan Dan Kebudayaan | G28: Pemberhentian Instansi Daerah IV/b ke Bawah | H28: BUP KPP | I28: 5 | J28: 32 | K28: 6 | L28: 37 | M28: 45856 | N28: Input Berkas | Q28: 31-08-2025 | R28: 45901 | S28: SUMIDAH | T28: SUMIDAH
A29: 196509111993031011 | B29: MOHAMMAD AKBAR SYAH | D29: Pemerintah Kab. Tolitoli | E29: Staf Ahli Bidang Kemasyarakatan Dan Sumber Daya Manusia | F29: Sekretariat Daerah | G29: Pemberhentian Instansi Daerah IV/c ke Atas Non Jenjang Utama | H29: BUP KPP | I29: 5 | J29: 33 | K29: 6 | L29: 33 | M29: 45825 | N29: Sudah TTE SK | O29: PH-27206000082 | P29: 00085/27206/AZ/07/25 | Q29: 30-09-2025 | R29: 45931 | S29: SUMIDAH | T29: SUMIDAH
A30: 196509141986012002 | B30: INNEKE JOOLA ELSJE GIROTH | D30: Pemerintah Kab. Tolitoli | E30: SMP Negeri 5 Tolitoli | F30: Dinas Pendidikan Dan Kebudayaan | G30: Pemberhentian Instansi Daerah IV/c ke Atas Non Jenjang Utama | H30: BUP KPP | I30: 8 | J30: 37 | K30: 9 | L30: 39 | M30: 45831 | N30: Sudah TTE SK | O30: PH-27206000090 | P30: 00095/27206/AZ/07/25 | Q30: 30-09-2025 | R30: 45931 | S30: SUMIDAH | T30: SAPRIADI RUSLI
A31: 196509171988032009 | B31: YULIN H. LARADA | D31: Pemerintah Kab. Tolitoli | E31: SD Negeri 2 Binontoan | F31: Dinas Pendidikan Dan Kebudayaan | G31: Pemberhentian Instansi Daerah IV/b ke Bawah | H31: BUP KPP | I31: 6 | J31: 32 | K31: 7 | L31: 37 | M31: 45827 | N31: Sudah TTE SK | O31: PH-27206000086 | P31: 00100/27206/AZ/07/25 | Q31: 30-09-2025 | R31: 45931 | S31: SUMIDAH | T31: SUMIDAH
A32: 196509231988031009 | B32: LIS PUJI WIYONO | D32: Pemerintah Kab. Tolitoli | E32: UPT. BALAI PENYULUH PERTANIAN DINAS TANAMAN PANGAN DAN HORTIKULTURA | F32: Dinas Tanaman Pangan Dan Hortikultura | G32: Pemberhentian Instansi Daerah IV/c ke Atas Non Jenjang Utama | H32: BUP KPP | I32: 8 | J32: 33 | K32: 9 | L32: 38 | M32: 45839 | N32: Sudah TTE Pertek | O32: PH-27206000089 | Q32: 30-09-2025 | R32: 45931 | S32: SUMIDAH
A33: 196510061989091001 | B33: I WAYAN SUNDRA | D33: Pemerintah Kab. Tolitoli | E33: SD Negeri 2 Basi | F33: Dinas Pendidikan Dan Kebudayaan | G33: Pemberhentian Instansi Daerah IV/b ke Bawah | H33: BUP KPP | I33: 1 | J33: 31 | K33: 2 | L33: 36 | M33: 45856 | N33: Input Berkas | Q33: 31-10-2025 | R33: 45962 | S33: SUMIDAH
A34: 196510131986012002 | B34: SULASTRI | D34: Pemerintah Kab. Tolitoli | E34: SMP Negeri 2 Tolitoli | F34: Dinas Pendidikan Dan Kebudayaan | G34: Pemberhentian Instansi Daerah IV/c ke Atas Non Jenjang Utama | H34: BUP KPP | I34: 9 | J34: 34 | K34: 10 | L34: 39 | M34: 45856 | N34: Input Berkas | Q34: 31-10-2025 | R34: 45962 | S34: SUMIDAH
A35: 196510152003121001 | B35: HILMI | D35: Pemerintah Kab. Tolitoli | E35: SD Negeri 2 Nalu | F35: Dinas Pendidikan Dan Kebudayaan | G35: Pemberhentian Instansi Daerah IV/b ke Bawah | H35: BUP KPP | I35: 7 | J35: 23 | K35: 8 | L35: 28 | M35: 45856 | N35: Input Berkas | Q35: 31-10-2025 | R35: 45962 | S35: SUMIDAH
A36: 196510262006041005 | B36: ITEN NANI | D36: Pemerintah Kab. Tolitoli | E36: SD Negeri Diule | F36: Dinas Pendidikan Dan Kebudayaan | G36: Pemberhentian Instansi Daerah IV/b ke Bawah | H36: BUP KPP | I36: 8 | J36: 30 | K36: 9 | L36: 30 | M36: 45856 | N36: Input Berkas | Q36: 31-10-2025 | R36: 45962 | S36: SUMIDAH
A37: 196510281986021006 | B37: MOHAMAD SAID | D37: Pemerintah Kab. Tolitoli | E37: SD Negeri Batuilo | F37: Dinas Pendidikan Dan Kebudayaan | G37: Pemberhentian Instansi Daerah IV/c ke Atas Non Jenjang Utama | H37: BUP KPP | I37: 8 | J37: 34 | K37: 9 | L37: 39 | M37: 45856 | N37: Input Berkas | Q37: 31-10-2025 | R37: 45962 | S37: SUMIDAH | T37: RANDU RAHMANDA ANTON
A38: 196511031990022001 | B38: NURLINA RAMLI | D38: Pemerintah Kab. Tolitoli | E38: SMP Negeri 1 Tolitoli | F38: Dinas Pendidikan Dan Kebudayaan | G38: Pemberhentian Instansi Daerah IV/c ke Atas Non Jenjang Utama | H38: BUP KPP | I38: 10 | J38: 33 | K38: 10 | L38: 35 | M38: 45870 | N38: Input Berkas | Q38: 30-11-2025 | R38: 45992 | S38: SUMIDAH | T38: RANDU RAHMANDA ANTON
A39: 196511112006042009 | B39: NI KETUT WIDIASTUTI | D39: Pemerintah Kab. Tolitoli | E39: SD Negeri 4 Kamalu | F39: Dinas Pendidikan Dan Kebudayaan | G39: Pemberhentian Instansi Daerah IV/b ke Bawah | H39: BUP KPP | I39: 9 | J39: 30 | K39: 10 | L39: 30 | M39: 45877 | N39: Input Berkas | Q39: 30-11-2025 | R39: 45992 | S39: SUMIDAH | T39: KHAIRUL ANWAR
A40: 196511121991112001 | B40: NURAENI RUSLI | D40: Pemerintah Kab. Tolitoli | E40: SD Negeri 5 Tolitoli | F40: Dinas Pendidikan Dan Kebudayaan | G40: Pemberhentian Instansi Daerah IV/b ke Bawah | H40: BUP KPP | I40: 0 | J40: 29 | K40: 1 | L40: 34 | M40: 45877 | N40: Input Berkas | Q40: 30-11-2025 | R40: 45992 | S40: SUMIDAH | T40: KHAIRUL ANWAR
A41: 196511171986031013 | B41: I MADE TAMBIN | D41: Pemerintah Kab. Tolitoli | E41: SD Negeri 2 Sibaluton | F41: Dinas Pendidikan Dan Kebudayaan | G41: Pemberhentian Instansi Daerah IV/c ke Atas Non Jenjang Utama | H41: BUP KPP | I41: 8 | J41: 34 | K41: 9 | L41: 39 | M41: 45875 | N41: Input Berkas | Q41: 30-11-2025 | R41: 45992 | S41: RANDU RAHMANDA ANTON | T41: RANDU RAHMANDA ANTON
A42: 196511231986112001 | B42: MARTHA RURU | D42: Pemerintah Kab. Tolitoli | E42: SD Negeri 13 Tolitoli | F42: Dinas Pendidikan Dan Kebudayaan | G42: Pemberhentian Instansi Daerah IV/b ke Bawah | H42: BUP KPP | I42: 0 | J42: 34 | K42: 1 | L42: 39 | M42: 45877 | N42: Input Berkas | Q42: 30-11-2025 | R42: 45992 | S42: SUMIDAH | T42: RANDU RAHMANDA ANTON
A43: 196512311986022029 | B43: HENY | D43: Pemerintah Kab. Tolitoli | E43: SD Negeri 10 Tolitoli | F43: Dinas Pendidikan Dan Kebudayaan | G43: Pemberhentian Instansi Daerah IV/c ke Atas Non Jenjang Utama | H43: BUP KPP | I43: 10 | J43: 34 | K43: 11 | L43: 39 | M43: 45856 | N43: Menunggu TTE SK | O43: PH-27206000104 | P43: 00107/27206/AZ/07/25 | Q43: 31-12-2025 | R43: 46023 | S43: SUMIDAH | T43: RANDU RAHMANDA ANTON
...

Sheet LAP PENSIUN 25
A1: USULAN PENSIUN TAHUN 2025
A3: NO | B3: NIP | C3: NAMA | D3: PROGRES | E3: BERKAS MASUK | F3: STATUS | G3: KET. | H3: JENIS | I3: TGL LAHIR | J3: PANGKAT | K3: JABATAN TERAKHIR | L3: ESELON | M3: ESELON | N3: UNIT ORGANISASI | O3: PENDIDIKAN TERAKHIR | P3: noSK | Q3: GOL. | S3: dataUSUL | T3: JENIS PENSIUN | W3: AKTA KEMATIAN | Y3: TANGGAL USUL | AB3: UMUR | AC3: SK PENSIUN | AH3: TMT (rumus) | AI3: KETERANGAN
F4: BERKAS / USUL | H4: PENSIUN | Q4: LAMA | R4: BARU | W4: TGL KEMATIAN | X4: NO SURAT | AC4: NOMOR PERTEK | AD4: TANGGAL PERTEK | AE4: NOMOR SK | AF4: TANGGAL SK | AG4: TMT PENSIUN
A5: 1 | C5: 2 | D5: 4 | I5: 5 | K5: 6 | L5: 7 | M5: 7 | N5: 8 | O5: 9 | Q5: 10 | R5: 11 | T5: 12 | W5: 13 | X5: 14 | Y5: 16 | AB5: 17 | AE5: 18 | AF5: 19 | AG5: 20 | AI5: 21
A6: 1 | B6: 196502211991031007 | C6: =VLOOKUP(B6,'pns_A5EB03E23BB5F6A0E040640 (2)'!$A$1:$AX$4558,3) -> BINSUD | D6: =IF(F6="ok","Proses Usul",IF(F6="o","Berkas Lengkap",IF(F6="x","Butuh Kelengkapan",IF(F6="cp","Cetak Pertek",IF(F6="","Cek","Selesai"))))) -> Selesai | E6: - | F6: cek | H6: BUP KPP | I6: =DATE(MID(B6,1,4),MID(B6,5,2),MID(B6,7,2)) -> 23794 | J6: =VLOOKUP(D6,sapk21,4) -> #REF! | K6: =VLOOKUP(B6,'pns_A5EB03E23BB5F6A0E040640 (2)'!$A$1:$AX$4558,35) -> Guru Ahli Madya | L6: =VLOOKUP(B6,'pns_A5EB03E23BB5F6A0E040640 (2)'!$A$1:$AX$4558,36) -> 0 | M6: =IF(L6="41","IV.a",IF(L6="42","IV.b",IF(L6="31","III.a",IF(L6="32","III.b",IF(L6="22","II.b",IF(L6="21","II.a",IF(L6="0","-"))))))) -> FALSE | N6: =VLOOKUP(B6,'pns_A5EB03E23BB5F6A0E040640 (2)'!$A$1:$AX$4558,44) -> SD Negeri 1 Tambun - Dinas Pendidikan Dan Kebudayaan | O6: =VLOOKUP(B6,'pns_A5EB03E23BB5F6A0E040640 (2)'!$A$1:$AX$4558,41) -> S-1/A-IV PENDIDIKAN PGSD | Q6: =VLOOKUP(B6,'pns_A5EB03E23BB5F6A0E040640 (2)'!$A$1:$AX$4558,30) -> IV/b | T6: =VLOOKUP(B6,USUL25!A4:$Q$1048576,8) -> BUP KPP | U6: =LEFT(T6,LEN(T6)-4) -> BUP | V6: =U6&" "&Z6 -> BUP February | Y6: =VLOOKUP(B6,USUL25!A4:$Q$1048576,13) -> 45716 | Z6: =TEXT(Y6,"mmmm") -> February | AB6: =DATEDIF(I6,AG6,"Y") &" Tahun "&DATEDIF(I6,AG6,"YM") &" Bulan" -> 60 Tahun 0 Bulan | AC6: =VLOOKUP(B6,USUL25!A4:$Q$1048576,15) -> PH-27206000040 | AE6: =VLOOKUP(B6,USUL25!A$4:$Q$1048576,16) -> 00042/27206/AZ/03/25 | AG6: =VLOOKUP(B6,USUL25!$A$4:$R$1048576,18) -> 45717 | AH6: =DATE(LEFT(B6,4)+58,MID(B6,5,2)+1,1) -> 44986 | AR6: BUP | AS6: JANDA/DUDA | AT6: APS | AU6: UDZUR
A7: 2 | B7: 196503092006041005 | C7: =VLOOKUP(B7,'pns_A5EB03E23BB5F6A0E040640 (2)'!$A$1:$AX$4558,3) -> TUGIMIN | D7: =IF(F7="ok","Proses Usul",IF(F7="o","Berkas Lengkap",IF(F7="x","Butuh Kelengkapan",IF(F7="cp","Cetak Pertek",IF(F7="","Cek","Selesai"))))) -> Selesai | E7: - | F7: cek | H7: BUP KPP | I7: =DATE(MID(B7,1,4),MID(B7,5,2),MID(B7,7,2)) -> 23810 | J7: =VLOOKUP(D7,sapk21,4) -> #REF! | K7: =VLOOKUP(B7,'pns_A5EB03E23BB5F6A0E040640 (2)'!$A$1:$AX$4558,35) -> Guru Ahli Pertama | L7: =VLOOKUP(B7,'pns_A5EB03E23BB5F6A0E040640 (2)'!$A$1:$AX$4558,36) -> 0 | M7: =IF(L7="41","IV.a",IF(L7="42","IV.b",IF(L7="31","III.a",IF(L7="32","III.b",IF(L7="22","II.b",IF(L7="21","II.a",IF(L7="0","-"))))))) -> FALSE | N7: =VLOOKUP(B7,'pns_A5EB03E23BB5F6A0E040640 (2)'!$A$1:$AX$4558,44) -> SD Negeri Galandau - Dinas Pendidikan Dan Kebudayaan | O7: =VLOOKUP(B7,'pns_A5EB03E23BB5F6A0E040640 (2)'!$A$1:$AX$4558,41) -> S-1 PENDIDIKAN GURU SEKOLAH DASAR | Q7: =VLOOKUP(B7,'pns_A5EB03E23BB5F6A0E040640 (2)'!$A$1:$AX$4558,30) -> III/b | R7: III/b | T7: =VLOOKUP(B7,USUL25!A5:$Q$1048576,8) -> BUP Non KPP | U7: =LEFT(T7,LEN(T7)-4) -> BUP Non | V7: =U7&" "&Z7 -> BUP Non March | Y7: =VLOOKUP(B7,USUL25!A5:$Q$1048576,13) -> 45720 | Z7: =TEXT(Y7,"mmmm") -> March | AB7: =DATEDIF(I7,AG7,"Y") &" Tahun "&DATEDIF(I7,AG7,"YM") &" Bulan" -> 60 Tahun 0 Bulan | AC7: =VLOOKUP(B7,USUL25!A5:$Q$1048576,15) -> PD-27206000008 | AE7: =VLOOKUP(B7,USUL25!A$4:$Q$1048576,16) -> 00012/27206/AV/03/25 | AG7: =VLOOKUP(B7,USUL25!$A$4:$R$1048576,18) -> 45748 | AH7: =DATE(LEFT(B7,4)+60,MID(B7,5,2)+1,1) -> 45748 | AP7: 44197 | AQ7: =TEXT(AP7,"mmmm") -> January | AR7: =COUNTIF(V6:V193,"BUP JANUARI")+COUNTIF(V6:V193,"BUP NON JANUARI") -> 0 | AS7: =COUNTIF(V6:V193,"Pemberhentian Karena Meninggal Dunia (Janda/Duda) Januari")+COUNTIF(V6:V193,"Pemberhentian Karena Meninggal Dunia (Janda/Duda) NON JANUARI") -> 0 | AT7: =COUNTIF($V$6:$V$193,"APS JANUARI") -> 0 | AU7: =COUNTIF($V$6:$V$67,"UDZUR JANUARY") -> 0 | AV7: =SUM(AR7:AU7) -> 0
A8: 3 | B8: 196503101999032002 | C8: =VLOOKUP(B8,'pns_A5EB03E23BB5F6A0E040640 (2)'!$A$1:$AX$4558,3) -> SYAMSIAR S MAHMUD | D8: =IF(F8="ok","Proses Usul",IF(F8="o","Berkas Lengkap",IF(F8="x","Butuh Kelengkapan",IF(F8="cp","Cetak Pertek",IF(F8="","Cek","Selesai"))))) -> Selesai | E8: - | F8: cek | H8: BUP KPP | I8: =DATE(MID(B8,1,4),MID(B8,5,2),MID(B8,7,2)) -> 23811 | J8: =VLOOKUP(D8,sapk21,4) -> #REF! | K8: =VLOOKUP(B8,'pns_A5EB03E23BB5F6A0E040640 (2)'!$A$1:$AX$4558,35) -> Guru Ahli Pertama | L8: =VLOOKUP(B8,'pns_A5EB03E23BB5F6A0E040640 (2)'!$A$1:$AX$4558,36) -> 0 | M8: =IF(L8="41","IV.a",IF(L8="42","IV.b",IF(L8="31","III.a",IF(L8="32","III.b",IF(L8="22","II.b",IF(L8="21","II.a",IF(L8="0","-"))))))) -> FALSE | N8: =VLOOKUP(B8,'pns_A5EB03E23BB5F6A0E040640 (2)'!$A$1:$AX$4558,44) -> SD Negeri 1 Maibua - Dinas Pendidikan Dan Kebudayaan | O8: =VLOOKUP(B8,'pns_A5EB03E23BB5F6A0E040640 (2)'!$A$1:$AX$4558,41) -> SPG | Q8: =VLOOKUP(B8,'pns_A5EB03E23BB5F6A0E040640 (2)'!$A$1:$AX$4558,30) -> III/b | T8: =VLOOKUP(B8,USUL25!A6:$Q$1048576,8) -> BUP KPP | U8: =LEFT(T8,LEN(T8)-4) -> BUP | V8: =U8&" "&Z8 -> BUP March | Y8: =VLOOKUP(B8,USUL25!A6:$Q$1048576,13) -> 45721 | Z8: =TEXT(Y8,"mmmm") -> March | AB8: =DATEDIF(I8,AG8,"Y") &" Tahun "&DATEDIF(I8,AG8,"YM") &" Bulan" -> 60 Tahun 0 Bulan | AC8: =VLOOKUP(B8,USUL25!A6:$Q$1048576,15) -> PH-27206000025 | AE8: =VLOOKUP(B8,USUL25!A$4:$Q$1048576,16) -> 00030/27206/AZ/03/25 | AG8: =VLOOKUP(B8,USUL25!$A$4:$R$1048576,18) -> 45748 | AH8: =DATE(LEFT(B8,4)+60,MID(B8,5,2)+1,1) -> 45748 | AP8: 44228 | AQ8: =TEXT(AP8,"mmmm") -> February | AR8: =COUNTIF(V6:V193,"BUP FEBRUARI")+COUNTIF(V6:V193,"BUP NON FEBRUARI") -> 0 | AS8: =COUNTIF(V6:V193,"Pemberhentian Karena Meninggal Dunia (Janda/Duda) Februari")+COUNTIF(V6:V193,"Pemberhentian Karena Meninggal Dunia (Janda/Duda) NON Februari") -> 0 | AT8: =COUNTIF($V$6:$V$193,"APS FEBRUARI") -> 0 | AU8: =COUNTIF($V$6:$V$67,"UDZUR FEBRUARY") -> 0 | AV8: =SUM(AR8:AU8) -> 0
