Workbook
Name data24: 'pns_A5EB03E23BB5F6A0E040640 (2)'!$A$3:$AX$4558
Name DATAUSUL: USUL25!$A$3:$R$1048576
Name DATAusul: #REF!
Name nomor: #REF!
Name noSK: #REF!
Name noSK.III: #REF!
Name noSK21: #REF!
Name noSK22: #REF!
Name nosk22.II: #REF!
Name REKAP: 'LAP PENSIUN 25'!$AQ$6:$AV$18
Name REKAP021: 'LAP PENSIUN 25'!$AP$7:$AV$18
Name REKAP21: 'LAP PENSIUN 25'!$AQ$7:$AV$18
Name SAPK04: '[1]DATA SAPK'!$1:$5299
Name sapk20: #REF!
Name sapk21: #REF!
Name sapk22: #REF!
Name siasn25: #REF!
Name Usul22: #REF!
Name USUL25: USUL25!$A$6:$R$1048576

Sheet pns_A5EB03E23BB5F6A0E040640 (2)
A1: NIP BARU | B1: NIP LAMA | C1: NAMA | D1: GELAR DEPAN | E1: GELAR BELAKANG | F1: TEMPAT LAHIR NAMA | G1: TANGGAL LAHIR | H1: JENIS KELAMIN | I1: AGAMA NAMA | J1: JENIS KAWIN NAMA | K1: NIK | L1: NOMOR HP | M1: EMAIL | N1: EMAIL GOV | O1: ALAMAT | P1: NPWP NOMOR | Q1: BPJS | R1: JENIS PEGAWAI ID | S1: KEDUDUKAN HUKUM NAMA | T1: KARTU ASN VIRTUAL | U1: NOMOR SK CPNS | V1: TANGGAL SK CPNS | W1: TMT CPNS | X1: NOMOR SK PNS | Y1: TANGGAL SK PNS | Z1: TMT PNS | AA1: GOL AWAL ID | AB1: GOL AWAL NAMA | AC1: GOL AKHIR ID | AD1: GOL AKHIR NAMA | AE1: TMT GOLONGAN | AF1: MK TAHUN | AG1: MK BULAN | AH1: JENIS JABATAN NAMA | AI1: JABATAN NAMA | AJ1: ESELON | AK1: TMT JABATAN | AL1: TINGKAT PENDIDIKAN ID | AM1: TINGKAT PENDIDIKAN NAMA | AN1: PENDIDIKAN ID | AO1: PENDIDIKAN NAMA | AP1: TAHUN LULUS | AQ1: LOKASI KERJA NAMA | AR1: UNOR NAMA | AS1: INSTANSI INDUK NAMA | AT1: INSTANSI KERJA NAMA | AU1: SATUAN KERJA INDUK ID | AV1: SATUAN KERJA INDUK NAMA | AW1: SATUAN KERJA KERJA NAMA | AX1: NAMA SEKOLAH
A2: 1 | B2: 2 | C2: 3 | D2: 4 | E2: 5 | F2: 6 | G2: 7 | H2: 8 | I2: 9 | J2: 10 | K2: 11 | L2: 12 | M2: 13 | N2: 14 | O2: 15 | P2: 16 | Q2: 17 | R2: 18 | S2: 19 | T2: 20 | U2: 21 | V2: 22 | W2: 23 | X2: 24 | Y2: 25 | Z2: 26 | AA2: 27 | AB2: 28 | AC2: 29 | AD2: 30 | AE2: 31 | AF2: 32 | AG2: 33 | AH2: 34 | AI2: 35 | AJ2: 36 | AK2: 37 | AL2: 38 | AM2: 39 | AN2: 40 | AO2: 41 | AP2: 42 | AQ2: 43 | AR2: 44 | AS2: 45 | AT2: 46 | AU2: 47 | AV2: 48 | AW2: 49 | AX2: 50
A3: 196212311982062039 | B3: 131062087 | C3: KASMAWATI | F3: TOLITOLI | G3: 23011 | H3: F | I3: Islam | J3: Cerai Hidup | K3: '7204074902630003 | M3: kasmawati044@gmail.com | O3: JL. VETERAN 1 KEL.BARU | P3: '145139523834000 | Q3: '0000135303568 | R3: 15 | S3: Aktif | T3: A198400009501 | W3: 30103 | Z3: 30742 | AA3: 21 | AB3: II/a | AC3: 41 | AD3: IV/a | AE3: 38261 | AF3: 17 | AG3: 4 | AH3: Jabatan Fungsional | AI3: Guru Pembina | AK3: 38261 | AL3: 25 | AM3: Diploma II | AN3: A5EB03E2100AF6A0E040640A040252AD | AO3: D-II/A-II | AP3: 2001 | AQ3: BAOLAN | AR3: SD Negeri Pembina - Dinas Pendidikan Dan Kebudayaan | AS3: Pemerintah Kab. Tolitoli | AT3: Pemerintah Kab. Tolitoli | AU3: A5EB03E2428FF6A0E040640A040252AD | AV3: Pemerintah Kab. Tolitoli
A4: 196307141984122005 | B4: 131210465 | C4: KARTINI TANGAHU | F4: SINJAI | G4: 23206 | H4: F | I4: Islam | J4: Menikah | K4: '7204076407630001 | M4: kartinitangahu@gmail.com | O4: JL. TADULAKO II NO. 11 KEL. PANASAKAN KEC. BAOLAN | P4: '78.807.999.4.834.000 | Q4: '0000135295042 | R4: 15 | S4: Aktif | T4: A198600021469 | W4: 31017 | Z4: 31533 | AA4: 21 | AB4: II/a | AC4: 34 | AD4: III/d | AE4: 39722 | AF4: 18 | AG4: 10 | AH4: Jabatan Fungsional | AI4: Guru Ahli Madya | AK4: 42746 | AL4: 15 | AM4: SLTA | AN4: A5EB03E20C3FF6A0E040640A040252AD | AO4: KPG | AP4: 1984 | AQ4: OGODEIDE | AR4: SD Negeri 1 Labuan Lobo - Dinas Pendidikan Dan Kebudayaan | AS4: Pemerintah Kab. Tolitoli | AT4: Pemerintah Kab. Tolitoli | AU4: A5EB03E2428FF6A0E040640A040252AD | AV4: Pemerintah Kab. Tolitoli | AW4: Pemerintah Kab. Tolitoli
A5: 196404231984122010 | B5: 131210504 | C5: MARYAM D HANAPI | F5: TOLITOLI | G5: 23490 | H5: F | I5: Islam | J5: Menikah | K5: '7204036304640002 | L5: 0 | M5: maryamhanapi2@gmail.com | O5: DESA TINABOGAN KEC. DONDO | P5: '78.498.118.5.834.000 | Q5: '0000135304784 | R5: 15 | S5: Aktif | T5: A198600032122 | U5: P DAN K : 25/L/BT/86 | V5: 31523 | W5: 31017 | X5: 329/Repeg.1/PNS/DPB/84 | Y5: 31012 | Z5: 31533 | AA5: 21 | AB5: II/a | AC5: 34 | AD5: III/d | AE5: 40452 | AF5: 20 | AG5: 10 | AH5: Jabatan Fungsional | AI5: Guru Ahli Muda | AK5: 44670 | AL5: 25 | AM5: Diploma II | AN5: A5EB03E2100AF6A0E040640A040252AD | AO5: D-II/A-II | AP5: 2002 | AQ5: DONDO | AR5: SD Negeri 3 Bambapun - Dinas Pendidikan Dan Kebudayaan | AS5: Pemerintah Kab. Tolitoli | AT5: Pemerintah Kab. Tolitoli | AU5: A5EB03E2428FF6A0E040640A040252AD | AV5: Pemerintah Kab. Tolitoli | AW5: Pemerintah Kab. Tolitoli
A6: 196406011989031021 | B6: 131840763 | C6: ERLIS | F6: TOLITOLI | G6: 23529 | H6: M | I6: Islam | J6: Menikah | K6: '1771060106640001 | O6: JL. AHMAD YANI NO 29 | P6: ' | Q6: ' | R6: 15 | S6: Aktif | T6: A199100010611 | W6: 32568 | Z6: 33270 | AA6: 11 | AB6: I/a | AC6: 21 | AD6: II/a | AE6: 36800 | AF6: 5 | AG6: 7 | AH6: Jabatan Pelaksana | AI6: PENGADMINISTRASI UMUM | AK6: 42746 | AL6: 15 | AM6: SLTA | AN6: A5EB03E215B8F6A0E040640A040252AD | AO6: SMA A.3/IPS | AP6: 1996 | AQ6: BAOLAN | AR6: Sub Bagian Umum Dan Kepegawaian - Dinas Pendidikan Dan Kebudayaan | AS6: Pemerintah Kab. Tolitoli | AT6: Pemerintah Kab. Tolitoli | AU6: A5EB03E2428FF6A0E040640A040252AD | AV6: Pemerintah Kab. Tolitoli | AW6: Pemerintah Kab. Tolitoli
A7: 196411041985121003 | B7: 131342669 | C7: MAKMUR H HAMIR | E7: S.Pd.SD | F7: TOLITOLI | G7: 23685 | H7: M | I7: Islam | J7: Menikah | K7: '7204070411640003 | M7: radenkia00@gmail.com | O7: DESA DADAKITAN | P7: '15.499.554.2834.000 | Q7: '0000135304345 | R7: 15 | S7: Aktif | T7: A198700041846 | U7: 537/ROPEG.6/DPB/85 | V7: 31369 | W7: 31382 | X7: 162/821.12/BT/1987 | Y7: 32109 | Z7: 32112 | AA7: 21 | AB7: II/a | AC7: 42 | AD7: IV/b | AE7: 44835 | AF7: 31 | AG7: 10 | AH7: Jabatan Fungsional | AI7: Guru Ahli Madya | AK7: 45120 | AL7: 40 | AM7: S-1/Sarjana | AN7: 7634B30B9A590205E050640A29031FF8 | AO7: S-1 PGSD (PENDIDIKAN GURU SEKOLAH DASAR) | AP7: 2002 | AQ7: BAOLAN | AR7: SD Negeri 3 Tambun - Dinas Pendidikan Dan Kebudayaan | AS7: Pemerintah Kab. Tolitoli | AT7: Pemerintah Kab. Tolitoli | AU7: A5EB03E2428FF6A0E040640A040252AD | AV7: Pemerintah Kab. Tolitoli | AW7: Pemerintah Kab. Tolitoli
A8: 196411081983071001 | B8: 131057014 | C8: AMIRUDIN | E8: A. Ma.Pd | F8: TOLITOLI | G8: 23689 | H8: M | I8: Islam | J8: Menikah | K8: '7204070811640003 | L8: 82188788864 | M8: amirudintolitoli@gmail.com | O8: JLN. RAJAWALI NO. 16 TUWELEY | P8: '69.806-298.1-834.000 | Q8: '0000135297718 | R8: 15 | S8: Aktif | T8: A198500022707 | U8: 173/ROPEG/DPB/1983 | V8: 30487 | W8: 30498 | X8: 134/L/BT/1985 | Y8: 31218 | Z8: 31229 | AA8: 21 | AB8: II/a | AC8: 41 | AD8: IV/a | AE8: 39904 | AF8: 20 | AG8: 9 | AH8: Jabatan Fungsional | AI8: Guru Ahli Madya | AK8: 44670 | AL8: 25 | AM8: Diploma II | AN8: 8ae482893c955451013ca2b695830ad7 | AO8: D-II PENDIDIKAN GURU SEKOLAH DASAR | AP8: 2005 | AQ8: TOLITOLI | AR8: SD Negeri 12 Tolitoli - Dinas Pendidikan Dan Kebudayaan | AS8: Pemerintah Kab. Tolitoli | AT8: Pemerintah Kab. Tolitoli | AU8: A5EB03E2428FF6A0E040640A040252AD | AV8: Pemerintah Kab. Tolitoli | AW8: Pemerintah Kab. Tolitoli
A9: 196411111983062001 | B9: 131216404 | C9: SEPI | E9: S.Pd.SD | F9: GANDANGBATU | G9: 23692 | H9: F | I9: Kristen | J9: Menikah | K9: '7204075111640001 | L9: 81214965486 | M9: Sepitoliz@gmail.com | O9: JL.CENDRAWASIH NO. 07 KEL. TUWELEY KEC. BAOLAN KAB. TOLITOLI | P9: '77.485.760.1.834.000 | Q9: '0000135310702 | R9: 15 | S9: Aktif | T9: A198500022732 | U9: GN.813.2-060 | V9: 30453 | W9: 30468 | X9: GR.821.12-3437/DPK | Y9: 31050 | Z9: 31079 | AA9: 21 | AB9: II/a | AC9: 42 | AD9: IV/b | AE9: 43922 | AF9: 31 | AG9: 4 | AH9: Jabatan Fungsional | AI9: Guru Ahli Madya | AK9: 44670 | AL9: 40 | AM9: S-1/Sarjana | AN9: ff8080815252a7a7015257aa17d06c02 | AO9: S-1 PENDIDIKAN GURU SEKOLAH DASAR | AP9: 2009 | AQ9: BAOLAN | AR9: SD Negeri 10 Tolitoli - Dinas Pendidikan Dan Kebudayaan | AS9: Pemerintah Kab. Tolitoli | AT9: Pemerintah Kab. Tolitoli | AU9: A5EB03E2428FF6A0E040640A040252AD | AV9: Pemerintah Kab. Tolitoli | AW9: Pemerintah Kab. Tolitoli
A10: 196411161984121002 | B10: 131210448 | C10: MOH SURAJUDDIN IBRAHIM | E10: S.Pd | F10: TOLITOLI | G10: 23697 | H10: M | I10: Islam | J10: Menikah | K10: '7204091611640001 | L10: 81242970664 | M10: mohsurajuddin1964@gmail.com | O10: Desa Binontoan | P10: '78.805.487.2.834000 | Q10: '0000135305662 | R10: 15 | S10: Aktif | T10: A198600038223 | U10: 70/L/BT/1986 | V10: 31621 | W10: 31017 | Z10: 31625 | AA10: 21 | AB10: II/a | AC10: 41 | AD10: IV/a | AE10: 44652 | AF10: 32 | AG10: 4 | AH10: Jabatan Fungsional | AI10: Guru Ahli Madya | AK10: 44652 | AL10: 40 | AM10: S-1/Sarjana | AN10: 14a66e0a9093449c96aca3650ba42f0b | AO10: S-1 PENDIDIKAN GURU SEKOLAH DASAR | AP10: 2015 | AQ10: TOLI-TOLI UTARA | AR10: SD Negeri Harapan Jaya - Dinas Pendidikan Dan Kebudayaan | AS10: Pemerintah Kab. Tolitoli | AT10: Pemerintah Kab. Tolitoli | AU10: A5EB03E2428FF6A0E040640A040252AD | AV10: Pemerintah Kab. Tolitoli
A11: 196411161986012004 | B11: 131565225 | C11: DINIARSI | E11: S.Pd | F11: BLORA | G11: 23697 | H11: F | I11: Islam | J11: Menikah | K11: '7204075611640003 | L11: 82292706299 | M11: diniarsi@yahoo.co.id | O11: JL. ELANG I NO. 8 | P11: '68.233.042.8.834.000 | Q11: '0000135327429 | R11: 15 | S11: Aktif | T11: A198700042481 | U11: 662/c/I.24.1.III/1986 | V11: 31565 | W11: 31413 | X11: 1097/Kepeg/Ca-2/Kwst/1987 | Y11: 32111 | Z11: 32112 | AA11: 21 | AB11: II/a | AC11: 42 | AD11: IV/b | AE11: 43739 | AF11: 28 | AG11: 9 | AH11: Jabatan Fungsional | AI11: Guru Ahli Madya | AK11: 43739 | AL11: 40 | AM11: S-1/Sarjana | AN11: A5EB03E21B2EF6A0E040640A040252AD | AO11: A-IV MATEMATIKA | AP11: 2001 | AQ11: BAOLAN | AR11: SMP NEGERI 3 TOLITOLI - Dinas Pendidikan Dan Kebudayaan | AS11: Pemerintah Kab. Tolitoli | AT11: Pemerintah Kab. Tolitoli | AU11: A5EB03E2428FF6A0E040640A040252AD | AV11: Pemerintah Kab. Tolitoli
A12: 196411191994082001 | B12: 132080137 | C12: RAHMATIA | E12: A.Ma.Pd | F12: TOLITOLI | G12: 23700 | H12: F | I12: Islam | J12: Menikah | K12: '7204075911640001 | L12: 85222357825 | M12: r_tia37@yahoo.co.id | O12: JL. STADION 1 DINOPI NO. 7 | P12: '779871755834000 | Q12: '0000135232705 | R12: 15 | S12: Aktif | T12: A199500007079 | U12: 813.2/34-DPB/1994 | V12: 34540 | W12: 34547 | X12: 821/96.15/PDK | Y12: 35033 | Z12: 34943 | AA12: 21 | AB12: II/a | AC12: 41 | AD12: IV/a | AE12: 42278 | AF12: 16 | AG12: 2 | AH12: Jabatan Fungsional | AI12: Guru Ahli Madya | AK12: 42278 | AL12: 25 | AM12: Diploma II | AN12: A5EB03E21871F6A0E040640A040252AD | AO12: D-II/A-II PGSD | AP12: 2005 | AQ12: BAOLAN | AR12: SD Negeri 2 Nalu - Dinas Pendidikan Dan Kebudayaan | AS12: Pemerintah Kab. Tolitoli | AT12: Pemerintah Kab. Tolitoli | AU12: A5EB03E2428FF6A0E040640A040252AD | AV12: Pemerintah Kab. Tolitoli
A13: 196411301993042001 | B13: 132034196 | C13: PETRONELA N. RONDONUWU | E13: S.Pd | F13: MINAHASA | G13: 23711 | H13: F | I13: Katholik | J13: Menikah | K13: '7204077011640002 | L13: 82293828849 | M13: sd.kat_theresia@yahoo.co.id | O13: JL. MAGAMU SAMPING SD 10 TOLITOLI | P13: '69.806.336.9834.000 | Q13: '0000201112694 | R13: 15 | S13: Aktif | T13: A199400008555 | U13: 813.2/42/DPB/1993 | V13: 34059 | W13: 34060 | X13: 821.12/13.03/PDK | Y13: 34668 | Z13: 34669 | AA13: 22 | AB13: II/b | AC13: 42 | AD13: IV/b | AE13: 44470 | AF13: 26 | AG13: 6 | AH13: Jabatan Fungsional | AI13: Guru Ahli Madya | AK13: 45200 | AL13: 40 | AM13: S-1/Sarjana | AN13: ff80808147e76ffd0147f23adb30009a | AO13: S-1 SARJANA PENDIDIKAN | AP13: 2019 | AQ13: BAOLAN | AR13: SD Negeri 13 Tolitoli - Dinas Pendidikan Dan Kebudayaan | AS13: Pemerintah Kab. Tolitoli | AT13: Pemerintah Kab. Tolitoli | AU13: A5EB03E2428FF6A0E040640A040252AD | AV13: Pemerintah Kab. Tolitoli
A14: 196412021991032002 | B14: 131947698 | C14: NURBAYA BADOALI | E14: S.Pd | F14: TOLITOLI | G14: 23713 | H14: F | I14: Islam | J14: Cerai Hidup | K14: '7204074212640001 | L14: 85399259520 | M14: badoalin@gmail.com | O14: JL LADAPI NO 36 | P14: '77.485.803.9.834.000 | Q14: '0000135291464 | R14: 15 | S14: Aktif | T14: A199300009932 | U14: 26/c/I.24.III/1991 | V14: 33392 | W14: 33298 | X14: 137/I.24.1/Ca-2/1993 | Y14: 33999 | Z14: 34029 | AA14: 23 | AB14: II/c | AC14: 42 | AD14: IV/b | AE14: 44287 | AF14: 28 | AG14: 1 | AH14: Jabatan Fungsional | AI14: Guru Ahli Madya | AK14: 44287 | AL14: 40 | AM14: S-1/Sarjana | AN14: ff808081451ccaf90145205943f36b46 | AO14: S-1 PENDIDIKAN | AP14: 2001 | AQ14: BAOLAN | AR14: SMP NEGERI 3 TOLITOLI - Dinas Pendidikan Dan Kebudayaan | AS14: Pemerintah Kab. Tolitoli | AT14: Pemerintah Kab. Tolitoli | AU14: A5EB03E2428FF6A0E040640A040252AD | AV14: Pemerintah Kab. Tolitoli
A15: 196412041985121001 | B15: 131342680 | C15: MOHDAR | E15: A.Ma.Pd | F15: BUNOBOGU | G15: 23715 | H15: M | I15: Islam | J15: Menikah | K15: '7204030107640020 | L15: 81376026586 | M15: mohdar.kuonoto@gmail.com | O15: DESA MALOMBA KEC. DONDO | P15: '78.498.144.1.834.000 | Q15: '0000135305785 | R15: 15 | S15: Aktif | T15: A198700043259 | U15: 537/BOPEG/6/DPB/1985 | V15: 31369 | W15: 31382 | X15: 129/821/BT/PDK | Y15: 32109 | Z15: 32112 | AA15: 21 | AB15: II/a | AC15: 41 | AD15: IV/a | AE15: 41183 | AF15: 21 | AG15: 10 | AH15: Jabatan Fungsional | AI15: Guru Ahli Madya | AK15: 45120 | AL15: 25 | AM15: Diploma II | AN15: A5EB03E21871F6A0E040640A040252AD | AO15: D-II/A-II PGSD | AP15: 2003 | AQ15: DONDO | AR15: SD Negeri 1 Malomba - Dinas Pendidikan Dan Kebudayaan | AS15: Pemerintah Kab. Tolitoli | AT15: Pemerintah Kab. Tolitoli | AU15: A5EB03E2428FF6A0E040640A040252AD | AV15: Pemerintah Kab. Tolitoli | AW15: Pemerintah Kab. Tolitoli
A16: 196412082006042004 | B16: 570021136 | C16: RESNI MOH NAWIR | D16: Dra. | F16: TOLITOLI | G16: 23719 | H16: F | I16: Islam | J16: Menikah | K16: '7204074812640002 | L16: 85395097008 | M16: dranawir28@guru.smp.belajar.id | O16: JL. DAUD LAPAU I NO.06 KEL. TUWELEY | P16: '68.233.013.9.834.000 | Q16: '0000135329938 | R16: 15 | S16: Aktif | T16: A200700002368 | U16: 813.3/5207-CPNS/Bag.Kepeg | V16: 39038 | W16: 38808 | X16: 821.3/2435-PNS/TT/2007 | Y16: 39353 | Z16: 39356 | AA16: 31 | AB16: III/a | AC16: 41 | AD16: IV/a | AE16: 44105 | AF16: 25 | AG16: 8 | AH16: Jabatan Fungsional | AI16: Guru Ahli Madya | AK16: 44013 | AL16: 40 | AM16: S-1/Sarjana | AN16: A5EB03E2165BF6A0E040640A040252AD | AO16: S-1 PENDIDIKAN LUAR SEKOLAH | AP16: 1991 | AQ16: BAOLAN | AR16: SMP Negeri 2 Tolitoli - Dinas Pendidikan Dan Kebudayaan | AS16: Pemerintah Kab. Tolitoli | AT16: Pemerintah Kab. Tolitoli | AU16: A5EB03E2428FF6A0E040640A040252AD | AV16: Pemerintah Kab. Tolitoli | AW16: Pemerintah Kab. Tolitoli
A17: 196412281983071001 | B17: 131057065 | C17: SYAPRUDIN A MITO | E17: A.Ma.Pd | F17: TOLITOLI | G17: 23739 | H17: M | I17: Islam | J17: Menikah | K17: '7204092812640001 | L17: 85394130545 | M17: syafrudinmito@gmail.com | O17: DESA BINONTOAN | P17: '78.805.491.4.834.000 | Q17: '0000135312772 | R17: 15 | S17: Aktif | T17: A198500023062 | U17: 173/ROPEG/DPB/1983 | V17: 30487 | W17: 30498 | X17: 128/L/BT/1985 | Y17: 31213 | Z17: 31229 | AA17: 21 | AB17: II/a | AC17: 41 | AD17: IV/a | AE17: 40087 | AF17: 21 | AG17: 3 | AH17: Jabatan Fungsional | AI17: Guru Ahli Madya | AK17: 45120 | AL17: 25 | AM17: Diploma II | AN17: A5EB03E21343F6A0E040640A040252AD | AO17: D-II | AP17: 2001 | AQ17: TOLI-TOLI UTARA | AR17: SD Negeri 5 Binontoan - Dinas Pendidikan Dan Kebudayaan | AS17: Pemerintah Kab. Tolitoli | AT17: Pemerintah Kab. Tolitoli | AU17: A5EB03E2428FF6A0E040640A040252AD | AV17: Pemerintah Kab. Tolitoli | AW17: Pemerintah Kab. Tolitoli
A18: 196412311986012019 | B18: 131566116 | C18: HALIMA | E18: S.Pd | F18: GANDANGBATU | G18: 23742 | H18: F | I18: Islam | J18: Menikah | K18: '7204087112640007 | L18: 82291267280 | M18: halima311264@gmail.com | O18: DESA LALOS KEC. GALANG | P18: '793960873834000 | Q18: '0000135331503 | R18: 15 | S18: Aktif | T18: A198700045223 | U18: 148/C/I.24.1.III/1986 | V18: 31472 | W18: 31413 | X18: 986/Kepeg/Ca-2/Kwst/1987 | Y18: 32111 | Z18: 32112 | AA18: 21 | AB18: II/a | AC18: 41 | AD18: IV/a | AE18: 39722 | AF18: 17 | AG18: 9 | AH18: Jabatan Fungsional | AI18: Guru Ahli Madya | AK18: 41275 | AL18: 40 | AM18: S-1/Sarjana | AN18: ff8080815133783a0151385facc07076 | AO18: S-1 PENDIDIKAN MATEMATIKA | AP18: 2001 | AQ18: GALANG | AR18: SMP Negeri 1 Galang - Dinas Pendidikan Dan Kebudayaan | AS18: Pemerintah Kab. Tolitoli | AT18: Pemerintah Kab. Tolitoli | AU18: A5EB03E2428FF6A0E040640A040252AD | AV18: Pemerintah Kab. Tolitoli
A19: 196412311987111005 | B19: 80089423 | C19: I NYOMAN SUARMA | E19: SP | F19: JEMBRANA | G19: 23742 | H19: M | I19: Hindu | J19: Menikah | K19: '7204042501640001 | L19: 85241923442 | M19: suarmanyoman006@gmail.com | O19: DESA KAYU LOMPA RT/RW : 002 / 002 KECAMATAN BASIDONDO KABUPATEN TOLITOLI | P19: '78.800.862.1.834.000 | Q19: '0000135243224 | R19: 15 | S19: Aktif | T19: A198900025263 | U19: KP.330/4260/II/1987 | V19: 32111 | W19: 32082 | X19: 298/KPT/UP/BK.VI-A/PN/89 | Y19: 32777 | Z19: 32782 | AA19: 21 | AB19: II/a | AC19: 42 | AD19: IV/b | AE19: 43009 | AF19: 26 | AG19: 6 | AH19: Jabatan Fungsional | AI19: Penyuluh Pertanian Ahli Madya | AK19: 44925 | AL19: 40 | AM19: S-1/Sarjana | AN19: ff8080815133783a0151386c2ec579f7 | AO19: S-1 PERTANIAN | AP19: 2005 | AQ19: TOLITOLI | AR19: UPT. BALAI PENYULUH PERTANIAN DINAS TANAMAN PANGAN DAN HORTIKULTURA - Dinas Tanaman Pangan Dan Hortikultura | AS19: Pemerintah Kab. Tolitoli | AT19: Pemerintah Kab. Tolitoli | AU19: A5EB03E2428FF6A0E040640A040252AD | AV19: Pemerintah Kab. Tolitoli | AW19: Pemerintah Kab. Tolitoli
A20: 196412312002111001 | B20: 570014027 | C20: SYAMSUDDIN | D20: Drs. | F20: TOLITOLI | G20: 23742 | H20: M | I20: Islam | J20: Menikah | K20: '7204083112640004 | L20: 82292529220 | M20: basyamsuddin21@gmail.com | O20: DESA SABANG | P20: '77.981.694.1.834.000 | Q20: '0000135330816 | R20: 15 | S20: Aktif | T20: A200300000833 | U20: 814.2/199-CP/2002 | V20: 37557 | W20: 37561 | X20: 821.2.PD/2642-PEG/2003 | Y20: 37945 | Z20: 37956 | AA20: 23 | AB20: II/c | AC20: 41 | AD20: IV/a | AE20: 43739 | AF20: 21 | AG20: 6 | AH20: Jabatan Fungsional | AI20: Guru Ahli Madya | AK20: 43647 | AL20: 40 | AM20: S-1/Sarjana | AN20: 8ae4829d513cb45f01513cc83254063f | AO20: S-1 TARBIYAH | AP20: 1990 | AQ20: GALANG | AR20: SMP Negeri 1 Galang - Dinas Pendidikan Dan Kebudayaan | AS20: Pemerintah Kab. Tolitoli | AT20: Pemerintah Kab. Tolitoli | AU20: A5EB03E2428FF6A0E040640A040252AD | AV20: Pemerintah Kab. Tolitoli | AW20: Pemerintah Kab. Tolitoli
A21: 196501031988032015 | B21: 131743593 | C21: MARIAM | E21: A.Ma | F21: TOLITOLI | G21: 23745 | H21: F | I21: Islam | J21: Menikah | K21: '7204104103650002 | L21: 82347873466 | M21: bahnan6@gmail.com | O21: DESA DUNGINGIS KEC. DAKOPEMEAN | P21: '793917089834000 | Q21: '0000135239927 | R21: 15 | S21: Aktif | T21: A198900025559 | U21: 813.2/34/DPB/1988 | V21: 32199 | W21: 32203 | X21: 142/821.12/BT/BT/PN/89 | Y21: 32801 | Z21: 32813 | AA21: 21 | AB21: II/a | AC21: 33 | AD21: III/c | AE21: 41183 | AF21: 19 | AG21: 7 | AH21: Jabatan Fungsional | AI21: Guru Dewasa | AK21: 41183 | AL21: 25 | AM21: Diploma II | AN21: A5EB03E21871F6A0E040640A040252AD | AO21: D-II/A-II PGSD | AP21: 2003 | AQ21: TOLITOLI | AR21: SD Negeri 1 Dungingis - Dinas Pendidikan Dan Kebudayaan | AS21: Pemerintah Kab. Tolitoli | AT21: Pemerintah Kab. Tolitoli | AU21: A5EB03E2428FF6A0E040640A040252AD | AV21: Pemerintah Kab. Tolitoli | AW21: Pemerintah Kab. Tolitoli
A22: 196501041986021003 | B22: 131527116 | C22: JAMRI | E22: S.S | F22: BUOL | G22: 23746 | H22: M | I22: Islam | J22: Menikah | K22: '7204060401650001 | M22: jamri.btlp@gmail.com | O22: DESA JANJA | P22: '16.599.845.1.834.000 | Q22: '0000158799925 | R22: 15 | S22: Aktif | T22: A198800041922 | U22: 830/08/PN/DPB/1986 | V22: 31441 | W22: 31444 | X22: 47/821.12/BT/PN | Y22: 32172 | Z22: 32174 | AA22: 21 | AB22: II/a | AC22: 33 | AD22: III/c | AE22: 44835 | AF22: 31 | AG22: 9 | AH22: Jabatan Fungsional | AI22: Guru Ahli Muda | AK22: 44835 | AL22: 40 | AM22: S-1/Sarjana | AN22: 81D2E914E9DBFE19E050640A2903486E | AO22: S-1 SASTRA DAN BAHASA INDONESIA | AP22: 2006 | AQ22: LAMPASIO | AR22: SD Negeri Janja Kompi - Dinas Pendidikan Dan Kebudayaan | AS22: Pemerintah Kab. Tolitoli | AT22: Pemerintah Kab. Tolitoli | AU22: A5EB03E2428FF6A0E040640A040252AD | AV22: Pemerintah Kab. Tolitoli | AW22: Pemerintah Kab. Tolitoli
A23: 196501051984122003 | B23: 131210506 | C23: ROHANI | E23: A.Ma.Pd | F23: BUOL | G23: 23747 | H23: F | I23: Islam | J23: Menikah | K23: '7209054501650001 | L23: 81328036970 | M23: rohaniarman2@gmail.com | O23: DESA TINABOGAN KEC. DONDO | P23: '78.498.147.4834.000 | Q23: '0000135309025 | R23: 15 | S23: Aktif | T23: A198600040376 | U23: 329/ROPEG.I/PNS/PNS/DPD/1984 | V23: 31012 | W23: 31017 | X23: 127/L/BT/1986 | Y23: 31675 | Z23: 31686 | AA23: 21 | AB23: II/a | AC23: 34 | AD23: III/d | AE23: 39356 | AF23: 17 | AG23: 10 | AH23: Jabatan Fungsional | AI23: Guru Ahli Muda | AK23: 45239 | AL23: 25 | AM23: Diploma II | AN23: A5EB03E2100AF6A0E040640A040252AD | AO23: D-II/A-II | AP23: 2001 | AQ23: DONDO | AR23: SD Negeri 2 Tinabogan - Dinas Pendidikan Dan Kebudayaan | AS23: Pemerintah Kab. Tolitoli | AT23: Pemerintah Kab. Tolitoli | AU23: A5EB03E2428FF6A0E040640A040252AD | AV23: Pemerintah Kab. Tolitoli
A24: 196501061988031011 | B24: 131743569 | C24: HARDI M RAHMAN | E24: A.Ma.Pd | F24: GORONTALO | G24: 23748 | H24: M | I24: Islam | J24: Menikah | K24: '7204070601650002 | L24: 85341499655 | M24: tolitolisdn@gmail.com | O24: KEL SIDOARJO | P24: '791214711834000 | Q24: '0000135239793 | R24: 15 | S24: Aktif | T24: A198900025687 | U24: S13.2/34/DPB/1988 | V24: 32199 | W24: 32203 | X24: 67/821.12/BT/PN/89 | Y24: 32811 | Z24: 32813 | AA24: 21 | AB24: II/a | AC24: 41 | AD24: IV/a | AE24: 39904 | AF24: 16 | AG24: 1 | AH24: Jabatan Fungsional | AI24: Guru Ahli Madya | AK24: 44900 | AL24: 25 | AM24: Diploma II | AN24: ff80808148cfa72e0148edf02dab3a2b | AO24: D-II | AP24: 2003 | AQ24: BAOLAN | AR24: SD Negeri 7 Tolitoli - Dinas Pendidikan Dan Kebudayaan | AS24: Pemerintah Kab. Tolitoli | AT24: Pemerintah Kab. Tolitoli | AU24: A5EB03E2428FF6A0E040640A040252AD | AV24: Pemerintah Kab. Tolitoli | AW24: Pemerintah Kab. Tolitoli
A25: 196501081988031014 | B25: 131743520 | C25: SYAMSUL BAHRI SAIHI | E25: A.Ma.Pd | F25: PALELEH | G25: 23750 | H25: M | I25: Islam | J25: Menikah | K25: '7204010801650001 | L25: 81356513004 | M25: syamsulbahri202@yahoo.co.id | O25: DESA KOMBO KEC. DAMPAL SELATAN | P25: '79.124.511.1.834.000 | Q25: '2003.13.002353.8 | R25: 15 | S25: Aktif | T25: A198900025780 | U25: 813.2/34/DPB/1988 | V25: 32199 | W25: 32203 | X25: 41/821.12/BT/PN/89 | Y25: 32811 | Z25: 32813 | AA25: 21 | AB25: II/a | AC25: 41 | AD25: IV/a | AE25: 40452 | AF25: 17 | AG25: 7 | AH25: Jabatan Fungsional | AI25: Guru Ahli Madya | AK25: 45120 | AL25: 25 | AM25: Diploma II | AN25: 8ae48288503bd9ee01504566e26e7061 | AO25: D-II PGSD | AP25: 2003 | AQ25: DAMPAL SELATAN | AR25: SD Negeri Salae - Dinas Pendidikan Dan Kebudayaan | AS25: Pemerintah Kab. Tolitoli | AT25: Pemerintah Kab. Tolitoli | AU25: A5EB03E2428FF6A0E040640A040252AD | AV25: Pemerintah Kab. Tolitoli | AW25: Pemerintah Kab. Tolitoli
A26: 196501121988031021 | B26: 131743532 | C26: JAMALUDIN J SUUD | F26: TOLITOLI | G26: 23754 | H26: M | I26: Islam | J26: Menikah | K26: '7204011201650002 | L26: 85242996664 | M26: jamaludinjamaludin592@gmail.com | O26: DESA TAMPIALA | P26: '791244817834000 | Q26: '0000135315281 | R26: 15 | S26: Aktif | T26: A199000023759 | U26: 818.8/84/DPB/1988 | V26: 32199 | W26: 32203 | X26: 188/821.12/BT/N/89 | Y26: 32872 | Z26: 32874 | AA26: 21 | AB26: II/a | AC26: 33 | AD26: III/c | AE26: 41183 | AF26: 19 | AG26: 7 | AH26: Jabatan Fungsional | AI26: Guru Ahli Muda | AK26: 44670 | AL26: 40 | AM26: S-1/Sarjana | AN26: A5EB03E20E8EF6A0E040640A040252AD | AO26: A-IV PENDIDIKAN PGSD | AP26: 2000 | AQ26: DAMPAL SELATAN | AR26: SD Negeri Pulias Pulau - Dinas Pendidikan Dan Kebudayaan | AS26: Pemerintah Kab. Tolitoli | AT26: Pemerintah Kab. Tolitoli | AU26: A5EB03E2428FF6A0E040640A040252AD | AV26: Pemerintah Kab. Tolitoli | AW26: Pemerintah Kab. Tolitoli
A27: 196501201993101002 | B27: 132034030 | C27: SYAFRUDDIN | E27: S.Pd SD | F27: UJUNG PANDANG | G27: 23762 | H27: M | I27: Islam | J27: Menikah | K27: '7204102001650001 | L27: 82188934899 | M27: syafruddin.dhabith@gmail.com | O27: DESA GALUMPANG KEC. DAKOPEMEAN | P27: '784981250834000 | Q27: '0000135198055 | R27: 15 | S27: Aktif | T27: A199500008288 | U27: 813.2/80/DPB/ | V27: 34240 | W27: 34243 | X27: 821.12/03.09/PDK | Y27: 34789 | Z27: 34790 | AA27: 21 | AB27: II/a | AC27: 42 | AD27: IV/b | AE27: 45200 | AF27: 25 | AG27: 6 | AH27: Jabatan Fungsional | AI27: Guru Ahli Madya | AK27: 44670 | AL27: 40 | AM27: S-1/Sarjana | AN27: ff8080815133783a0151386dff7d7bec | AO27: S-1 PGSD | AP27: 2001 | AQ27: DAKO PEMEAN | AR27: SD Negeri 1 Galumpang - Dinas Pendidikan Dan Kebudayaan | AS27: Pemerintah Kab. Tolitoli | AT27: Pemerintah Kab. Tolitoli | AU27: A5EB03E2428FF6A0E040640A040252AD | AV27: Pemerintah Kab. Tolitoli | AW27: Pemerintah Kab. Tolitoli
A28: 196501211988031011 | B28: 131743546 | C28: SUBAGYO | F28: PATI | G28: 23763 | H28: M | I28: Islam | J28: Menikah | K28: '7204022101650002 | L28: 0 | M28: Subagyosubagyo948@gmail.com | O28: DESA TOMPOH KEC.DAMPAL UTARA | P28: '16.559.923.6.834.000 | Q28: '0000135316034 | R28: 15 | S28: Aktif | T28: A199000024017 | U28: 813.2/34/DPB/1988 | V28: 32199 | W28: 32203 | X28: 141/821.12/BT/PN/89 | Y28: 32873 | Z28: 32874 | AA28: 21 | AB28: II/a | AC28: 34 | AD28: III/d | AE28: 43922 | AF28: 26 | AG28: 7 | AH28: Jabatan Fungsional | AI28: Guru Ahli Muda | AK28: 43922 | AL28: 15 | AM28: SLTA | AN28: A5EB03E20C36F6A0E040640A040252AD | AO28: SPG PENDIDIKAN SD | AP28: 1986 | AQ28: DAMPAL UTARA | AR28: SD Negeri 3 Tompoh - Dinas Pendidikan Dan Kebudayaan | AS28: Pemerintah Kab. Tolitoli | AT28: Pemerintah Kab. Tolitoli | AU28: A5EB03E2428FF6A0E040640A040252AD | AV28: Pemerintah Kab. Tolitoli | AW28: Pemerintah Kab. Tolitoli
A29: 196501221988031007 | B29: 131743708 | C29: SUMITRO HL HASAN | E29: A.Ma.Pd | F29: GORONTALO | G29: 23764 | H29: M | I29: Islam | J29: Menikah | K29: '7204072201650001 | L29: 82219389155 | M29: alana.anara.akhtar@gmail.com | O29: JL.DAPALAK NO.1 KEL.NALU | P29: '89.156.324.9.834.000 | Q29: '0000135241143 | R29: 15 | S29: Aktif | T29: A198900026199 | U29: 813.2/31/BPD/1988 | V29: 32197 | W29: 32203 | X29: 110/821.12/BT/PK/89 | Y29: 32811 | Z29: 32813 | AA29: 21 | AB29: II/a | AC29: 34 | AD29: III/d | AE29: 40817 | AF29: 18 | AG29: 8 | AH29: Jabatan Fungsional | AI29: Guru Ahli Muda | AK29: 45120 | AL29: 25 | AM29: Diploma II | AN29: A5EB03E2119FF6A0E040640A040252AD | AO29: D-II/A-II OLAH RAGA DAN KESEHATAN | AP29: 1998 | AQ29: BAOLAN | AR29: SD Negeri 3 Tolitoli - Dinas Pendidikan Dan Kebudayaan | AS29: Pemerintah Kab. Tolitoli | AT29: Pemerintah Kab. Tolitoli | AU29: A5EB03E2428FF6A0E040640A040252AD | AV29: Pemerintah Kab. Tolitoli | AW29: Pemerintah Kab. Tolitoli
A30: 196502061992032003 | B30: 132013525 | C30: SUTJIATI TANGAHU | E30: A.Ma.Pd | F30: GORONTALO | G30: 23779 | H30: F | I30: Islam | J30: Menikah | K30: '7205024602650001 | L30: 85242983287 | M30: sutjiatitangahu12@gmail.com | O30: DESA LAKEA II | P30: '78.805.520.0834.000 | Q30: '0000135232964 | R30: 15 | S30: Aktif | T30: A199400010134 | W30: 33664 | Z30: 34366 | AA30: 21 | AB30: II/a | AC30: 34 | AD30: III/d | AE30: 43009 | AF30: 20 | AG30: 7 | AH30: Jabatan Fungsional | AI30: Guru Ahli Muda | AK30: 43009 | AL30: 25 | AM30: Diploma II | AN30: 8ae482894661232f014665925dbd1f3b | AO30: D-II/AKTA-II | AP30: 2003 | AQ30: TOLI-TOLI UTARA | AR30: SD Negeri 2 Lakuan Tolitoli - Dinas Pendidikan Dan Kebudayaan | AS30: Pemerintah Kab. Tolitoli | AT30: Pemerintah Kab. Tolitoli | AU30: A5EB03E2428FF6A0E040640A040252AD | AV30: Pemerintah Kab. Tolitoli | AW30: Pemerintah Kab. Tolitoli
A31: 196502201989071001 | B31: 131778278 | C31: SYAFRUDIN | E31: S.Pd | F31: BUNOBOGU | G31: 23793 | H31: M | I31: Islam | J31: Menikah | K31: '7204052002650001 | L31: 85241033465 | M31: syafrudinpupns@gmail.com | O31: BTN MOIPOS BLOK J NOMOR 2 KEL NALU | P31: '791214299834000 | Q31: '0000135223266 | R31: 15 | S31: Aktif | T31: A199100017798 | U31: 813.2/49/DPB/1989 | V31: 32734 | W31: 32690 | X31: 07/821.12/BT/PK/1991 | Y31: 33269 | Z31: 33270 | AA31: 21 | AB31: II/a | AC31: 41 | AD31: IV/a | AE31: 44287 | AF31: 26 | AG31: 9 | AH31: Jabatan Fungsional | AI31: Guru Ahli Madya | AK31: 44287 | AL31: 40 | AM31: S-1/Sarjana | AN31: ff80808147e76ffd0147f23adb30009a | AO31: S-1 SARJANA PENDIDIKAN | AP31: 2014 | AQ31: BAOLAN | AR31: SD Negeri 4 Tambun - Dinas Pendidikan Dan Kebudayaan | AS31: Pemerintah Kab. Tolitoli | AT31: Pemerintah Kab. Tolitoli | AU31: A5EB03E2428FF6A0E040640A040252AD | AV31: Pemerintah Kab. Tolitoli
A32: 196502211991031007 | B32: 131963280 | C32: BINSUD | E32: S.Pd.SD | F32: BUNOBOGU | G32: 23794 | H32: M | I32: Islam | J32: Menikah | K32: '7204072102650001 | L32: 85395454728 | M32: binsudbinsud942@gmail.com | O32: BTN TOLI-TOLI PERMAI BLOK G/18 | P32: '77.482.603.6.834.000 | Q32: '0000135238926 | R32: 15 | S32: Aktif | T32: A199200014640 | U32: 813.2/38-CP/DPB/1991 | V32: 33381 | W32: 33298 | X32: 27/821.12/BT/PN/1992 | Y32: 33754 | Z32: 33756 | AA32: 21 | AB32: II/a | AC32: 42 | AD32: IV/b | AE32: 44652 | AF32: 26 | AG32: 1 | AH32: Jabatan Fungsional | AI32: Guru Ahli Madya | AK32: 45120 | AL32: 40 | AM32: S-1/Sarjana | AN32: ff80808137361a7c01373a1b88a936c2 | AO32: S-1/A-IV PENDIDIKAN PGSD | AP32: 2012 | AQ32: BAOLAN | AR32: SD Negeri 1 Tambun - Dinas Pendidikan Dan Kebudayaan | AS32: Pemerintah Kab. Tolitoli | AT32: Pemerintah Kab. Tolitoli | AU32: A5EB03E2428FF6A0E040640A040252AD | AV32: Pemerintah Kab. Tolitoli | AW32: Pemerintah Kab. Tolitoli
A33: 196502252006041012 | B33: 570021150 | C33: AHMAD ABD GANI | E33: SH | F33: MAKASSAR | G33: 23798 | H33: M | I33: Islam | J33: Menikah | K33: '7204072502650003 | L33: 85241115034 | M33: ahmadgani734@gmail.com | O33: JL. TADULAKO NO. 21, KEL. TAMBUN, KEC. BAOLAN, KAB. TOLITOLI | P33: '14.50.43.5.834000 | Q33: '0000135333156 | R33: 15 | S33: Aktif | T33: A200700003359 | U33: 813.3/5224-CPNS/Bag.Kepeg | V33: 39038 | W33: 38808 | X33: 821.3/2430-PNS/TT/2007 | Y33: 39353 | Z33: 39356 | AA33: 31 | AB33: III/a | AC33: 41 | AD33: IV/a | AE33: 44287 | AF33: 26 | AG33: 2 | AH33: Jabatan Fungsional | AI33: Guru Ahli Madya | AK33: 44670 | AL33: 40 | AM33: S-1/Sarjana | AN33: A5EB03E219AAF6A0E040640A040252AD | AO33: S-1 HUKUM TATA NEGARA | AP33: 1989 | AQ33: BAOLAN | AR33: SMP Negeri 4 Tolitoli - Dinas Pendidikan Dan Kebudayaan | AS33: Pemerintah Kab. Tolitoli | AT33: Pemerintah Kab. Tolitoli | AU33: A5EB03E2428FF6A0E040640A040252AD | AV33: Pemerintah Kab. Tolitoli | AW33: Pemerintah Kab. Tolitoli
A34: 196502261985121002 | B34: 131449792 | C34: FERDINAND RAWALI | E34: S.Pd | F34: MANADO | G34: 23799 | H34: M | I34: Islam | J34: Menikah | K34: '7205012602650002 | L34: 85294612087 | M34: ferdinandrawali14@gmail.com | O34: DESA AMADONG 1 RT. 005, RW. 003 KECAMATAN MOMUNU. | P34: '89.272.965.9.834.000 | Q34: '0001135371092 | R34: 10 | S34: Aktif | T34: A198700047761 | U34: 538/Ropeg.6/DPB/1985 | V34: 31370 | W34: 31382 | X34: 175/821.12/BT/PDK | Y34: 32111 | Z34: 32112 | AA34: 21 | AB34: II/a | AC34: 42 | AD34: IV/b | AE34: 44287 | AF34: 40 | AG34: 4 | AH34: Jabatan Fungsional | AI34: Guru Ahli Madya | AK34: 44308 | AL34: 40 | AM34: S-1/Sarjana | AN34: ff80808141007c2301410c1eced872e8 | AO34: S-1/A-IV PENJASKES | AP34: 2013 | AQ34: TOLITOLI | AR34: SMP NEGERI 3 TOLITOLI - Dinas Pendidikan Dan Kebudayaan | AS34: Pemerintah Kab. Tolitoli | AT34: Pemerintah Kab. Tolitoli | AU34: A5EB03E2428FF6A0E040640A040252AD | AV34: Pemerintah Kab. Tolitoli
A35: 196503011991042001 | B35: 131896607 | C35: SULEHA ALUD | E35: S.Pd | F35: PINJAN | G35: 23802 | H35: F | I35: Islam | J35: Menikah | K35: '7204104103650001 | L35: 85229734544 | M35: suleha.alud@gmail.com | O35: FF808081501E5C7C01501F19600F03BF | P35: '793916578834000 | Q35: '0000135241378 | R35: 15 | S35: Aktif | T35: A199200014798 | U35: 813.2/24-CP/DPB/91 | V35: 33325 | W35: 33329 | X35: 08/821.12/BT/PN/1992 | Y35: 33753 | Z35: 33756 | AA35: 21 | AB35: II/a | AC35: 42 | AD35: IV/b | AE35: 45505 | AF35: 28 | AG35: 4 | AH35: Jabatan Fungsional | AI35: Guru Ahli Madya | AK35: 41913 | AL35: 40 | AM35: S-1/Sarjana | AN35: 14a66e0a9093449c96aca3650ba42f0b | AO35: S-1 PENDIDIKAN GURU SEKOLAH DASAR | AP35: 2019 | AQ35: DAKO PEMEAN | AR35: SD Negeri 2 Galumpang - Dinas Pendidikan Dan Kebudayaan | AS35: Pemerintah Kab. Tolitoli | AT35: Pemerintah Kab. Tolitoli | AU35: A5EB03E2428FF6A0E040640A040252AD | AV35: Pemerintah Kab. Tolitoli
A36: 196503012003122001 | B36: 570015664 | C36: MASTIA | F36: LALOS | G36: 23802 | H36: F | I36: Islam | J36: Belum Kawin | K36: '7204084103650002 | L36: 82292431394 | M36: andihelpi60@gmail.com | O36: DUSUN BAMBAUPI DESA LALOS KEC. GALANG | P36: '15.605.634.3.834.000 | Q36: '0000135251515 | R36: 15 | S36: Aktif | T36: A200500066126 | U36: 814.2/109-CP/2004 | V36: 37998 | W36: 37956 | X36: 821.2/1682-PNS/TT/2005 | Y36: 38408 | Z36: 38412 | AA36: 21 | AB36: II/a | AC36: 23 | AD36: II/c | AE36: 40634 | AF36: 14 | AG36: 1 | AH36: Jabatan Fungsional | AI36: Guru Ahli Pertama | AK36: 44378 | AL36: 15 | AM36: SLTA | AN36: A5EB03E215B5F6A0E040640A040252AD | AO36: SEKOLAH MENENGAH ATAS | AP36: 1986 | AQ36: TOLITOLI | AR36: SD Negeri 4 Binontoan - Dinas Pendidikan Dan Kebudayaan | AS36: Pemerintah Kab. Tolitoli | AT36: Pemerintah Kab. Tolitoli | AU36: A5EB03E2428FF6A0E040640A040252AD | AV36: Pemerintah Kab. Tolitoli
A37: 196503021993021006 | B37: 380051877 | C37: MUSTARING | E37: SH | F37: TOLITOLI | G37: 23803 | H37: M | I37: Islam | J37: Menikah | K37: '7204070203650005 | L37: 82347510022 | M37: musbenop@gmail.com | O37: BTN NOPI BLOK J NO.7 KEL.NALU | P37: '779805480834000 | Q37: '0000159540243 | R37: 15 | S37: Aktif | T37: A199400010615 | U37: 665/I/Peg/1993 | V37: 34013 | W37: 34001 | X37: 1810/I/Peg/1994 | Y37: 34573 | Z37: 34578 | AA37: 31 | AB37: III/a | AC37: 42 | AD37: IV/b | AE37: 41183 | AF37: 19 | AG37: 8 | AH37: Jabatan Fungsional | AI37: Pengawas Pemerintahan Madya / Ahli Madya | AK37: 43466 | AL37: 40 | AM37: S-1/Sarjana | AN37: ff8080815123bf7a01513347a36156d0 | AO37: S-1 HUKUM PERDATA | AP37: 1991 | AQ37: BAOLAN | AR37: Inspektur III - Inspektorat Daerah | AS37: Pemerintah Kab. Tolitoli | AT37: Pemerintah Kab. Tolitoli | AU37: A5EB03E2428FF6A0E040640A040252AD | AV37: Pemerintah Kab. Tolitoli | AW37: Pemerintah Kab. Tolitoli
A38: 196503031987032017 | B38: 131663803 | C38: SUTARNI ABD KADIR RASYID | E38: S.Pd.SD | F38: TOLITOLI | G38: 23804 | H38: F | I38: Islam | J38: Menikah | K38: '7204074303650004 | L38: 85241466695 | M38: sutarnikadir2@gmail.com | O38: JL.SYARIF MANSUR NO.129 PANASAKAN | P38: '88.575.025.7834.000 | Q38: '0000135312221 | R38: 15 | S38: Aktif | T38: A198900027673 | U38: 203/0/I,24.1.I/1987 | V38: 31930 | W38: 31837 | X38: 36/I.24.1/Ce-2/1989 | Y38: 32532 | Z38: 32540 | AA38: 21 | AB38: II/a | AC38: 42 | AD38: IV/b | AE38: 43922 | AF38: 28 | AG38: 1 | AH38: Jabatan Fungsional | AI38: Guru Ahli Madya | AK38: 45200 | AL38: 40 | AM38: S-1/Sarjana | AN38: 75FA55A8CDBA356DE050640A290335C7 | AO38: S-1 PENDIDIKAN GURU SD | AP38: 2012 | AQ38: TOLITOLI | AR38: TK NEGERI Pembina Tolitoli - Dinas Pendidikan Dan Kebudayaan | AS38: Pemerintah Kab. Tolitoli | AT38: Pemerintah Kab. Tolitoli | AU38: A5EB03E2428FF6A0E040640A040252AD | AV38: Pemerintah Kab. Tolitoli
A39: 196503092006041005 | B39: 570021197 | C39: TUGIMIN | E39: S.Pd | F39: BANYUWANGI | G39: 23810 | H39: M | I39: Islam | J39: Menikah | K39: '7204040903650003 | L39: 85397231177 | M39: 08tugimin@gmail.com | O39: DESA SILONDOU KECAMATAN BASIDONDO KABUPATEN TOLITOLI | P39: '894982024834000 | Q39: '0000135313064 | R39: 15 | S39: Aktif | T39: A200700003483 | U39: 813.2/5432-CPNS/BAG.KEPEG | V39: 39038 | W39: 38808 | X39: 821.2/2155-PNS/TT/2007 | Y39: 39353 | Z39: 39356 | AA39: 21 | AB39: II/a | AC39: 32 | AD39: III/b | AE39: 45444 | AF39: 24 | AG39: 4 | AH39: Jabatan Fungsional | AI39: Guru Ahli Pertama | AK39: 44470 | AL39: 40 | AM39: S-1/Sarjana | AN39: ff8080815133783a0151385a6e786d62 | AO39: S-1 PENDIDIKAN GURU SEKOLAH DASAR | AP39: 2017 | AQ39: TOLITOLI | AR39: SD Negeri Galandau - Dinas Pendidikan Dan Kebudayaan | AS39: Pemerintah Kab. Tolitoli | AT39: Pemerintah Kab. Tolitoli | AU39: A5EB03E2428FF6A0E040640A040252AD | AV39: Pemerintah Kab. Tolitoli | AW39: Pemerintah Kab. Tolitoli
A40: 196503101992031002 | B40: 120152085 | C40: USBIYANTO USMAN MASYHUR | E40: S.SOS | F40: TOLITOLI | G40: 23811 | H40: M | I40: Islam | J40: Belum Kawin | K40: '7204071003650003 | M40: usbiyanto_masyhur@yahoo.co.id | O40: JL. JEND.SUDIRMAN 45 TOLI-TOLI | P40: '682265905834000 | Q40: '0000135223896 | R40: 15 | S40: Aktif | T40: A199300012319 | U40: SK.278/KP.301/I/PHB-93 | V40: 33987 | W40: 33664 | X40: SK.878/KP.301/VII/PHB-93 | Y40: 34179 | Z40: 34182 | AA40: 21 | AB40: II/a | AC40: 34 | AD40: III/d | AE40: 41730 | AF40: 17 | AG40: 1 | AH40: Jabatan Pelaksana | AI40: PENGADMINISTRASI UMUM | AK40: 43282 | AL40: 40 | AM40: S-1/Sarjana | AN40: ff808081513cb660015146aeef9b6edd | AO40: S-1 ADMINISTRASI NEGARA | AP40: 2001 | AQ40: TOLITOLI | AR40: Sub Bagian Umum dan Kepegawaian - DINAS KOMUNIKASI INFORMATIKA, PERSANDIAN DAN STATISTIK | AS40: Pemerintah Kab. Tolitoli | AT40: Pemerintah Kab. Tolitoli | AU40: A5EB03E2428FF6A0E040640A040252AD | AV40: Pemerintah Kab. Tolitoli | AW40: Pemerintah Kab. Tolitoli
A41: 196503101999032002 | B41: 132234037 | C41: SYAMSIAR S MAHMUD | F41: MOMUNU | G41: 23811 | H41: F | I41: Islam | J41: Menikah | K41: '7204065003650001 | L41: 85340136312 | M41: syamsiarmahmud03@guru.sd.belajar.id | O41: JL. BUKIT MENTARI NO. 69 DESA MAIBUA | P41: '89.299.684.4834.000 | Q41: '0000135312524 | R41: 15 | S41: Aktif | T41: A200000002749 | U41: 813.2/119-DPB | V41: 36367 | W41: 36220 | X41: 823/52.27/PDK | Y41: 36736 | Z41: 36586 | AA41: 21 | AB41: II/a | AC41: 32 | AD41: III/b | AE41: 44470 | AF41: 17 | AG41: 7 | AH41: Jabatan Fungsional | AI41: Guru Ahli Pertama | AK41: 44470 | AL41: 15 | AM41: SLTA | AN41: 8ae4828736067ea601360a56bf5960b1 | AO41: SPG | AP41: 1986 | AQ41: MAIBUA | AR41: SD Negeri 1 Maibua - Dinas Pendidikan Dan Kebudayaan | AS41: Pemerintah Kab. Tolitoli | AT41: Pemerintah Kab. Tolitoli | AU41: A5EB03E2428FF6A0E040640A040252AD | AV41: Pemerintah Kab. Tolitoli | AW41: Pemerintah Kab. Tolitoli
A42: 196503201985121002 | B42: 131449795 | C42: MARTINUS TALUNDA | E42: A.Ma.Pd | F42: POSO | G42: 23821 | H42: M | I42: Islam | J42: Menikah | K42: '7204072003650004 | L42: 0 | M42: martinustalunda86@gmail.com | O42: PERUMAHAN GURU SDN 2 TAMBUUN KEC. BAOLAN | P42: '78.800.3242.834.000 | Q42: '0000135304626 | R42: 15 | S42: Aktif | T42: A198700048690 | U42: 538/ROPEG.6/DPB/1985 | V42: 31370 | W42: 31382 | X42: 156/821.12/BT/PDK | Y42: 32109 | Z42: 32112 | AA42: 21 | AB42: II/a | AC42: 41 | AD42: IV/a | AE42: 41548 | AF42: 22 | AG42: 10 | AH42: Jabatan Fungsional | AI42: Guru Ahli Madya | AK42: 41548 | AL42: 25 | AM42: Diploma II | AN42: A5EB03E21871F6A0E040640A040252AD | AO42: D-II/A-II PGSD | AP42: 2002 | AQ42: BAOLAN | AR42: SD Negeri 3 Dadakitan - Dinas Pendidikan Dan Kebudayaan | AS42: Pemerintah Kab. Tolitoli | AT42: Pemerintah Kab. Tolitoli | AU42: A5EB03E2428FF6A0E040640A040252AD | AV42: Pemerintah Kab. Tolitoli
A43: 196504061986021010 | B43: 131527136 | C43: ABD KADIR | E43: A.Ma.Pd | F43: TOLITOLI | G43: 23838 | H43: M | I43: Islam | J43: Menikah | K43: '7204040604650001 | L43: 81389597789 | M43: abdkadir65@yahoo.com | O43: JL. TRANS. SULAWESI DESA LABONU KECAMATAN BASIDONDO | P43: '889370748834000 | Q43: '0000135296291 | R43: 15 | S43: Aktif | T43: A198700049350 | U43: 830/08/PN/DPB/86 | V43: 31441 | W43: 31444 | X43: 78/821.12/BT/PDK | Y43: 31987 | Z43: 31990 | AA43: 21 | AB43: II/a | AC43: 41 | AD43: IV/a | AE43: 41365 | AF43: 22 | AG43: 2 | AH43: Jabatan Fungsional | AI43: Guru Ahli Madya | AK43: 41365 | AL43: 25 | AM43: Diploma II | AN43: A5EB03E21871F6A0E040640A040252AD | AO43: D-II/A-II PGSD | AP43: 2002 | AQ43: BASIDONDO | AR43: SD Negeri 3 Basi - Dinas Pendidikan Dan Kebudayaan | AS43: Pemerintah Kab. Tolitoli | AT43: Pemerintah Kab. Tolitoli | AU43: A5EB03E2428FF6A0E040640A040252AD | AV43: Pemerintah Kab. Tolitoli | AW43: Pemerintah Kab. Tolitoli
A44: 196504111985121002 | B44: 131342660 | C44: DARMAJI | E44: A.Ma.Pd | F44: BOJONEGORO | G44: 23843 | H44: M | I44: Islam | J44: Menikah | K44: '7204081104650001 | L44: 81354207714 | M44: darmaji830@yahoo.com | O44: JL H. SURABAYA NO. 7, DESA KALANGKANGAN, KECAMATAN GALANG, KABUPATEN TOLITOLI, PROVINSI SULAWESI TENGAH | P44: '79.122.418.1-834.000 | Q44: '0000135299316 | R44: 15 | S44: Aktif | T44: A198700049623 | U44: 537/ROPEG.6/DPB/85 | V44: 31369 | W44: 31382 | X44: 56/821.12/BT/PN/PDK | Y44: 31972 | Z44: 31990 | AA44: 21 | AB44: II/a | AC44: 41 | AD44: IV/a | AE44: 38991 | AF44: 25 | AG44: 10 | AH44: Jabatan Fungsional | AI44: Guru Ahli Madya | AK44: 43556 | AL44: 25 | AM44: Diploma II | AN44: A5EB03E2100AF6A0E040640A040252AD | AO44: D-II/A-II | AP44: 1998 | AQ44: GALANG | AR44: SD Negeri 4 Kalangkangan - Dinas Pendidikan Dan Kebudayaan | AS44: Pemerintah Kab. Tolitoli | AT44: Pemerintah Kab. Tolitoli | AU44: A5EB03E2428FF6A0E040640A040252AD | AV44: Pemerintah Kab. Tolitoli | AW44: Pemerintah Kab. Tolitoli
A45: 196504151992032011 | B45: 132000171 | C45: CAKRAWATI DJAHRI | E45: S.Pd,M..Eng | F45: JAKARTA | G45: 23847 | H45: F | I45: Islam | J45: Menikah | K45: '7204075504650006 | L45: 81341040430 | M45: diahayupalupi.180992@gmail.com | O45: JL. RAJAWALINO. 17 KEL. TUWELEY | P45: '68.233.045.1.834.000 | Q45: '000135289956 | R45: 15 | S45: Aktif | T45: A199400011660 | U45: 277/C/I.24.1.I/1992 | V45: 33810 | W45: 33664 | X45: 187/I.24.1/Ca-2/1994 | Y45: 34365 | Z45: 34366 | AA45: 21 | AB45: II/a | AC45: 42 | AD45: IV/b | AE45: 42461 | AF45: 19 | AG45: 1 | AH45: Jabatan Fungsional | AI45: Guru Ahli Madya | AK45: 45120 | AL45: 45 | AM45: S-2 | AN45: ff808081487dc0ba014881ad0a430393 | AO45: S-2 MAGISTER TEKNIK MESIN | AP45: 2011 | AQ45: LAMPASIO | AR45: SMP Negeri 4 Ogodeide - Dinas Pendidikan Dan Kebudayaan | AS45: Pemerintah Kab. Tolitoli | AT45: Pemerintah Kab. Tolitoli | AU45: A5EB03E2428FF6A0E040640A040252AD | AV45: Pemerintah Kab. Tolitoli | AW45: Pemerintah Kab. Tolitoli
A46: 196504151995022001 | B46: 132128594 | C46: SUHRAH | D46: DRA | F46: SONI | G46: 23847 | H46: F | I46: Islam | J46: Menikah | K46: '7204085504650002 | L46: 82152874516 | M46: suhrahsunaini04@gmail.com | O46: JL. DG MASESE LAKATAN | P46: '77.993.423.1.834.000 | Q46: '0000135330478 | R46: 15 | S46: Aktif | T46: A199700005013 | U46: 4077/42/C/1995 | V46: 34719 | W46: 34731 | X46: 6026/I24-03/KP.2b/1996 | Y46: 35430 | Z46: 35431 | AA46: 31 | AB46: III/a | AC46: 41 | AD46: IV/a | AE46: 39173 | AF46: 12 | AG46: 2 | AH46: Jabatan Fungsional | AI46: Guru Pembina | AK46: 39173 | AL46: 40 | AM46: S-1/Sarjana | AN46: ff808081513cb660015146bd7a3775a8 | AO46: S-1 PENDIDIKAN | AP46: 1990 | AQ46: GALANG | AR46: SMP Negeri 2 Galang - Dinas Pendidikan Dan Kebudayaan | AS46: Pemerintah Kab. Tolitoli | AT46: Pemerintah Kab. Tolitoli | AU46: A5EB03E2428FF6A0E040640A040252AD | AV46: Pemerintah Kab. Tolitoli | AW46: Pemerintah Kab. Tolitoli
A47: 196504152006041010 | B47: 570021142 | C47: ALFONSIUS FRANKY PYOH | E47: S. Pd | F47: TOMOHON | G47: 23847 | H47: M | I47: Katholik | J47: Menikah | K47: '7204071504650005 | L47: 81340797580 | M47: 1l6ons9uspyo8@gmail.com | O47: Jln. Jend. Panjaitan No. 121 E RT 2 RW 5 (Kompleks Mess Bhayangkara Tolitoli) Kel. Panasakan Kec. Baolan Kab. Tolitoli | P47: '79.119.553.0834.000 | Q47: '0000135326867 | R47: 15 | S47: Aktif | T47: A200700003860 | U47: 813.3/5200-CPNS/BAG.KEPEG | V47: 39038 | W47: 38808 | X47: 821.3/2457-PNS/TT/2007 | Y47: 39353 | Z47: 39356 | AA47: 31 | AB47: III/a | AC47: 42 | AD47: IV/b | AE47: 45017 | AF47: 23 | AG47: 2 | AH47: Jabatan Fungsional | AI47: Guru Ahli Madya | AK47: 44105 | AL47: 40 | AM47: S-1/Sarjana | AN47: ff80808138329bca01384ac9bd77296c | AO47: S-1 PENDIDIKAN ILMU PENGETAHUAN SOSIAL | AP47: 2003 | AQ47: BAOLAN | AR47: SD SMP SATU ATAP MALANGGA - Dinas Pendidikan Dan Kebudayaan | AS47: Pemerintah Kab. Tolitoli | AT47: Pemerintah Kab. Tolitoli | AU47: A5EB03E2428FF6A0E040640A040252AD | AV47: Pemerintah Kab. Tolitoli | AW47: Pemerintah Kab. Tolitoli
A48: 196504191986021007 | B48: 131527114 | C48: ISKANDAR BATALIPU | E48: S.Pd.SD | F48: BUOL | G48: 23851 | H48: M | I48: Islam | J48: Menikah | K48: '7204071904650001 | M48: radenkia00@gmail.com | O48: JL. SYAIFUL MULUK DESA BUNTUNA | P48: '00.487.204.0.834.000 | Q48: '0000135302613 | R48: 15 | S48: Aktif | T48: A198800047388 | U48: 830/03/PN/DPB | V48: 31441 | W48: 31444 | Z48: 32174 | AA48: 21 | AB48: II/a | AC48: 42 | AD48: IV/b | AE48: 44835 | AF48: 32 | AG48: 8 | AH48: Jabatan Fungsional | AI48: Guru Ahli Madya | AK48: 45120 | AL48: 40 | AM48: S-1/Sarjana | AN48: 7634B30B9A590205E050640A29031FF8 | AO48: S-1 PGSD (PENDIDIKAN GURU SEKOLAH DASAR) | AP48: 2009 | AQ48: BAOLAN | AR48: SD Negeri 2 Tambun - Dinas Pendidikan Dan Kebudayaan | AS48: Pemerintah Kab. Tolitoli | AT48: Pemerintah Kab. Tolitoli | AU48: A5EB03E2428FF6A0E040640A040252AD | AV48: Pemerintah Kab. Tolitoli | AW48: Pemerintah Kab. Tolitoli
A49: 196504251984122004 | B49: 131210456 | C49: WINARNI | E49: A.Ma.Pd | F49: TOLITOLI | G49: 23857 | H49: F | I49: Islam | J49: Menikah | K49: '7204086504650002 | L49: 81341391649 | M49: winarni.250465@gmail.com | O49: DESA AUNG KECAMATAN GALANG | P49: '79.123.636.7.834.000 | Q49: '0000135293793 | R49: 15 | S49: Aktif | T49: A198600041990 | U49: 329/ROPEG.I/PNS/DPB/84 | V49: 31012 | W49: 31017 | X49: P&K : 82/L/BT/86 | Y49: 31642 | Z49: 31656 | AA49: 21 | AB49: II/a | AC49: 41 | AD49: IV/a | AE49: 38991 | AF49: 16 | AG49: 10 | AH49: Jabatan Fungsional | AI49: Guru Ahli Madya | AK49: 44670 | AL49: 25 | AM49: Diploma II | AN49: A5EB03E21343F6A0E040640A040252AD | AO49: D-II | AP49: 2002 | AQ49: GALANG | AR49: SD Negeri 1 Bajugan - Dinas Pendidikan Dan Kebudayaan | AS49: Pemerintah Kab. Tolitoli | AT49: Pemerintah Kab. Tolitoli | AU49: A5EB03E2428FF6A0E040640A040252AD | AV49: Pemerintah Kab. Tolitoli | AW49: Pemerintah Kab. Tolitoli
A50: 196505041999031006 | B50: 80127943 | C50: SUKONO | E50: SP | F50: LAMPUNG SELATAN | G50: 23866 | H50: M | I50: Islam | J50: Menikah | K50: '7204070405650002 | L50: 85241075882 | M50: sukonosukono15@gmail.com | O50: JL. TADULAKO 18 KEL. TUWELEY | P50: '78.800.882.9.834.000 | Q50: '0000135238555 | R50: 15 | S50: Aktif | T50: A200000003067 | U50: KP.330/548/PB/B2.3/VI/1999 | V50: 36339 | W50: 36220 | X50: KP.340/07/SK/II/2000 | Y50: 36566 | Z50: 36586 | AA50: 21 | AB50: II/a | AC50: 41 | AD50: IV/a | AE50: 44105 | AF50: 27 | AG50: 6 | AH50: Jabatan Fungsional | AI50: Penyuluh Pertanian Ahli Madya | AK50: 44925 | AL50: 40 | AM50: S-1/Sarjana | AN50: 8ae482894821745f01483093c20a066f | AO50: S-1 AGRIBISNIS PERTANIAN | AP50: 2011 | AQ50: TOLITOLI | AR50: UPT. BALAI PENYULUH PERTANIAN DINAS TANAMAN PANGAN DAN HORTIKULTURA - Dinas Tanaman Pangan Dan Hortikultura | AS50: Pemerintah Kab. Tolitoli | AT50: Pemerintah Kab. Tolitoli | AU50: A5EB03E2428FF6A0E040640A040252AD | AV50: Pemerintah Kab. Tolitoli | AW50: Pemerintah Kab. Tolitoli
A51: 196505081989091001 | B51: 131827528 | C51: WIJI | E51: S.Pd | F51: BLORA | G51: 23870 | H51: M | I51: Islam | J51: Menikah | K51: '7204040805650002 | L51: 85241719205 | M51: wijilabonu65@yahoo.com | O51: DESA LABONU KEC. BASIDONDO | P51: '892883372834000 | Q51: '0000135313334 | R51: 15 | S51: Aktif | T51: A199100020167 | U51: 813.2/60/DPB/1989 | V51: 32750 | W51: 32752 | X51: 13/821.12/BT/PN/1991 | Y51: 33269 | Z51: 33270 | AA51: 21 | AB51: II/a | AC51: 42 | AD51: IV/b | AE51: 43922 | AF51: 25 | AG51: 7 | AH51: Jabatan Fungsional | AI51: Guru Ahli Madya | AK51: 43922 | AL51: 40 | AM51: S-1/Sarjana | AN51: ff80808147e76ffd0147f23adb30009a | AO51: S-1 SARJANA PENDIDIKAN | AP51: 2007 | AQ51: BASIDONDO | AR51: SD Negeri 3 Basi - Dinas Pendidikan Dan Kebudayaan | AS51: Pemerintah Kab. Tolitoli | AT51: Pemerintah Kab. Tolitoli | AU51: A5EB03E2428FF6A0E040640A040252AD | AV51: Pemerintah Kab. Tolitoli | AW51: Pemerintah Kab. Tolitoli
A52: 196505161989101005 | B52: 131827784 | C52: MUHAMMAD SYAFEI | F52: BARRU | G52: 23878 | H52: M | I52: Islam | J52: Menikah | K52: '7204021605650001 | L52: 85394358173 | M52: muh.syafei66@yahoo.com | O52: DESA MALAMBIBU, KECAMATAN DAMPAL UTARA | P52: '97.153.290.8-834.000 | Q52: '0000135315639 | R52: 15 | S52: Aktif | T52: A199100020501 | U52: 813.2/82/DPB/1989 | V52: 32779 | W52: 32782 | X52: 29/821.12/BT/PN/91 | Y52: 33269 | Z52: 33270 | AA52: 21 | AB52: II/a | AC52: 34 | AD52: III/d | AE52: 41548 | AF52: 19 | AG52: 0 | AH52: Jabatan Fungsional | AI52: Guru Ahli Muda | AK52: 44670 | AL52: 15 | AM52: SLTA | AN52: A5EB03E20C36F6A0E040640A040252AD | AO52: SPG PENDIDIKAN SD | AP52: 1985 | AQ52: DAMPAL UTARA | AR52: SD Negeri Mosing - Dinas Pendidikan Dan Kebudayaan | AS52: Pemerintah Kab. Tolitoli | AT52: Pemerintah Kab. Tolitoli | AU52: A5EB03E2428FF6A0E040640A040252AD | AV52: Pemerintah Kab. Tolitoli | AW52: Pemerintah Kab. Tolitoli
A53: 196506021992031009 | B53: 110047911 | C53: R FADJAR SUKO SYUHADHA | D53: Ir | E53: MT | F53: BOJONEGORO | G53: 23895 | H53: M | I53: Islam | J53: Menikah | K53: '7204070206650001 | L53: 81357021009 | M53: awie_digital@yahoo.com | O53: JLN. ISMAIL BANTILAN NO. 73 TOLITOLI | P53: '14.530.134.7-834.000 | Q53: '0000135321399 | R53: 15 | S53: Aktif | T53: A199400012902 | U53: KEP.007/A/W-19/92-F | V53: 33687 | W53: 33664 | X53: KEP.002/C/W-19/94-F | Y53: 34351 | Z53: 34366 | AA53: 31 | AB53: III/a | AC53: 43 | AD53: IV/c | AE53: 41913 | AF53: 22 | AG53: 7 | AH53: Jabatan Struktural | AI53: Kepala Dinas Pekerjaan Umum Dan Penataan Ruang | AJ53: II b | AK53: 43609 | AL53: 45 | AM53: S-2 | AN53: A5EB03E21C01F6A0E040640A040252AD | AO53: S-2 TEKNIK SIPIL | AP53: 2009 | AQ53: BAOLAN | AR53: Dinas Pekerjaan Umum Dan Penataan Ruang - Pemerintah Kabupaten Tolitoli | AS53: Pemerintah Kab. Tolitoli | AT53: Pemerintah Kab. Tolitoli | AU53: A5EB03E2428FF6A0E040640A040252AD | AV53: Pemerintah Kab. Tolitoli | AW53: Pemerintah Kab. Tolitoli
A54: 196506031993031009 | B54: 132051173 | C54: SYAFRUDDIN | D54: DRS | F54: SIDENRENG RAPPANG | G54: 23896 | H54: M | I54: Islam | J54: Menikah | K54: '7204070306650001 | L54: 81341069431 | M54: syafruddinsmp5@gmail.com | O54: JLN. HI. HASAN LINGKUNGAN III DINOPI | P54: '78.498.156.5.834.000 | Q54: '0000135292263 | R54: 15 | S54: Aktif | T54: A199500010807 | U54: 279/C/I.24.I/1993 | V54: 34118 | W54: 34029 | X54: 245/I.24/Ca.2/1995 | Y54: 34730 | Z54: 34731 | AA54: 31 | AB54: III/a | AC54: 42 | AD54: IV/b | AE54: 41913 | AF54: 21 | AG54: 7 | AH54: Jabatan Fungsional | AI54: Guru Ahli Madya | AK54: 41913 | AL54: 40 | AM54: S-1/Sarjana | AN54: ff8080815133783a01513858a0106b7b | AO54: S-1 PENDIDIKAN GEOGRAFI | AP54: 1989 | AQ54: TOLITOLI | AR54: SMP NEGERI 3 TOLITOLI - Dinas Pendidikan Dan Kebudayaan | AS54: Pemerintah Kab. Tolitoli | AT54: Pemerintah Kab. Tolitoli | AU54: A5EB03E2428FF6A0E040640A040252AD | AV54: Pemerintah Kab. Tolitoli
A55: 196506162006041008 | B55: 570021312 | C55: MOHAMMAD RUM | D55: Ir. | F55: TOLITOLI | G55: 23909 | H55: M | I55: Islam | J55: Menikah | K55: '7204071606650001 | L55: 85215553241 | M55: mohammadrum68@gmail.com | O55: BTN GRIYA NALU BLOK B2 NO. 6 KELURAHAN NALU KECAMATAN BAOLAN | P55: '78.800.859.7.834.000 | Q55: '0000135238285 | R55: 15 | S55: Aktif | T55: A200700004515 | U55: 813.3/5141-CPNS/BAG.KEPEG | V55: 39038 | W55: 38808 | X55: 821.3/2438-PNS/TT/2007 | Y55: 39353 | Z55: 39356 | AA55: 31 | AB55: III/a | AC55: 43 | AD55: IV/c | AE55: 45505 | AF55: 30 | AG55: 8 | AH55: Jabatan Fungsional | AI55: Penyuluh Pertanian Ahli Madya | AK55: 44925 | AL55: 40 | AM55: S-1/Sarjana | AN55: A5EB03E20F49F6A0E040640A040252AD | AO55: S-1 BUDIDAYA PERTANIAN | AP55: 1992 | AQ55: TOLITOLI | AR55: UPT. BALAI PENYULUH PERTANIAN DINAS TANAMAN PANGAN DAN HORTIKULTURA - Dinas Tanaman Pangan Dan Hortikultura | AS55: Pemerintah Kab. Tolitoli | AT55: Pemerintah Kab. Tolitoli | AU55: A5EB03E2428FF6A0E040640A040252AD | AV55: Pemerintah Kab. Tolitoli | AW55: Pemerintah Kab. Tolitoli
A56: 196506222006042004 | B56: 570021193 | C56: FITRI D SWATAN | D56: Dra. | F56: MALOMBA | G56: 23915 | H56: F | I56: Islam | J56: Menikah | K56: '7205136206650001 | L56: 85298649011 | M56: fitri_swatan@yahoo.com | O56: JL.TRANS SULAWESI DESA LAKUAN TOLITOLI | P56: '78.498.105.2834.000 | Q56: '0000135300396 | R56: 15 | S56: Aktif | T56: A200700004574 | U56: 813.2/5462/CPNS/BAG.KEPEG | V56: 39048 | W56: 38808 | X56: 821.2/2162/PNS/TT/2007 | Y56: 39353 | Z56: 39356 | AA56: 21 | AB56: II/a | AC56: 42 | AD56: IV/b | AE56: 45200 | AF56: 23 | AG56: 8 | AH56: Jabatan Fungsional | AI56: Guru Ahli Madya | AK56: 44287 | AL56: 40 | AM56: S-1/Sarjana | AN56: 8ae48287511e3ed5015137cbbd2163ae | AO56: S-1 PENDIDIKAN AGAMA ISLAM | AP56: 1992 | AQ56: LAKUAN TOLITOLI | AR56: SMP Negeri 3 Tolitoli Utara - Dinas Pendidikan Dan Kebudayaan | AS56: Pemerintah Kab. Tolitoli | AT56: Pemerintah Kab. Tolitoli | AU56: A5EB03E2428FF6A0E040640A040252AD | AV56: Pemerintah Kab. Tolitoli
A57: 196506232006042005 | B57: 570021416 | C57: ROSSANTI | E57: S.Pd | F57: AMBON | G57: 23916 | H57: F | I57: Islam | J57: Menikah | K57: '7204076306650002 | L57: 82271326512 | M57: rossanti23061965@gmail.com | O57: ASRAMA POLISI KEL. PANASAKAN | P57: '69.806.280.9-834.000 | Q57: '0000135309227 | R57: 15 | S57: Aktif | T57: A200700004584 | U57: 813.2/5446-CPNSD/Bag.Kepeg | V57: 39038 | W57: 38808 | X57: 821.2/2230-PNS/TT/2007 | Y57: 39353 | Z57: 39356 | AA57: 21 | AB57: II/a | AC57: 31 | AD57: III/a | AE57: 45017 | AF57: 21 | AG57: 3 | AH57: Jabatan Fungsional | AI57: Guru Ahli Pertama | AK57: 44927 | AL57: 40 | AM57: S-1/Sarjana | AN57: ff80808147e76ffd0147f23adb30009a | AO57: S-1 SARJANA PENDIDIKAN | AP57: 2021 | AQ57: TOLITOLI | AR57: SD Negeri Percontohan - Dinas Pendidikan Dan Kebudayaan | AS57: Pemerintah Kab. Tolitoli | AT57: Pemerintah Kab. Tolitoli | AU57: A5EB03E2428FF6A0E040640A040252AD | AV57: Pemerintah Kab. Tolitoli | AW57: Pemerintah Kab. Tolitoli
A58: 196506241993031011 | B58: 132048707 | C58: SURYADI ANWAR | E58: S.Pd | F58: SIDENRENG RAPPANG | G58: 23917 | H58: M | I58: Islam | J58: Menikah | K58: '7204032406650001 | L58: 85325554065 | M58: suryadianwar1965@gmail.com | O58: DUSUN GONGGOL DESA TINABOGAN KECAMATAN DONDO | P58: '008292500834000 | Q58: '006883 1 200302 | R58: 15 | S58: Aktif | T58: A199500011268 | U58: 51/I.24.1/1995 | V58: 34729 | W58: 34029 | X58: 101/I.24.1/C.2/1995 | Y58: 34730 | Z58: 34731 | AA58: 21 | AB58: II/a | AC58: 41 | AD58: IV/a | AE58: 41913 | AF58: 16 | AG58: 7 | AH58: Jabatan Fungsional | AI58: Guru Ahli Madya | AK58: 43130 | AL58: 40 | AM58: S-1/Sarjana | AN58: 8ae48287519e71b20151a49ac4234242 | AO58: S-1 BAHASA INDONESIA | AP58: 2002 | AQ58: BASIDONDO | AR58: SMP Negeri Satu Atap Sibaluton - Dinas Pendidikan Dan Kebudayaan | AS58: Pemerintah Kab. Tolitoli | AT58: Pemerintah Kab. Tolitoli | AU58: A5EB03E2428FF6A0E040640A040252AD | AV58: Pemerintah Kab. Tolitoli
A59: 196507031986021007 | B59: 131527115 | C59: AZIS | E59: A.Ma.Pd | F59: BUOL | G59: 23926 | H59: M | I59: Islam | J59: Menikah | K59: '7204050307650001 | L59: 82122616153 | M59: azissambujang@gmail.com | O59: JL. TADULAKO II NO. 67 | P59: '89.054.156.8834.000 | Q59: '0000135298787 | R59: 15 | S59: Aktif | T59: A198900033229 | U59: 830/08/PN/DPB | V59: 31441 | W59: 31444 | X59: 10/821.12/BT/PN/1989 | Y59: 32567 | Z59: 32568 | AA59: 21 | AB59: II/a | AC59: 41 | AD59: IV/a | AE59: 40817 | AF59: 20 | AG59: 8 | AH59: Jabatan Fungsional | AI59: Guru Ahli Madya | AK59: 44924 | AL59: 25 | AM59: Diploma II | AN59: A5EB03E2100AF6A0E040640A040252AD | AO59: D-II/A-II | AP59: 2005 | AQ59: OGODEIDE | AR59: SD Negeri 1 Sambujang - Dinas Pendidikan Dan Kebudayaan | AS59: Pemerintah Kab. Tolitoli | AT59: Pemerintah Kab. Tolitoli | AU59: A5EB03E2428FF6A0E040640A040252AD | AV59: Pemerintah Kab. Tolitoli | AW59: Pemerintah Kab. Tolitoli
A60: 196507121995121006 | B60: 132113093 | C60: BUHARI HI AZIS | E60: S.Pd | F60: TOLITOLI | G60: 23935 | H60: M | I60: Islam | J60: Menikah | K60: '7204101207650001 | L60: 82196223933 | M60: buharihiazis@gmail.com | O60: JALAN TRANS SULAWESI NO. 15 DESA GALUMPANG KEC. DAKO PAMEAN | P60: '79.391.677.6.834.000 | Q60: '0000135203578 | R60: 15 | S60: Aktif | T60: A199700005868 | U60: 813.2/43-DPB/1995 | V60: 35030 | W60: 35034 | X60: 821/92.22/PDK | Y60: 35581 | Z60: 35582 | AA60: 21 | AB60: II/a | AC60: 41 | AD60: IV/a | AE60: 43922 | AF60: 19 | AG60: 4 | AH60: Jabatan Fungsional | AI60: Guru Madya | AK60: 43922 | AL60: 25 | AM60: Diploma II | AN60: A5EB03E21343F6A0E040640A040252AD | AO60: D-II | AP60: 2002 | AQ60: TOLITOLI | AR60: SD Negeri 2 Galumpang - Dinas Pendidikan Dan Kebudayaan | AS60: Pemerintah Kab. Tolitoli | AT60: Pemerintah Kab. Tolitoli | AU60: A5EB03E2428FF6A0E040640A040252AD | AV60: Pemerintah Kab. Tolitoli
A61: 196507151986112003 | B61: 131555561 | C61: WARDA | E61: S.PD | F61: BANGKIR | G61: 23938 | H61: F | I61: Islam | J61: Menikah | K61: '7204034412550001 | L61: 85330737612 | M61: wisnoarisandi@gmail.com | O61: JL STADION OO 04 | P61: '78.496.571.7.834000 | Q61: '0000135313312 | R61: 15 | S61: Aktif | T61: A199100022420 | U61: 830/187/DPB/86 | V61: 31713 | W61: 31717 | X61: 59/821.12/BT/BS/91 | Y61: 33388 | Z61: 33390 | AA61: 21 | AB61: II/a | AC61: 41 | AD61: IV/a | AE61: 40817 | AF61: 19 | AG61: 11 | AH61: Jabatan Fungsional | AI61: Guru Pembina | AK61: 40817 | AL61: 40 | AM61: S-1/Sarjana | AN61: ff808081513cb660015146b65681720c | AO61: S-1 AGAMA ISLAM | AP61: 2002 | AQ61: BAOLAN | AR61: SD Negeri Pembina - Dinas Pendidikan Dan Kebudayaan | AS61: Pemerintah Kab. Tolitoli | AT61: Pemerintah Kab. Tolitoli | AU61: A5EB03E2428FF6A0E040640A040252AD | AV61: Pemerintah Kab. Tolitoli | AW61: Pemerintah Kab. Tolitoli
A62: 196507151988032023 | B62: 131743522 | C62: SAHMIN NUWA | E62: S.Pd | F62: GORONTALO | G62: 23938 | H62: F | I62: Islam | J62: Menikah | K62: '7204075507650003 | L62: 82293825998 | M62: sahminnuwa3@gmail.com | O62: JALAN MADAKO NO. 15 KEL. BARU | P62: '78.497.632.6.834.000 | Q62: '0000135239411 | R62: 15 | S62: Aktif | T62: A198900033925 | U62: 813.2/34/DPB/1988 | V62: 32199 | W62: 32203 | X62: 31/821.12/BT/PN/89 | Y62: 32811 | Z62: 32813 | AA62: 21 | AB62: II/a | AC62: 42 | AD62: IV/b | AE62: 44105 | AF62: 27 | AG62: 7 | AH62: Jabatan Fungsional | AI62: Guru Ahli Madya | AK62: 44105 | AL62: 40 | AM62: S-1/Sarjana | AN62: 761C992BDCF610A1E050640A29037230 | AO62: S-1 PENDIDIKAN PGSD | AP62: 2009 | AQ62: TOLITOLI | AR62: SD Negeri Percontohan - Dinas Pendidikan Dan Kebudayaan | AS62: Pemerintah Kab. Tolitoli | AT62: Pemerintah Kab. Tolitoli | AU62: A5EB03E2428FF6A0E040640A040252AD | AV62: Pemerintah Kab. Tolitoli | AW62: Pemerintah Kab. Tolitoli
A63: 196507201989091001 | B63: 131827522 | C63: PONIMAN | E63: S.Pd | F63: CILACAP | G63: 23943 | H63: M | I63: Islam | J63: Menikah | K63: '7204042007650001 | L63: 85342465632 | M63: ponimankepsek@gmail.com | O63: Dusun Wonodadi Desa Kayulompa Kabupaten Tolitoli | P63: '159567825834000 | Q63: '0000135241233 | R63: 15 | S63: Aktif | T63: A199100022577 | U63: 813.2/60/DPB/1989 | V63: 32750 | W63: 32752 | X63: P&K 36/821.12/BT/PN/91 | Y63: 33297 | Z63: 33298 | AA63: 21 | AB63: II/a | AC63: 42 | AD63: IV/b | AE63: 43556 | AF63: 24 | AG63: 7 | AH63: Jabatan Fungsional | AI63: Guru Ahli Madya | AK63: 44670 | AL63: 40 | AM63: S-1/Sarjana | AN63: ff80808147e76ffd0147f23adb30009a | AO63: S-1 SARJANA PENDIDIKAN | AP63: 2015 | AQ63: BASIDONDO | AR63: SD Negeri Dontong - Dinas Pendidikan Dan Kebudayaan | AS63: Pemerintah Kab. Tolitoli | AT63: Pemerintah Kab. Tolitoli | AU63: A5EB03E2428FF6A0E040640A040252AD | AV63: Pemerintah Kab. Tolitoli | AW63: Pemerintah Kab. Tolitoli
A64: 196508091992031006 | B64: 570011024 | C64: NASIR DAENG SILASA | E64: ST.,M.Sc | F64: TOLITOLI | G64: 23963 | H64: M | I64: Islam | J64: Menikah | K64: '7204070908650002 | L64: 82301113339 | M64: nasirsilasa@gmail.com | O64: JL.MERPATI II NO.36, KELURAHAN TUWELEY, KECAMATAN BAOLAN, KABUPATEN TOLITOLI | P64: '779824465834000 | Q64: '0000135218349 | R64: 15 | S64: Aktif | T64: A199300016304 | U64: 813.2.PD/319-CP/1992 | V64: 33875 | W64: 33664 | X64: 821.2.PD/204-PEG/93 | Y64: 34150 | Z64: 34151 | AA64: 22 | AB64: II/b | AC64: 43 | AD64: IV/c | AE64: 44470 | AF64: 27 | AG64: 7 | AH64: Jabatan Fungsional | AI64: Pengawas Pemerintahan Madya / Ahli Madya | AK64: 43466 | AL64: 45 | AM64: S-2 | AN64: ff808081377e762d013782dc6c193409 | AO64: S-2 MASTER OF SCIENCE | AP64: 2008 | AQ64: BAOLAN | AR64: Inspektur IV - Inspektorat Daerah | AS64: Pemerintah Kab. Tolitoli | AT64: Pemerintah Kab. Tolitoli | AU64: A5EB03E2428FF6A0E040640A040252AD | AV64: Pemerintah Kab. Tolitoli | AW64: Pemerintah Kab. Tolitoli
A65: 196508141986012002 | B65: 131573707 | C65: MARITJE HADJU | F65: GORONTALO | G65: 23968 | H65: F | I65: Islam | J65: Menikah | K65: '7204035408650002 | L65: 85213362765 | M65: maritjehadju65@gmail.com | O65: JL KALIMANTAN NO 88 | P65: '77.979.614.3.834.000 | Q65: '0000135196042 | R65: 15 | S65: Aktif | T65: A198700054748 | U65: 53658/A2.IV.1/C/1986 | V65: 31590 | W65: 31413 | X65: 1082/Kepeg/Ca-2/Kwst/1987 | Y65: 32111 | Z65: 32112 | AA65: 21 | AB65: II/a | AC65: 41 | AD65: IV/a | AE65: 38991 | AF65: 15 | AG65: 9 | AH65: Jabatan Fungsional | AI65: Guru Pembina | AK65: 42746 | AL65: 20 | AM65: Diploma I | AN65: A5EB03E20DE4F6A0E040640A040252AD | AO65: D-I/A-I BAHASA DAN SASTRA INDONESIA | AP65: 1985 | AQ65: DONDO | AR65: SMP Negeri 1 Dondo - Dinas Pendidikan Dan Kebudayaan | AS65: Pemerintah Kab. Tolitoli | AT65: Pemerintah Kab. Tolitoli | AU65: A5EB03E2428FF6A0E040640A040252AD | AV65: Pemerintah Kab. Tolitoli | AW65: Pemerintah Kab. Tolitoli
A66: 196508152000121003 | B66: 132275646 | C66: BANGUN | D66: Drs. | F66: LUWU | G66: 23969 | H66: M | I66: Islam | J66: Menikah | K66: '7204051508650001 | L66: 81245408340 | M66: bangunrian1965@gmail.com | O66: JL SULAWESI DESA MUARA BESAR | P66: '784965550834000 | Q66: '0000135201069 | R66: 15 | S66: Aktif | T66: A200200003191 | U66: 13297/124.03/KP/2000 | V66: 36890 | W66: 36861 | X66: 821.3.PD-PEG/TT/2002 | Y66: 37345 | Z66: 37347 | AA66: 31 | AB66: III/a | AC66: 41 | AD66: IV/a | AE66: 44652 | AF66: 21 | AG66: 4 | AH66: Jabatan Fungsional | AI66: Guru Madya | AK66: 44652 | AL66: 40 | AM66: S-1/Sarjana | AN66: A5EB03E20D14F6A0E040640A040252AD | AO66: S-1 PENDIDIKAN KESEHATAN DAN REKREASI | AP66: 1992 | AQ66: OGODEIDE | AR66: SMP Negeri 1 Ogodeide - Dinas Pendidikan Dan Kebudayaan | AS66: Pemerintah Kab. Tolitoli | AT66: Pemerintah Kab. Tolitoli | AU66: A5EB03E2428FF6A0E040640A040252AD | AV66: Pemerintah Kab. Tolitoli | AW66: Pemerintah Kab. Tolitoli
A67: 196508241988032010 | B67: 131743545 | C67: FAISAL DAUD A USU | F67: GORONTALO | G67: 23978 | H67: F | I67: Islam | J67: Menikah | K67: '7204026408650001 | L67: 82293378050 | M67: Faisaldusu24@gmail.com | O67: DESA OGOTUA, KEC. DAMPAL UTARA. KAB. TOLITOLI PROVINSI SULAWESI TENGAH | P67: '16.256.030.4.834.000 | Q67: '0000135315011 | R67: 15 | S67: Aktif | T67: A198900035692 | U67: 813.2/34//DPB/1988 | V67: 32199 | W67: 32203 | X67: 27/821.12/BT/PN/89 | Y67: 32811 | Z67: 32813 | AA67: 21 | AB67: II/a | AC67: 41 | AD67: IV/a | AE67: 41913 | AF67: 21 | AG67: 7 | AH67: Jabatan Fungsional | AI67: Guru Ahli Madya | AK67: 44670 | AL67: 15 | AM67: SLTA | AN67: A5EB03E20C36F6A0E040640A040252AD | AO67: SPG PENDIDIKAN SD | AP67: 1985 | AQ67: DAMPAL UTARA | AR67: SD Negeri Taring - Dinas Pendidikan Dan Kebudayaan | AS67: Pemerintah Kab. Tolitoli | AT67: Pemerintah Kab. Tolitoli | AU67: A5EB03E2428FF6A0E040640A040252AD | AV67: Pemerintah Kab. Tolitoli | AW67: Pemerintah Kab. Tolitoli
A68: 196509111993031011 | B68: 570011411 | C68: MOHAMMAD AKBAR SYAH | D68: Ir. | F68: TOLITOLI | G68: 23996 | H68: M | I68: Islam | J68: Menikah | K68: '7204071109650002 | L68: 81245396071 | M68: bakbarsyahbaadib@yahoo.com | O68: JL.VETERAN V KEL BARU | P68: '14.183.8045.834000 | Q68: '0000135179482 | R68: 15 | S68: Aktif | T68: A199400015486 | U68: 813.3.PD/105-CP/93 | V68: 34151 | W68: 34029 | X68: 821.3.PD/117-PEG/94 | Y68: 34501 | Z68: 34516 | AA68: 31 | AB68: III/a | AC68: 43 | AD68: IV/c | AE68: 41730 | AF68: 22 | AG68: 0 | AH68: Jabatan Struktural | AI68: Staf Ahli Bidang Kemasyarakatan Dan Sumber Daya Manusia | AJ68: II b | AK68: 44853 | AL68: 40 | AM68: S-1/Sarjana | AN68: ff8080815133783a0151386c2ec579f7 | AO68: S-1 PERTANIAN | AP68: 1991 | AQ68: BAOLAN | AR68: Staf Ahli Bidang Kemasyarakatan Dan Sumber Daya Manusia - Sekretariat Daerah | AS68: Pemerintah Kab. Tolitoli | AT68: Pemerintah Kab. Tolitoli | AU68: A5EB03E2428FF6A0E040640A040252AD | AV68: Pemerintah Kab. Tolitoli | AW68: Pemerintah Kab. Tolitoli
A69: 196509141986012002 | B69: 131578322 | C69: INNEKE JOOLA ELSJE GIROTH | E69: S.Pd | F69: MINAHASA | G69: 23999 | H69: F | I69: Kristen | J69: Menikah | K69: '7204075409650001 | L69: 81354516806 | M69: innekegiroth@gmail.com | O69: JLN. SONA NO.92 KEL.NALU | P69: '47.768.207.4.834.000 | Q69: '0000135328059 | R69: 15 | S69: Aktif | T69: A198700055927 | U69: 48756/ A2.IV.1 /C /1986 | V69: 31555 | W69: 31413 | X69: 777/ kepeg / ca-2 /kwst/ 1987 | Y69: 32111 | Z69: 32112 | AA69: 22 | AB69: II/b | AC69: 42 | AD69: IV/b | AE69: 44652 | AF69: 17 | AG69: 3 | AH69: Jabatan Fungsional | AI69: Guru Madya | AK69: 44652 | AL69: 40 | AM69: S-1/Sarjana | AN69: A5EB03E21BC1F6A0E040640A040252AD | AO69: A-IV BAHASA INDONESIA | AP69: 2002 | AQ69: TOLITOLI | AR69: SMP Negeri 5 Tolitoli - Dinas Pendidikan Dan Kebudayaan | AS69: Pemerintah Kab. Tolitoli | AT69: Pemerintah Kab. Tolitoli | AU69: A5EB03E2428FF6A0E040640A040252AD | AV69: Pemerintah Kab. Tolitoli | AW69: Pemerintah Kab. Tolitoli
A70: 196509151985122001 | B70: 131449553 | C70: RATNA | E70: S.Pd | F70: MAKASSAR | G70: 24000 | H70: F | I70: Islam | J70: Menikah | K70: '7204075509850001 | L70: 0 | M70: hj_ratna96@yahoo.com | O70: KEL TAMBUN | P70: '79.122.429.8.834.000 | Q70: '0000135308722 | R70: 15 | S70: Aktif | T70: A198700055972 | W70: 31382 | Z70: 31990 | AA70: 21 | AB70: II/a | AC70: 42 | AD70: IV/b | AE70: 44287 | AF70: 30 | AG70: 4 | AH70: Jabatan Fungsional | AI70: Guru Madya | AK70: 44287 | AL70: 40 | AM70: S-1/Sarjana | AN70: ff80808147e76ffd0147f23adb30009a | AO70: S-1 SARJANA PENDIDIKAN | AP70: 2018 | AQ70: BAOLAN | AR70: SD Negeri 3 Tambun - Dinas Pendidikan Dan Kebudayaan | AS70: Pemerintah Kab. Tolitoli | AT70: Pemerintah Kab. Tolitoli | AU70: A5EB03E2428FF6A0E040640A040252AD | AV70: Pemerintah Kab. Tolitoli | AW70: Pemerintah Kab. Tolitoli
A71: 196509171988032009 | B71: 131743588 | C71: YULIN H. LARADA | E71: S.Pd | F71: TOLITOLI | G71: 24002 | H71: F | I71: Islam | J71: Menikah | K71: '7204095709650001 | L71: 82210018669 | M71: yulinhlarada@gmail.com | O71: DESA LAKUAN TOLI-TOLI | P71: '78.805.524.2834.000 | Q71: '0000135240063 | R71: 15 | S71: Aktif | T71: A199000034569 | U71: 813.2/34/DPB/1988 | V71: 32199 | W71: 32203 | X71: 162/821.12BT/PN/1990 | Y71: 32932 | Z71: 32933 | AA71: 21 | AB71: II/a | AC71: 34 | AD71: III/d | AE71: 45200 | AF71: 30 | AG71: 7 | AH71: Jabatan Fungsional | AI71: Guru Ahli Muda | AK71: 44670 | AL71: 40 | AM71: S-1/Sarjana | AN71: ff80808147e76ffd0147f23adb30009a | AO71: S-1 SARJANA PENDIDIKAN | AP71: 2017 | AQ71: LAKUAN TOLITOLI | AR71: SD Negeri 2 Binontoan - Dinas Pendidikan Dan Kebudayaan | AS71: Pemerintah Kab. Tolitoli | AT71: Pemerintah Kab. Tolitoli | AU71: A5EB03E2428FF6A0E040640A040252AD | AV71: Pemerintah Kab. Tolitoli | AW71: Pemerintah Kab. Tolitoli
A72: 196509231988031009 | B72: 80094678 | C72: LIS PUJI WIYONO | E72: SP | F72: NGANJUK | G72: 24008 | H72: M | I72: Islam | J72: Menikah | K72: '7204052309650001 | L72: 81254425762 | M72: karmilamila90637@gmail.com | O72: DUSUN TENGAH DESA MALOMBA KEC. DONDO KAB. TOLITOLI | P72: '78.800.865.4.834.000 | Q72: '0000135238173 | R72: 15 | S72: Aktif | T72: A199000034801 | U72: KP. 330/9109/6/1988 | V72: 35961 | W72: 32203 | X72: 316/KPT/UP/SK. VI-A/PN/90 | Y72: 32897 | Z72: 32905 | AA72: 21 | AB72: II/a | AC72: 42 | AD72: IV/b | AE72: 44835 | AF72: 30 | AG72: 9 | AH72: Jabatan Fungsional | AI72: Penyuluh Pertanian Ahli Madya | AK72: 44925 | AL72: 40 | AM72: S-1/Sarjana | AN72: A5EB03E20F23F6A0E040640A040252AD | AO72: S-1 PERTANIAN | AP72: 2008 | AQ72: TOLITOLI | AR72: UPT. BALAI PENYULUH PERTANIAN DINAS TANAMAN PANGAN DAN HORTIKULTURA - Dinas Tanaman Pangan Dan Hortikultura | AS72: Pemerintah Kab. Tolitoli | AT72: Pemerintah Kab. Tolitoli | AU72: A5EB03E2428FF6A0E040640A040252AD | AV72: Pemerintah Kab. Tolitoli | AW72: Pemerintah Kab. Tolitoli
A73: 196509261988031006 | B73: 131743547 | C73: DARWIN S BAHARUDDIN | E73: S.Pd | F73: TOLITOLI | G73: 24011 | H73: M | I73: Islam | J73: Menikah | K73: '7204092609650001 | L73: 82291658929 | M73: darwinbaharudin9@gmail.com | O73: DESA LAKUAN TOLITOLI | P73: '78.805.507.7.834.000 | Q73: '0000135239892 | R73: 15 | S73: Aktif | T73: A198900036992 | U73: 813.2/34/dpb/88 | V73: 32199 | W73: 32203 | X73: 8/82/12/bt/pm/89 | Y73: 32811 | Z73: 32813 | AA73: 21 | AB73: II/a | AC73: 41 | AD73: IV/a | AE73: 44470 | AF73: 28 | AG73: 7 | AH73: Jabatan Fungsional | AI73: Guru Ahli Madya | AK73: 44670 | AL73: 40 | AM73: S-1/Sarjana | AN73: ff80808147e76ffd0147f23adb30009a | AO73: S-1 SARJANA PENDIDIKAN | AP73: 2019 | AQ73: TOLI-TOLI UTARA | AR73: SD Negeri 2 Lakuan Tolitoli - Dinas Pendidikan Dan Kebudayaan | AS73: Pemerintah Kab. Tolitoli | AT73: Pemerintah Kab. Tolitoli | AU73: A5EB03E2428FF6A0E040640A040252AD | AV73: Pemerintah Kab. Tolitoli | AW73: Pemerintah Kab. Tolitoli
A74: 196510061989091001 | B74: 131827521 | C74: I WAYAN SUNDRA | F74: JEMBRANA | G74: 24021 | H74: M | I74: Hindu | J74: Menikah | K74: '7204040610650001 | L74: 82298153319 | M74: radenkia00@gmail.com | O74: DESA KAYULOMPA KEC. BASI DONDO | P74: '15.499.674.8-834.000 | Q74: '0000135241029 | R74: 15 | S74: Aktif | T74: A199100024920 | U74: 813.2/60/DPB/1989 | V74: 32750 | W74: 32752 | X74: P&K 30/821.12/BT/PN/91 | Y74: 33269 | Z74: 33270 | AA74: 21 | AB74: II/a | AC74: 41 | AD74: IV/a | AE74: 40452 | AF74: 16 | AG74: 1 | AH74: Jabatan Fungsional | AI74: Guru Ahli Madya | AK74: 45120 | AL74: 25 | AM74: Diploma II | AN74: A5EB03E21189F6A0E040640A040252AD | AO74: D-II/A-II PENDIDIKAN DASAR | AP74: 2002 | AQ74: BASIDONDO | AR74: SD Negeri 2 Basi - Dinas Pendidikan Dan Kebudayaan | AS74: Pemerintah Kab. Tolitoli | AT74: Pemerintah Kab. Tolitoli | AU74: A5EB03E2428FF6A0E040640A040252AD | AV74: Pemerintah Kab. Tolitoli | AW74: Pemerintah Kab. Tolitoli
A75: 196510131986012002 | B75: 131564353 | C75: SULASTRI | E75: S.Pd | F75: BUOL | G75: 24028 | H75: F | I75: Islam | J75: Menikah | K75: '7204075310650002 | L75: 85394856902 | M75: sar_tono82@yahoo.co.id | O75: JL JEND. SUDIRMAN 43B | P75: '15.499.759.7.834.000 | Q75: '0000135330524 | R75: 15 | S75: Aktif | T75: A198700057058 | U75: 97/C/I.24.1/II/1986 | V75: 31472 | W75: 31413 | X75: 628/Kepeg/Ca-2/Kwst/1987 | Y75: 32111 | Z75: 32112 | AA75: 21 | AB75: II/a | AC75: 42 | AD75: IV/b | AE75: 42644 | AF75: 25 | AG75: 9 | AH75: Jabatan Fungsional | AI75: Guru Madya | AK75: 42644 | AL75: 40 | AM75: S-1/Sarjana | AN75: 8ae482963e453bd9013e4e32c91c25c8 | AO75: S-1/A-IV PENDIDIKAN PMP DAN KEWARGANEGARAAN | AP75: 2002 | AQ75: BAOLAN | AR75: SMP Negeri 2 Tolitoli - Dinas Pendidikan Dan Kebudayaan | AS75: Pemerintah Kab. Tolitoli | AT75: Pemerintah Kab. Tolitoli | AU75: A5EB03E2428FF6A0E040640A040252AD | AV75: Pemerintah Kab. Tolitoli | AW75: Pemerintah Kab. Tolitoli
A76: 196510152003121001 | B76: 570015666 | C76: HILMI | F76: TOLITOLI | G76: 24030 | H76: M | I76: Islam | J76: Menikah | K76: '7204071510650001 | L76: 82271659823 | M76: hilmi@yahoo.com | O76: GRIYA NURDAPALAK BLOK SUEZ NO.16 | P76: '15.319.239.8.834.000 | Q76: '000013520986 | R76: 15 | S76: Aktif | T76: A200500001404 | U76: 814.2/III-CP/2004 | V76: 37998 | W76: 37956 | X76: 821.2/1686-PNS/TT/2005 | Y76: 38408 | Z76: 38412 | AA76: 21 | AB76: II/a | AC76: 32 | AD76: III/b | AE76: 45200 | AF76: 21 | AG76: 7 | AH76: Jabatan Fungsional | AI76: Guru Ahli Pertama | AK76: 44105 | AL76: 15 | AM76: SLTA | AN76: A5EB03E20C36F6A0E040640A040252AD | AO76: SPG PENDIDIKAN SD | AP76: 1986 | AQ76: BAOLAN | AR76: SD Negeri 2 Nalu - Dinas Pendidikan Dan Kebudayaan | AS76: Pemerintah Kab. Tolitoli | AT76: Pemerintah Kab. Tolitoli | AU76: A5EB03E2428FF6A0E040640A040252AD | AV76: Pemerintah Kab. Tolitoli | AW76: Pemerintah Kab. Tolitoli
A77: 196510262006041005 | B77: 570021417 | C77: ITEN NANI | F77: BOLANGITANG BARAT | G77: 24041 | H77: M | I77: Islam | J77: Menikah | K77: '7204092610650001 | L77: 82259010114 | M77: itennani75@gmail.com | O77: DESA DIULE KEC. TOLITOLI UTARA KAB. TOLITOLI | P77: '788047173834000 | Q77: '0000135302815 | R77: 15 | S77: Aktif | T77: A200700005742 | U77: 813.2/5447-CPNS/BAG. KEPEG | V77: 39038 | W77: 38808 | X77: 821.2/2240-PNS/TT/2007 | Y77: 39353 | Z77: 39356 | AA77: 21 | AB77: II/a | AC77: 24 | AD77: II/d | AE77: 44470 | AF77: 26 | AG77: 8 | AH77: Jabatan Fungsional | AI77: Guru Muda Tingkat. I | AK77: 44470 | AL77: 15 | AM77: SLTA | AN77: A5EB03E20C36F6A0E040640A040252AD | AO77: SPG PENDIDIKAN SD | AP77: 2006 | AQ77: TOLI-TOLI UTARA | AR77: SD Negeri Diule - Dinas Pendidikan Dan Kebudayaan | AS77: Pemerintah Kab. Tolitoli | AT77: Pemerintah Kab. Tolitoli | AU77: A5EB03E2428FF6A0E040640A040252AD | AV77: Pemerintah Kab. Tolitoli | AW77: Pemerintah Kab. Tolitoli
A78: 196510281986021006 | B78: 131527121 | C78: MOHAMAD SAID | E78: S.Pd.SD | F78: BUOL | G78: 24043 | H78: M | I78: Islam | J78: Menikah | K78: '7204052810650001 | L78: 85341239286 | M78: moh.said22@yaoo.com | O78: DESA BATUILO KEC. OGODEIDE | P78: '798206850834000 | Q78: '0000135305728 | R78: 15 | S78: Aktif | T78: A198700057532 | U78: 830/08/PN/DPB/1986 | V78: 31441 | W78: 31444 | X78: 28/821.12/BT/PDK | Y78: 31936 | Z78: 31959 | AA78: 21 | AB78: II/a | AC78: 42 | AD78: IV/b | AE78: 45200 | AF78: 32 | AG78: 10 | AH78: Jabatan Fungsional | AI78: Guru Ahli Madya | AK78: 39904 | AL78: 40 | AM78: S-1/Sarjana | AN78: ff80808147e76ffd0147f23adb30009a | AO78: S-1 SARJANA PENDIDIKAN | AP78: 2009 | AQ78: OGODEIDE | AR78: SD Negeri Batuilo - Dinas Pendidikan Dan Kebudayaan | AS78: Pemerintah Kab. Tolitoli | AT78: Pemerintah Kab. Tolitoli | AU78: A5EB03E2428FF6A0E040640A040252AD | AV78: Pemerintah Kab. Tolitoli | AW78: Pemerintah Kab. Tolitoli
A79: 196511031990022001 | B79: 131877784 | C79: NURLINA RAMLI | E79: S.Pd | F79: TOLITOLI | G79: 24049 | H79: F | I79: Islam | J79: Menikah | K79: '7204074311650003 | L79: 82336398924 | M79: nurlinaramli1@gmail.com | N79: nurlinaramli@smpn1tolitoli.sch.id | O79: KELURAHAN TUWELEY | P79: '498931773831000 | Q79: '0000135219159 | R79: 15 | S79: Aktif | T79: A199300018499 | U79: 09/C/I.24.1.III/1990 | V79: 32977 | W79: 32905 | X79: 15/I.24/Ca-2/1003 | Y79: 33990 | Z79: 34001 | AA79: 23 | AB79: II/c | AC79: 42 | AD79: IV/b | AE79: 43922 | AF79: 28 | AG79: 2 | AH79: Jabatan Fungsional | AI79: Guru Ahli Madya | AK79: 43830 | AL79: 40 | AM79: S-1/Sarjana | AN79: ff8080815133783a0151384fb86b655a | AO79: S-1 PENDIDIKAN BIOLOGI | AP79: 2001 | AQ79: BAOLAN | AR79: SMP Negeri 1 Tolitoli - Dinas Pendidikan Dan Kebudayaan | AS79: Pemerintah Kab. Tolitoli | AT79: Pemerintah Kab. Tolitoli | AU79: A5EB03E2428FF6A0E040640A040252AD | AV79: Pemerintah Kab. Tolitoli | AW79: Pemerintah Kab. Tolitoli
A80: 196511112006042009 | B80: 570021186 | C80: NI KETUT WIDIASTUTI | E80: S.Ag | F80: TABANAN | G80: 24057 | H80: F | I80: Hindu | J80: Belum Kawin | K80: '7204055111650001 | L80: 82271000679 | M80: niketutwidiastuti65@gmail.com | O80: DESA PAGAITAN KEC. OGODEIDE | P80: '79.121.445.5.834.000 | Q80: '0000135306808 | R80: 15 | S80: Aktif | T80: A200700005870 | U80: 813.2/5467-CPNSD/Bag.Kepeg | V80: 39038 | W80: 38808 | X80: 821.2/2169-PNS/TT/2007 | Y80: 39353 | Z80: 39356 | AA80: 21 | AB80: II/a | AC80: 23 | AD80: II/c | AE80: 41913 | AF80: 19 | AG80: 8 | AH80: Jabatan Fungsional | AI80: Guru Ahli Muda | AK80: 41913 | AL80: 15 | AM80: SLTA | AN80: A5EB03E20AD0F6A0E040640A040252AD | AO80: PGA HINDU 6 TAHUN | AP80: 1986 | AQ80: OGODEIDE | AR80: SD Negeri 4 Kamalu - Dinas Pendidikan Dan Kebudayaan | AS80: Pemerintah Kab. Tolitoli | AT80: Pemerintah Kab. Tolitoli | AU80: A5EB03E2428FF6A0E040640A040252AD | AV80: Pemerintah Kab. Tolitoli | AW80: Pemerintah Kab. Tolitoli
A81: 196511121991112001 | B81: 131940827 | C81: NURAENI RUSLI | E81: S.Pd | F81: WAJO | G81: 24058 | H81: F | I81: Islam | J81: Menikah | K81: '7204075211650001 | L81: 85241076113 | M81: nuraeni.rusliali@gmail.com | O81: WAUKARA 90 PERUMNAS KEL. BARU | P81: '79.122.408.2.834.000 | Q81: '006262 | R81: 15 | S81: Aktif | T81: A199300018725 | U81: 813.2/11/DPB/1991 | V81: 33540 | W81: 33543 | X81: 821.12/12/BT/PDK | Y81: 34120 | Z81: 34121 | AA81: 21 | AB81: II/a | AC81: 41 | AD81: IV/a | AE81: 45200 | AF81: 26 | AG81: 11 | AH81: Jabatan Fungsional | AI81: Guru Ahli Madya | AK81: 45108 | AL81: 40 | AM81: S-1/Sarjana | AN81: ff80808147e76ffd0147f23adb30009a | AO81: S-1 SARJANA PENDIDIKAN | AP81: 2014 | AQ81: GALANG | AS81: Pemerintah Kab. Tolitoli | AT81: Pemerintah Kab. Tolitoli | AU81: A5EB03E2428FF6A0E040640A040252AD | AV81: Pemerintah Kab. Tolitoli | AW81: Pemerintah Kab. Tolitoli
A82: 196511171986031013 | B82: 131555333 | C82: I MADE TAMBIN | F82: TABANAN | G82: 24063 | H82: M | I82: Hindu | J82: Menikah | K82: '7204041711650001 | L82: 82296505498 | M82: imadetambin1@gmail.com | O82: DESA KAYULOMPA KECAMATAN BASIDONDO | P82: '15.499.799.3.834.000 | Q82: '0000135302185 | R82: 15 | S82: Aktif | T82: A198700058145 | U82: 830.2/27/PN/JAB/1986 | V82: 31466 | W82: 31472 | X82: 103/821.12/BT/1987 | Y82: 32049 | Z82: 32051 | AA82: 21 | AB82: II/a | AC82: 42 | AD82: IV/b | AE82: 44287 | AF82: 30 | AG82: 1 | AH82: Jabatan Fungsional | AI82: Guru Ahli Madya | AK82: 44287 | AL82: 40 | AM82: S-1/Sarjana | AN82: A5EB03E2165BF6A0E040640A040252AD | AO82: S-1 PENDIDIKAN LUAR SEKOLAH | AP82: 2006 | AQ82: BASIDONDO | AR82: SD Negeri 2 Sibaluton - Dinas Pendidikan Dan Kebudayaan | AS82: Pemerintah Kab. Tolitoli | AT82: Pemerintah Kab. Tolitoli | AU82: A5EB03E2428FF6A0E040640A040252AD | AV82: Pemerintah Kab. Tolitoli
A83: 196511231986112001 | B83: 131555414 | C83: MARTHA RURU | E83: S.Th | F83: SIMBUANG | G83: 24069 | H83: F | I83: Kristen | J83: Menikah | K83: '7204076311650002 | L83: 85298530187 | M83: martaruru@yahoo.com | O83: JL. RAJAWALI NO. 14 KEL. TUWELEY KECAMATAN BAOLAN KABUPATEN TOLITOLI | P83: '69.806.294.0-834.000 | Q83: '0000135304615 | R83: 15 | S83: Aktif | T83: A199000037260 | U83: 830/174/DPB/1986 | V83: 31688 | W83: 31717 | X83: 165/821.12/BT/PN/1990 | Y83: 32932 | Z83: 32933 | AA83: 21 | AB83: II/a | AC83: 41 | AD83: IV/a | AE83: 44470 | AF83: 27 | AG83: 5 | AH83: Jabatan Fungsional | AI83: Guru Madya | AK83: 44470 | AL83: 40 | AM83: S-1/Sarjana | AN83: 0188A69FFF23319BE060640AF1084C74 | AO83: S-1 TEOLOGI KRISTEN | AP83: 2010 | AQ83: BAOLAN | AR83: SD Negeri 13 Tolitoli - Dinas Pendidikan Dan Kebudayaan | AS83: Pemerintah Kab. Tolitoli | AT83: Pemerintah Kab. Tolitoli | AU83: A5EB03E2428FF6A0E040640A040252AD | AV83: Pemerintah Kab. Tolitoli | AW83: Pemerintah Kab. Tolitoli
A84: 196511271991012001 | B84: 131930393 | C84: NAGAWATI | E84: S.Pd.SD | F84: BUNOBOGU | G84: 24073 | H84: F | I84: Islam | J84: Menikah | K84: '7204076711650001 | L84: 81354447745 | M84: nagawati71@guru.sd.belajar.id | O84: KEL SIDOARJO KEC BOALAN | P84: '15.319.464.2.830.000 | Q84: '0000135239095 | R84: 15 | S84: Aktif | T84: A199200023043 | U84: 813/143-CP/DPB/1990 | V84: 31-12-0090 | W84: 33239 | Z84: 33786 | AA84: 21 | AB84: II/a | AC84: 41 | AD84: IV/a | AE84: 44470 | AF84: 25 | AG84: 9 | AH84: Jabatan Fungsional | AI84: Guru Ahli Madya | AK84: 44470 | AL84: 40 | AM84: S-1/Sarjana | AN84: A5EB03E20E8EF6A0E040640A040252AD | AO84: A-IV PENDIDIKAN PGSD | AP84: 2002 | AQ84: BAOLAN | AR84: SD Negeri Pembina - Dinas Pendidikan Dan Kebudayaan | AS84: Pemerintah Kab. Tolitoli | AT84: Pemerintah Kab. Tolitoli | AU84: A5EB03E2428FF6A0E040640A040252AD | AV84: Pemerintah Kab. Tolitoli
A85: 196512031984121002 | B85: 131210472 | C85: ISMAIL DAI | F85: BUOL | G85: 24079 | H85: M | I85: Islam | J85: Menikah | K85: '7204060312650001 | L85: 82328065114 | M85: irwansiraje@gmail.com | O85: DUSUN I DESA LAMPASIO KECAMATAN LAMPASIO | P85: '153194808834000 | Q85: '0000135302747 | R85: 15 | S85: Aktif | T85: A198600044570 | U85: 329/ROPEG.I/PNS/DPB/84 | V85: 31012 | W85: 31017 | X85: 272/L/DT/86 | Y85: 31745 | Z85: 31747 | AA85: 21 | AB85: II/a | AC85: 34 | AD85: III/d | AE85: 40087 | AF85: 19 | AG85: 10 | AH85: Jabatan Fungsional | AI85: Guru Ahli Muda | AK85: 44670 | AL85: 25 | AM85: Diploma II | AN85: 8ae482893c955451013ca2b695830ad7 | AO85: D-II PENDIDIKAN GURU SEKOLAH DASAR | AP85: 2005 | AQ85: LAMPASIO | AR85: SD Negeri Inti Lampasio - Dinas Pendidikan Dan Kebudayaan | AS85: Pemerintah Kab. Tolitoli | AT85: Pemerintah Kab. Tolitoli | AU85: A5EB03E2428FF6A0E040640A040252AD | AV85: Pemerintah Kab. Tolitoli | AW85: Pemerintah Kab. Tolitoli
A86: 196512041992112001 | B86: 131988364 | C86: NISMA TARANG | E86: A.Ma.Pd | F86: BUOL | G86: 24080 | H86: F | I86: Islam | J86: Menikah | K86: '7204034412650001 | L86: 85394727444 | M86: nismatarang42@admin.sd.belajar.id | O86: DESA LAIS | P86: '784981243834000 | Q86: '0000135196817 | R86: 15 | S86: Aktif | T86: A199400017352 | U86: 813.2/32/DPB/1992 | V86: 33907 | W86: 33909 | X86: 821.12/12.03/PDK | Y86: 34637 | Z86: 34639 | AA86: 21 | AB86: II/a | AC86: 41 | AD86: IV/a | AE86: 44470 | AF86: 23 | AG86: 11 | AH86: Jabatan Fungsional | AI86: Guru Madya | AK86: 44470 | AL86: 40 | AM86: S-1/Sarjana | AN86: ff80808147e76ffd0147f23adb30009a | AO86: S-1 SARJANA PENDIDIKAN | AP86: 2011 | AQ86: DONDO | AR86: SD Negeri 2 Lais - Dinas Pendidikan Dan Kebudayaan | AS86: Pemerintah Kab. Tolitoli | AT86: Pemerintah Kab. Tolitoli | AU86: A5EB03E2428FF6A0E040640A040252AD | AV86: Pemerintah Kab. Tolitoli | AW86: Pemerintah Kab. Tolitoli
A87: 196512061993032008 | B87: 132048712 | C87: HADIDJAH | D87: DRA | F87: TOLITOLI | G87: 24082 | H87: F | I87: Islam | J87: Menikah | K87: '7204074612660005 | L87: 82152866510 | M87: dra.hadidjah@yahoo.co.id | O87: JL. MOH. BANTILAN NO.03 | P87: '14.336.191.3.834.000 | Q87: '0000135183137 | R87: 15 | S87: Aktif | T87: A199400017397 | U87: 59/C/I.24.I/1993 | V87: 34094 | W87: 34029 | X87: 360/I.24/C-2/1994 | Y87: 34668 | Z87: 34669 | AA87: 31 | AB87: III/a | AC87: 42 | AD87: IV/b | AE87: 43739 | AF87: 26 | AG87: 7 | AH87: Jabatan Fungsional | AI87: Guru Ahli Madya | AK87: 43739 | AL87: 40 | AM87: S-1/Sarjana | AN87: ff8080815133783a01513855b10e6947 | AO87: S-1 PENDIDIKAN FISIKA | AP87: 1991 | AQ87: BAOLAN | AR87: SMP NEGERI 3 TOLITOLI - Dinas Pendidikan Dan Kebudayaan | AS87: Pemerintah Kab. Tolitoli | AT87: Pemerintah Kab. Tolitoli | AU87: A5EB03E2428FF6A0E040640A040252AD | AV87: Pemerintah Kab. Tolitoli
A88: 196512131998031002 | B88: 132211524 | C88: ABD MADJID YUSUF | F88: GORONTALO | G88: 24089 | H88: M | I88: Islam | J88: Menikah | K88: '7204101312650001 | L88: 82192117370 | M88: madjidyusuf65puluko@gmail.com | O88: DESA DUNGINGIS KEC. DAKOPEMEAN | P88: '793916883834000 | Q88: '0000135296324 | R88: 15 | S88: Aktif | T88: A199900005632 | U88: 813.2/84-DBP/1988 | V88: 35999 | W88: 35855 | X88: 821/78.19/PDK | Y88: 36403 | Z88: 36404 | AA88: 21 | AB88: II/a | AC88: 31 | AD88: III/a | AE88: 41183 | AF88: 9 | AG88: 7 | AH88: Jabatan Fungsional | AI88: Guru Ahli Pertama | AK88: 45211 | AL88: 15 | AM88: SLTA | AN88: A5EB03E20C36F6A0E040640A040252AD | AO88: SPG PENDIDIKAN SD | AP88: 1986 | AQ88: TOLI-TOLI UTARA | AR88: SD Negeri 1 Dungingis - Dinas Pendidikan Dan Kebudayaan | AS88: Pemerintah Kab. Tolitoli | AT88: Pemerintah Kab. Tolitoli | AU88: A5EB03E2428FF6A0E040640A040252AD | AV88: Pemerintah Kab. Tolitoli
A89: 196512141986112002 | B89: 131555564 | C89: NAPSIA | F89: SONI | G89: 24090 | H89: F | I89: Islam | J89: Menikah | K89: '7204015412650001 | L89: 85334810686 | M89: mahmudbaco23@gmail.com | O89: DESA SONI KECAMATAN DAMPAL SELATAN | P89: '79.124.447.8834.000 | Q89: '0000135304233 | R89: 15 | S89: Aktif | T89: A198800060031 | U89: 830/187/DPB/86 | V89: 31713 | W89: 31717 | X89: 109/821.12/BT/PN/1988 | Y89: 32445 | Z89: 32448 | AA89: 21 | AB89: II/a | AC89: 34 | AD89: III/d | AE89: 38443 | AF89: 14 | AG89: 5 | AH89: Jabatan Fungsional | AI89: Guru Ahli Muda | AK89: 44670 | AL89: 25 | AM89: Diploma II | AN89: ff8080815123bf7a0151334323cc5337 | AO89: D-II PENDIDIKAN AGAMA ISLAM | AP89: 1995 | AQ89: DAMPAL SELATAN | AR89: SD Negeri 2 Soni - Dinas Pendidikan Dan Kebudayaan | AS89: Pemerintah Kab. Tolitoli | AT89: Pemerintah Kab. Tolitoli | AU89: A5EB03E2428FF6A0E040640A040252AD | AV89: Pemerintah Kab. Tolitoli | AW89: Pemerintah Kab. Tolitoli
A90: 196512182007012015 | B90: 570027630 | C90: HASNI S. LATARANG | F90: BUOL | G90: 24094 | H90: F | I90: Islam | J90: Menikah | K90: '7204075812650004 | L90: 82237001488 | M90: hasnilatarang@gmail.com | O90: JL. MADAKO | P90: '89.031.091.5-834.000 | Q90: '0000135213107 | R90: 15 | S90: Aktif | T90: A200800014095 | U90: 813/164.03-CPNSD/BKD/XI/2007 | V90: 39387 | W90: 39083 | X90: 821.2/2211-PNS/TT/2008 | Y90: 39720 | Z90: 39722 | AA90: 21 | AB90: II/a | AC90: 23 | AD90: II/c | AE90: 43191 | AF90: 14 | AG90: 10 | AH90: Jabatan Fungsional | AI90: Guru Ahli Muda | AK90: 43191 | AL90: 15 | AM90: SLTA | AN90: A5EB03E20C34F6A0E040640A040252AD | AO90: SEKOLAH PENDIDIKAN GURU | AP90: 1986 | AQ90: TOLITOLI | AR90: SD Negeri 2 Bajugan - Dinas Pendidikan Dan Kebudayaan | AS90: Pemerintah Kab. Tolitoli | AT90: Pemerintah Kab. Tolitoli | AU90: A5EB03E2428FF6A0E040640A040252AD | AV90: Pemerintah Kab. Tolitoli
A91: 196512281985121001 | B91: 131342653 | C91: SAHRUDIN | F91: LEOK I | G91: 24104 | H91: M | I91: Islam | J91: Belum Kawin | K91: '7204092812650001 | L91: 82293407428 | M91: 65.sahrudin@gmail.com | O91: DESA LAKUAN TOLI-TOLI | P91: '78.805.530.9834.000 | Q91: '0000135309947 | R91: 15 | S91: Aktif | T91: A198700059307 | U91: 537/ROPEG.6/DPB/85 | V91: 31369 | W91: 31382 | X91: 29/821.12/BT/PDK | Y91: 31936 | Z91: 31959 | AA91: 21 | AB91: II/a | AC91: 33 | AD91: III/c | AE91: 45017 | AF91: 32 | AG91: 4 | AH91: Jabatan Fungsional | AI91: Guru Ahli Muda | AK91: 44927 | AL91: 15 | AM91: SLTA | AN91: A5EB03E20C3FF6A0E040640A040252AD | AO91: KPG | AP91: 1985 | AQ91: TOLI-TOLI UTARA | AR91: SD Negeri 2 Lakuan Tolitoli - Dinas Pendidikan Dan Kebudayaan | AS91: Pemerintah Kab. Tolitoli | AT91: Pemerintah Kab. Tolitoli | AU91: A5EB03E2428FF6A0E040640A040252AD | AV91: Pemerintah Kab. Tolitoli
A92: 196512301999032002 | B92: 132234047 | C92: FATMAWATI GAGA | F92: BOLAANG MONGONDOW | G92: 24106 | H92: F | I92: Islam | J92: Menikah | K92: '7204077012650001 | L92: 82319935944 | M92: radenkia00@gmail.com | O92: PULAU LINGAYAN DESA OGOTUA KEC. DAMPAL UTARA KAB. TOLITOLI PROV. SULAWESITENGAH | P92: '77.482.599.6.834.000 | Q92: '0000135295402 | R92: 15 | S92: Aktif | T92: A200000004532 | U92: 813.2/119-DPB/1999 | V92: 36367 | W92: 36220 | X92: 821/52.17/PDK | Y92: 36736 | Z92: 36708 | AA92: 21 | AB92: II/a | AC92: 34 | AD92: III/d | AE92: 44835 | AF92: 18 | AG92: 7 | AH92: Jabatan Fungsional | AI92: Guru Ahli Muda | AK92: 44670 | AL92: 15 | AM92: SLTA | AN92: A5EB03E20C34F6A0E040640A040252AD | AO92: SEKOLAH PENDIDIKAN GURU | AP92: 1986 | AQ92: DAMPAL UTARA | AR92: SD Negeri Sese - Dinas Pendidikan Dan Kebudayaan | AS92: Pemerintah Kab. Tolitoli | AT92: Pemerintah Kab. Tolitoli | AU92: A5EB03E2428FF6A0E040640A040252AD | AV92: Pemerintah Kab. Tolitoli | AW92: Pemerintah Kab. Tolitoli
A93: 196512311986022029 | B93: 131527058 | C93: HENY | E93: S.Pd.SD | F93: LOKODIDI | G93: 24107 | H93: F | I93: Islam | J93: Menikah | K93: '7204077112650022 | L93: 85210928383 | M93: henytolitoli1965@gmail.com | O93: JLN. MUJAHIDIN II KEL. TUWELEY | P93: '14.336.166.5.834.000 | Q93: '0000135333819 | R93: 15 | S93: Aktif | T93: A198700059432 | U93: 830/08/PN/DPB/1986 | V93: 31441 | W93: 31444 | X93: 136/821.12/BT/PDK | Y93: 32109 | Z93: 32112 | AA93: 21 | AB93: II/a | AC93: 42 | AD93: IV/b | AE93: 45200 | AF93: 32 | AG93: 8 | AH93: Jabatan Fungsional | AI93: Guru Ahli Madya | AK93: 39722 | AL93: 40 | AM93: S-1/Sarjana | AN93: ff80808147e76ffd0147f23adb30009a | AO93: S-1 SARJANA PENDIDIKAN | AP93: 2009 | AQ93: TOLITOLI | AR93: SD Negeri 10 Tolitoli - Dinas Pendidikan Dan Kebudayaan | AS93: Pemerintah Kab. Tolitoli | AT93: Pemerintah Kab. Tolitoli | AU93: A5EB03E2428FF6A0E040640A040252AD | AV93: Pemerintah Kab. Tolitoli
A94: 196512311987111006 | B94: 80089422 | C94: I MADE PANCASILA | E94: SP | F94: JEMBRANA | G94: 24107 | H94: M | I94: Hindu | J94: Menikah | K94: '7204040706650001 | L94: 82194431612 | M94: imadepancasila1965@gmail.com | O94: DUSUN FLAMBOYAN DESA KAYULOMPA kECAMATAN BASIDONDO KABUPATEN TOLITOLI PROVINSI SULAWESI TENGAH | P94: '788008613834000 | Q94: '0000135237969 | R94: 15 | S94: Aktif | T94: A198900041206 | U94: KP.330/4270/II/1987 | V94: 32111 | W94: 32082 | X94: 297/KPT/UP/BK.IV-A/PN/89 | Y94: 32777 | Z94: 32782 | AA94: 21 | AB94: II/a | AC94: 42 | AD94: IV/b | AE94: 43009 | AF94: 27 | AG94: 3 | AH94: Jabatan Fungsional | AI94: Penyuluh Pertanian Ahli Madya | AK94: 44925 | AL94: 40 | AM94: S-1/Sarjana | AN94: ff8080815133783a0151386c2ec579f7 | AO94: S-1 PERTANIAN | AP94: 2005 | AQ94: BASIDONDO | AR94: UPT. BALAI PENYULUH PERTANIAN DINAS TANAMAN PANGAN DAN HORTIKULTURA - Dinas Tanaman Pangan Dan Hortikultura | AS94: Pemerintah Kab. Tolitoli | AT94: Pemerintah Kab. Tolitoli | AU94: A5EB03E2428FF6A0E040640A040252AD | AV94: Pemerintah Kab. Tolitoli | AW94: Pemerintah Kab. Tolitoli
A95: 196512311991041002 | B95: 131896604 | C95: TAMRIN | E95: S.Pd | F95: SANGGAR | G95: 24107 | H95: M | I95: Islam | J95: Menikah | K95: '7204070703650003 | L95: 85246385458 | M95: tamrinibrahim31@gmail.com | O95: JLN. PEPAYA NO. 2 KEL. TUWELEY KEC. BAOLAN | P95: '698063450834000 | Q95: '0000135223582 | R95: 15 | S95: Aktif | T95: A199200023919 | U95: 813.2/21-CP/DPB/1991 | V95: 33325 | W95: 33329 | X95: 62/821.12/BT/PN/1992 | Y95: 33815 | Z95: 33817 | AA95: 21 | AB95: II/a | AC95: 42 | AD95: IV/b | AE95: 44652 | AF95: 26 | AG95: 6 | AH95: Jabatan Fungsional | AI95: Guru Madya | AK95: 44652 | AL95: 40 | AM95: S-1/Sarjana | AN95: ff80808147e76ffd0147f23adb30009a | AO95: S-1 SARJANA PENDIDIKAN | AP95: 2020 | AQ95: BAOLAN | AR95: SD Negeri 12 Tolitoli - Dinas Pendidikan Dan Kebudayaan | AS95: Pemerintah Kab. Tolitoli | AT95: Pemerintah Kab. Tolitoli | AU95: A5EB03E2428FF6A0E040640A040252AD | AV95: Pemerintah Kab. Tolitoli | AW95: Pemerintah Kab. Tolitoli
A96: 196601021989091002 | B96: 131827529 | C96: WISNO MAHIYA | E96: S.Pd | F96: GORONTALO | G96: 24109 | H96: M | I96: Islam | J96: Menikah | K96: '7204030201660001 | L96: 8524996976 | M96: wisnobagus1966oke@yahoo.co.id | O96: JALAN TRANS SULAWESI DESA MALOMBA | P96: '78.498.122.7.834.000 | Q96: '0000135198371 | R96: 15 | S96: Aktif | T96: A199100027884 | U96: 813.2/60/DPB/1989 | V96: 32750 | W96: 32752 | X96: 50/821.12/T/PN/91 | Y96: 33297 | Z96: 33298 | AA96: 21 | AB96: II/a | AC96: 41 | AD96: IV/a | AE96: 44105 | AF96: 26 | AG96: 1 | AH96: Jabatan Fungsional | AI96: Pengawas Sekolah Madya - TK/SD | AK96: 44670 | AL96: 40 | AM96: S-1/Sarjana | AN96: ff80808143056d410143096b136e6c8f | AO96: S-1/A-IV PENDIDIKAN GURU SEKOLAH DASAR | AP96: 2007 | AQ96: DONDO | AR96: KORWIL KECAMATAN LAMPASIO - Dinas Pendidikan Dan Kebudayaan | AS96: Pemerintah Kab. Tolitoli | AT96: Pemerintah Kab. Tolitoli | AU96: A5EB03E2428FF6A0E040640A040252AD | AV96: Pemerintah Kab. Tolitoli | AW96: Pemerintah Kab. Tolitoli
A97: 196601032014091001 | C97: ARUN HARYANTO | E97: S.Pd | F97: BANYUMAS | G97: 24110 | H97: M | I97: Islam | J97: Menikah | K97: '7204070301660001 | L97: 81354567250 | M97: arun.haryantopupns@gmail.com | O97: JL.KH.AHMAD DAHLAN NO.6 KEL. BARU | P97: '79.437.584.0.834.000 | Q97: '0000171561082 | R97: 15 | S97: Aktif | T97: A201500000980 | U97: 813/0290.02-CPNSD/BKD/2015 | V97: 42030 | W97: 41883 | X97: 823.2/0355.04/PNS/2015 | Y97: 42339 | Z97: 42339 | AA97: 21 | AB97: II/a | AC97: 32 | AD97: III/b | AE97: 44652 | AF97: 12 | AG97: 6 | AH97: Jabatan Fungsional | AI97: Guru Ahli Pertama | AK97: 44287 | AL97: 40 | AM97: S-1/Sarjana | AN97: ff80808147e76ffd0147f23adb30009a | AO97: S-1 SARJANA PENDIDIKAN | AP97: 2014 | AQ97: TOLITOLI | AR97: SD Negeri 1 Sambujang - Dinas Pendidikan Dan Kebudayaan | AS97: Pemerintah Kab. Tolitoli | AT97: Pemerintah Kab. Tolitoli | AU97: A5EB03E2428FF6A0E040640A040252AD | AV97: Pemerintah Kab. Tolitoli
A98: 196601051988032019 | B98: 131743576 | C98: NI MADE SUNIASIH | E98: S.Pd SD | F98: TABANAN | G98: 24112 | H98: F | I98: Hindu | J98: Menikah | K98: '7204054501660001 | L98: 81249363550 | M98: suniasihnimade1966@gmail.com | O98: DESA TINANDING KEC. LAMPASIO | P98: '89.156.336.3.834.000 | Q98: '0000135239962 | R98: 15 | S98: Aktif | T98: A199000039676 | U98: 813.2/34/DPD/1988 | V98: 32199 | W98: 32203 | X98: 158/821.12/BT/PN/90 | Y98: 32932 | Z98: 32933 | AA98: 21 | AB98: II/a | AC98: 41 | AD98: IV/a | AE98: 41000 | AF98: 19 | AG98: 1 | AH98: Jabatan Fungsional | AI98: Guru Pembina | AK98: 41000 | AL98: 40 | AM98: S-1/Sarjana | AN98: A5EB03E20BF6F6A0E040640A040252AD | AO98: S-1/STRATA SATU | AP98: 2011 | AQ98: LAMPASIO | AR98: SD Negeri Tinading - Dinas Pendidikan Dan Kebudayaan | AS98: Pemerintah Kab. Tolitoli | AT98: Pemerintah Kab. Tolitoli | AU98: A5EB03E2428FF6A0E040640A040252AD | AV98: Pemerintah Kab. Tolitoli | AW98: Pemerintah Kab. Tolitoli
A99: 196601071986022002 | B99: 131527152 | C99: SYAMSIAR Y TAUA | E99: S.Pd | F99: BUOL | G99: 24114 | H99: F | I99: Islam | J99: Menikah | K99: '7204074701660001 | L99: 82343735862 | M99: syamsiarytaua904@gmail.com | O99: DUSUN DELLAS DESA PANGI KEC.BAOLAN | P99: '77.982.375.6.834.000 | Q99: '0000135312671 | R99: 15 | S99: Aktif | T99: A198700060285 | U99: 830/08/PN/DPB/1986 | V99: 31441 | W99: 31444 | X99: 157/821.12/BT/PDK | Y99: 32109 | Z99: 32112 | AA99: 21 | AB99: II/a | AC99: 42 | AD99: IV/b | AE99: 43922 | AF99: 28 | AG99: 9 | AH99: Jabatan Fungsional | AI99: Guru Ahli Madya | AK99: 45120 | AL99: 15 | AM99: SLTA | AN99: A5EB03E20C36F6A0E040640A040252AD | AO99: SPG PENDIDIKAN SD | AP99: 1985 | AQ99: BAOLAN | AR99: SD Negeri 2 Dadakitan - Dinas Pendidikan Dan Kebudayaan | AS99: Pemerintah Kab. Tolitoli | AT99: Pemerintah Kab. Tolitoli | AU99: A5EB03E2428FF6A0E040640A040252AD | AV99: Pemerintah Kab. Tolitoli | AW99: Pemerintah Kab. Tolitoli
A100: 196601101991112001 | B100: 131940825 | C100: RUGAIYA BASIR DATUAMAS | E100: S.Pd | F100: PINJAN | G100: 24117 | H100: F | I100: Islam | J100: Menikah | K100: '7204095001660001 | L100: 0 | M100: rugaiyadatuamas01@guru.sd.belajar.id | O100: DESA PINJAN KEC. TOLITOLI UTARA KAB TOLITOLI | P100: '788055341834000 | Q100: '0000135239196 | R100: 15 | S100: Aktif | T100: A199300020469 | U100: 813.2/11/DPB/1991 | V100: 33540 | W100: 33543 | X100: 821.12/25/BT/PDK | Y100: 34273 | Z100: 34274 | AA100: 21 | AB100: II/a | AC100: 34 | AD100: III/d | AE100: 44652 | AF100: 25 | AG100: 4 | AH100: Jabatan Fungsional | AI100: Guru Muda | AK100: 43739 | AL100: 40 | AM100: S-1/Sarjana | AN100: 7634B30B9A590205E050640A29031FF8 | AO100: S-1 PGSD (PENDIDIKAN GURU SEKOLAH DASAR) | AP100: 2017 | AQ100: TOLI-TOLI UTARA | AR100: SD Negeri Pinjan - Dinas Pendidikan Dan Kebudayaan | AS100: Pemerintah Kab. Tolitoli | AT100: Pemerintah Kab. Tolitoli | AU100: A5EB03E2428FF6A0E040640A040252AD | AV100: Pemerintah Kab. Tolitoli | AW100: Pemerintah Kab. Tolitoli
...

Sheet USUL25
A1: Rekap Usulan Pemberhentian Pemerintah Kab. Tolitoli 29-07-2025
I3: MK Lama | K3: MK Pensiun
A4: NIP | B4: Nama | D4: Instansi | E4: Unit_Kerja | F4: Unit_Kerja_Induk | G4: Jenis Pemberhentian | H4: Jenis Detail Pemberhentian | I4: MK Bulan Lama | J4: MK Tahun Lama | K4: MK Bulan Pensiun | L4: MK Tahun Pensiun | M4: Tanggal Usulan | N4: Status Usulan | O4: No Pertek | P4: No SK | Q4: TMT Berhenti | R4: TMT Pensiun | S4: Petugas Input Usul | T4: Petugas Approval
A5: 1 | B5: 2 | C5: 3 | D5: 4 | E5: 5 | F5: 6 | G5: 7 | H5: 8 | I5: 9 | J5: 10 | K5: 11 | L5: 12 | M5: 13 | N5: 14 | O5: 15 | P5: 16 | Q5: 17 | R5: 18
A6: 196502211991031007 | B6: BINSUD | D6: Pemerintah Kab. Tolitoli | E6: SD Negeri 1 Tambun | F6: Dinas Pendidikan Dan Kebudayaan | G6: Pemberhentian Instansi Daerah IV/c ke Atas Non Jenjang Utama | H6: BUP KPP | I6: 11 | J6: 28 | K6: 0 | L6: 34 | M6: 45716 | N6: Sudah TTE SK | O6: PH-27206000040 | P6: 00042/27206/AZ/03/25 | Q6: 28-02-2025 | R6: 45717 | S6: SUMIDAH | T6: RANDU RAHMANDA ANTON
A7: 196503092006041005 | B7: TUGIMIN | D7: Pemerintah Kab. Tolitoli | E7: SD Negeri Galandau | F7: Dinas Pendidikan Dan Kebudayaan | G7: Pemberhentian Instansi Daerah IV/b ke Bawah | H7: BUP Non KPP | I7: 1 | J7: 25 | K7: 2 | L7: 30 | M7: 45720 | N7: Sudah TTE SK | O7: PD-27206000008 | P7: 00012/27206/AV/03/25 | Q7: 31-03-2025 | R7: 45748 | S7: SUMIDAH | T7: RANDU RAHMANDA ANTON
A8: 196503101999032002 | B8: SYAMSIAR S MAHMUD | D8: Pemerintah Kab. Tolitoli | E8: SD Negeri 1 Maibua | F8: Dinas Pendidikan Dan Kebudayaan | G8: Pemberhentian Instansi Daerah IV/b ke Bawah | H8: BUP KPP | I8: 0 | J8: 21 | K8: 1 | L8: 26 | M8: 45721 | N8: Sudah TTE SK | O8: PH-27206000025 | P8: 00030/27206/AZ/03/25 | Q8: 31-03-2025 | R8: 45748 | S8: SUMIDAH | T8: RANDU RAHMANDA ANTON
A9: 196503201985121002 | B9: MARTINUS TALUNDA | D9: Pemerintah Kab. Tolitoli | E9: SD Negeri 2 Tambun | F9: Dinas Pendidikan Dan Kebudayaan | G9: Pemberhentian Instansi Daerah IV/b ke Bawah | H9: BUP Non KPP | I9: 3 | J9: 34 | K9: 4 | L9: 39 | M9: 45712 | N9: Sudah TTE SK | O9: PD-27206000005 | P9: 00009/27206/AV/03/25 | Q9: 31-03-2025 | R9: 45748 | S9: SUMIDAH | T9: RANDU RAHMANDA ANTON
A10: 196504061986021010 | B10: ABD KADIR | D10: Pemerintah Kab. Tolitoli | E10: SD Negeri 3 Basi | F10: Dinas Pendidikan Dan Kebudayaan | G10: Pemberhentian Instansi Daerah IV/b ke Bawah | H10: BUP Non KPP | I10: 2 | J10: 34 | K10: 3 | L10: 39 | M10: 45716 | N10: Sudah TTE SK | O10: PD-27206000007 | P10: 00010/27206/AV/03/25 | Q10: 30-04-2025 | R10: 45778 | S10: SUMIDAH | T10: RANDU RAHMANDA ANTON
A11: 196505041999031006 | B11: SUKONO | D11: Pemerintah Kab. Tolitoli | E11: UPT. BALAI PENYULUH PERTANIAN DINAS TANAMAN PANGAN DAN HORTIKULTURA | F11: Dinas Tanaman Pangan Dan Hortikultura | G11: Pemberhentian Instansi Daerah IV/c ke Atas Non Jenjang Utama | H11: BUP KPP | I11: 1 | J11: 32 | K11: 2 | L11: 37 | M11: 45666 | N11: Sudah TTE SK | O11: PH-27206000044 | P11: 00046/27206/AZ/04/25 | Q11: 31-05-2025 | R11: 45809 | S11: SUMIDAH | T11: KHAIRUL ANWAR
A12: 196505081989091001 | B12: WIJI | D12: Pemerintah Kab. Tolitoli | E12: SD Negeri 3 Basi | F12: Dinas Pendidikan Dan Kebudayaan | G12: Pemberhentian Instansi Daerah IV/c ke Atas Non Jenjang Utama | H12: BUP KPP | I12: 8 | J12: 30 | K12: 9 | L12: 35 | M12: 45670 | N12: Sudah TTE SK | O12: PH-27206000008 | P12: 00028/27206/AZ/03/25 | Q12: 31-05-2025 | R12: 45809 | S12: SUMIDAH | T12: SUMIDAH
A13: 196505161989101005 | B13: MUHAMMAD SYAFEI | D13: Pemerintah Kab. Tolitoli | E13: SD Negeri Mosing | F13: Dinas Pendidikan Dan Kebudayaan | G13: Pemberhentian Instansi Daerah IV/b ke Bawah | H13: BUP KPP | I13: 7 | J13: 30 | K13: 8 | L13: 35 | M13: 45698 | N13: Sudah TTE SK | O13: PH-27206000013 | P13: 00022/27206/AZ/02/25 | Q13: 31-05-2025 | R13: 45809 | S13: SUMIDAH | T13: RANDU RAHMANDA ANTON
A14: 196506021992031009 | B14: R FADJAR SUKO SYUHADHA | D14: Pemerintah Kab. Tolitoli | E14: Dinas Pekerjaan Umum Dan Penataan Ruang | F14: Pemerintah Kabupaten Tolitoli | G14: Pemberhentian Instansi Daerah IV/c ke Atas Non Jenjang Utama | H14: BUP KPP | I14: 3 | J14: 33 | K14: 4 | L14: 33 | M14: 45743 | N14: Sudah TTE SK | O14: PH-27206000050 | P14: 00055/27206/AZ/04/25 | Q14: 30-06-2025 | R14: 45839 | S14: SUMIDAH | T14: RANDU RAHMANDA ANTON
A15: 196506031993031009 | B15: SYAFRUDDIN | D15: Pemerintah Kab. Tolitoli | E15: SMP NEGERI 3 TOLITOLI | F15: Dinas Pendidikan Dan Kebudayaan | G15: Pemberhentian Instansi Daerah IV/c ke Atas Non Jenjang Utama | H15: BUP KPP | I15: 3 | J15: 32 | K15: 4 | L15: 32 | M15: 45673 | N15: Sudah TTE SK | O15: PH-27206000043 | P15: 00052/27206/AZ/04/25 | Q15: 30-06-2025 | R15: 45839 | S15: SUMIDAH | T15: SUMIDAH
A16: 196506162006041008 | B16: MOHAMMAD RUM | D16: Pemerintah Kab. Tolitoli | E16: UPT. BALAI PENYULUH PERTANIAN DINAS TANAMAN PANGAN DAN HORTIKULTURA | F16: Dinas Tanaman Pangan Dan Hortikultura | G16: Pemberhentian Instansi Daerah IV/c ke Atas Non Jenjang Utama | H16: BUP Non KPP | I16: 6 | J16: 31 | K16: 7 | L16: 31 | M16: 45763 | N16: Sudah TTE SK | O16: PD-27206000009 | P16: 00013/27206/AV/05/25 | Q16: 30-06-2025 | R16: 45839 | S16: SUMIDAH | T16: SUMIDAH
A17: 196506222006042004 | B17: FITRI D SWATAN | D17: Pemerintah Kab. Tolitoli | E17: SMP Negeri 2 Tolitoli Utara | F17: Dinas Pendidikan Dan Kebudayaan | G17: Pemberhentian Instansi Daerah IV/c ke Atas Non Jenjang Utama | H17: BUP KPP | I17: 4 | J17: 25 | K17: 5 | L17: 30 | M17: 45674 | N17: Sudah TTE SK | O17: PH-27206000057 | P17: 00060/27206/AZ/05/25 | Q17: 30-06-2025 | R17: 45839 | S17: SUMIDAH | T17: RANDU RAHMANDA ANTON
... A20: 196507031986021007 | B20: AZIS | D20: Pemerintah Kab. Tolitoli | E20: SD Negeri 1 Sambujang | F20: Dinas Pendidikan Dan Kebudayaan | G20: Pemberhentian Instansi Daerah IV/b ke Bawah | H20: BUP KPP | I20: 4 | J20: 34 | K20: 5 | L20: 39 | M20: 45708 | N20: Sudah TTE SK | O20: PH-27206000035 | P20: 00053/27206/AZ/04/25 | Q20: 31-07-2025 | R20: 45870 | S20: SUMIDAH | T20: SUMIDAH
A21: 196507121995121006 | B21: BUHARI HI AZIS | D21: Pemerintah Kab. Tolitoli | E21: SD Negeri 2 Galumpang | F21: Dinas Pendidikan Dan Kebudayaan | G21: Pemberhentian Instansi Daerah IV/b ke Bawah | H21: BUP KPP | I21: 7 | J21: 24 | K21: 8 | L21: 29 | M21: 45695 | N21: Validasi BKN - BTS | Q21: 31-07-2025 | R21: 45870 | S21: SUMIDAH | T21: SUMIDAH
A22: 196507151986112003 | B22: WARDA | D22: Pemerintah Kab. Tolitoli | E22: SD Negeri Pembina | F22: Dinas Pendidikan Dan Kebudayaan | G22: Pemberhentian Instansi Daerah IV/b ke Bawah | H22: BUP KPP | I22: 8 | J22: 33 | K22: 9 | L22: 38 | M22: 45763 | N22: Sudah TTE SK | O22: PH-27206000073 | P22: 00090/27206/AZ/07/25 | Q22: 31-07-2025 | R22: 45870 | S22: SUMIDAH | T22: RANDU RAHMANDA ANTON
A23: 196507151988032023 | B23: SAHMIN NUWA | D23: Pemerintah Kab. Tolitoli | E23: SD Negeri Percontohan | F23: Dinas Pendidikan Dan Kebudayaan | G23: Pemberhentian Instansi Daerah IV/c ke Atas Non Jenjang Utama | H23: Pemberhentian Karena Meninggal Dunia (Janda/Duda) KPP | I23: 7 | J23: 31 | K23: 8 | L23: 36 | M23: 45698 | N23: Sudah TTE SK | O23: PH-27206000016 | P23: 00015/27206/AZ/02/25 | Q23: 18-11-2024 | R23: 45627 | S23: SUMIDAH | T23: SAPRIADI RUSLI
A24: 196507201989091001 | B24: PONIMAN | D24: Pemerintah Kab. Tolitoli | E24: SD Negeri Dontong | F24: Dinas Pendidikan Dan Kebudayaan | G24: Pemberhentian Instansi Daerah IV/c ke Atas Non Jenjang Utama | H24: BUP KPP | I24: 9 | J24: 30 | K24: 10 | L24: 35 | M24: 45667 | N24: Sudah TTE SK | O24: PH-27206000059 | P24: 00069/27206/AZ/05/25 | Q24: 31-07-2025 | R24: 45870 | S24: SUMIDAH | T24: SUMIDAH
A25: 196508091992031006 | B25: NASIR DAENG SILASA | D25: Pemerintah Kab. Tolitoli | E25: Inspektur IV | F25: Inspektorat Daerah | G25: Pemberhentian Instansi Daerah IV/c ke Atas Non Jenjang Utama | H25: BUP KPP | I25: 5 | J25: 31 | K25: 6 | L25: 33 | M25: 45779 | N25: Sudah TTE SK | O25: PH-27206000063 | P25: 00070/27206/AZ/05/25 | Q25: 31-08-2025 | R25: 45901 | S25: SUMIDAH | T25: SUMIDAH
A26: 196508141986012002 | B26: MARITJE HADJU | D26: Pemerintah Kab. Tolitoli | E26: SMP Negeri 1 Dondo | F26: Dinas Pendidikan Dan Kebudayaan | G26: Pemberhentian Instansi Daerah IV/b ke Bawah | H26: BUP KPP | I26: 7 | J26: 34 | K26: 8 | L26: 39 | M26: 45797 | N26: Sudah TTE SK | O26: PH-27206000077 | P26: 00080/27206/AZ/06/25 | Q26: 31-08-2025 | R26: 45901 | S26: SUMIDAH | T26: SUMIDAH
A27: 196508152000121003 | B27: BANGUN | D27: Pemerintah Kab. Tolitoli | E27: SMP Negeri 1 Ogodeide | F27: Dinas Pendidikan Dan Kebudayaan | G27: Pemberhentian Instansi Daerah IV/b ke Bawah | H27: BUP KPP | I27: 8 | J27: 24 | K27: 9 | L27: 24 | M27: 45797 | N27: Sudah TTE SK | O27: PH-27206000083 | P27: 00082/27206/AZ/06/25 | Q27: 31-08-2025 | R27: 45901 | S27: SUMIDAH
A28: 196508241988032010 | B28: FAISAL DAUD A USU | D28: Pemerintah Kab. Tolitoli | E28: SD Negeri Taring | F28: Dinas Pendidikan Dan Kebudayaan | G28: Pemberhentian Instansi Daerah IV/b ke Bawah | H28: BUP KPP | I28: 5 | J28: 32 | K28: 6 | L28: 37 | M28: 45856 | N28: Input Berkas | Q28: 31-08-2025 | R28: 45901 | S28: SUMIDAH | T28: SUMIDAH
A29: 196509111993031011 | B29: MOHAMMAD AKBAR SYAH | D29: Pemerintah Kab. Tolitoli | E29: Staf Ahli Bidang Kemasyarakatan Dan Sumber Daya Manusia | F29: Sekretariat Daerah | G29: Pemberhentian Instansi Daerah IV/c ke Atas Non Jenjang Utama | H29: BUP KPP | I29: 5 | J29: 33 | K29: 6 | L29: 33 | M29: 45825 | N29: Sudah TTE SK | O29: PH-27206000082 | P29: 00085/27206/AZ/07/25 | Q29: 30-09-2025 | R29: 45931 | S29: SUMIDAH | T29: SUMIDAH
A30: 196509141986012002 | B30: INNEKE JOOLA ELSJE GIROTH | D30: Pemerintah Kab. Tolitoli | E30: SMP Negeri 5 Tolitoli | F30: Dinas Pendidikan Dan Kebudayaan | G30: Pemberhentian Instansi Daerah IV/c ke Atas Non Jenjang Utama | H30: BUP KPP | I30: 8 | J30: 37 | K30: 9 | L30: 39 | M30: 45831 | N30: Sudah TTE SK | O30: PH-27206000090 | P30: 00095/27206/AZ/07/25 | Q30: 30-09-2025 | R30: 45931 | S30: SUMIDAH | T30: SAPRIADI RUSLI
A31: 196509171988032009 | B31: YULIN H. LARADA | D31: Pemerintah Kab. Tolitoli | E31: SD Negeri 2 Binontoan | F31: Dinas Pendidikan Dan Kebudayaan | G31: Pemberhentian Instansi Daerah IV/b ke Bawah | H31: BUP KPP | I31: 6 | J31: 32 | K31: 7 | L31: 37 | M31: 45827 | N31: Sudah TTE SK | O31: PH-27206000086 | P31: 00100/27206/AZ/07/25 | Q31: 30-09-2025 | R31: 45931 | S31: SUMIDAH | T31: SUMIDAH
A32: 196509231988031009 | B32: LIS PUJI WIYONO | D32: Pemerintah Kab. Tolitoli | E32: UPT. BALAI PENYULUH PERTANIAN DINAS TANAMAN PANGAN DAN HORTIKULTURA | F32: Dinas Tanaman Pangan Dan Hortikultura | G32: Pemberhentian Instansi Daerah IV/c ke Atas Non Jenjang Utama | H32: BUP KPP | I32: 8 | J32: 33 | K32: 9 | L32: 38 | M32: 45839 | N32: Sudah TTE Pertek | O32: PH-27206000089 | Q32: 30-09-2025 | R32: 45931 | S32: SUMIDAH
A33: 196510061989091001 | B33: I WAYAN SUNDRA | D33: Pemerintah Kab. Tolitoli | E33: SD Negeri 2 Basi | F33: Dinas Pendidikan Dan Kebudayaan | G33: Pemberhentian Instansi Daerah IV/b ke Bawah | H33: BUP KPP | I33: 1 | J33: 31 | K33: 2 | L33: 36 | M33: 45856 | N33: Input Berkas | Q33: 31-10-2025 | R33: 45962 | S33: SUMIDAH
A34: 196510131986012002 | B34: SULASTRI | D34: Pemerintah Kab. Tolitoli | E34: SMP Negeri 2 Tolitoli | F34: Dinas Pendidikan Dan Kebudayaan | G34: Pemberhentian Instansi Daerah IV/c ke Atas Non Jenjang Utama | H34: BUP KPP | I34: 9 | J34: 34 | K34: 10 | L34: 39 | M34: 45856 | N34: Input Berkas | Q34: 31-10-2025 | R34: 45962 | S34: SUMIDAH
A35: 196510152003121001 | B35: HILMI | D35: Pemerintah Kab. Tolitoli | E35: SD Negeri 2 Nalu | F35: Dinas Pendidikan Dan Kebudayaan | G35: Pemberhentian Instansi Daerah IV/b ke Bawah | H35: BUP KPP | I35: 7 | J35: 23 | K35: 8 | L35: 28 | M35: 45856 | N35: Input Berkas | Q35: 31-10-2025 | R35: 45962 | S35: SUMIDAH
A36: 196510262006041005 | B36: ITEN NANI | D36: Pemerintah Kab. Tolitoli | E36: SD Negeri Diule | F36: Dinas Pendidikan Dan Kebudayaan | G36: Pemberhentian Instansi Daerah IV/b ke Bawah | H36: BUP KPP | I36: 8 | J36: 30 | K36: 9 | L36: 30 | M36: 45856 | N36: Input Berkas | Q36: 31-10-2025 | R36: 45962 | S36: SUMIDAH
A37: 196510281986021006 | B37: MOHAMAD SAID | D37: Pemerintah Kab. Tolitoli | E37: SD Negeri Batuilo | F37: Dinas Pendidikan Dan Kebudayaan | G37: Pemberhentian Instansi Daerah IV/c ke Atas Non Jenjang Utama | H37: BUP KPP | I37: 8 | J37: 34 | K37: 9 | L37: 39 | M37: 45856 | N37: Input Berkas | Q37: 31-10-2025 | R37: 45962 | S37: SUMIDAH | T37: RANDU RAHMANDA ANTON
A38: 196511031990022001 | B38: NURLINA RAMLI | D38: Pemerintah Kab. Tolitoli | E38: SMP Negeri 1 Tolitoli | F38: Dinas Pendidikan Dan Kebudayaan | G38: Pemberhentian Instansi Daerah IV/c ke Atas Non Jenjang Utama | H38: BUP KPP | I38: 10 | J38: 33 | K38: 10 | L38: 35 | M38: 45870 | N38: Input Berkas | Q38: 30-11-2025 | R38: 45992 | S38: SUMIDAH | T38: RANDU RAHMANDA ANTON
A39: 196511112006042009 | B39: NI KETUT WIDIASTUTI | D39: Pemerintah Kab. Tolitoli | E39: SD Negeri 4 Kamalu | F39: Dinas Pendidikan Dan Kebudayaan | G39: Pemberhentian Instansi Daerah IV/b ke Bawah | H39: BUP KPP | I39: 9 | J39: 30 | K39: 10 | L39: 30 | M39: 45877 | N39: Input Berkas | Q39: 30-11-2025 | R39: 45992 | S39: SUMIDAH | T39: KHAIRUL ANWAR
A40: 196511121991112001 | B40: NURAENI RUSLI | D40: Pemerintah Kab. Tolitoli | E40: SD Negeri 5 Tolitoli | F40: Dinas Pendidikan Dan Kebudayaan | G40: Pemberhentian Instansi Daerah IV/b ke Bawah | H40: BUP KPP | I40: 0 | J40: 29 | K40: 1 | L40: 34 | M40: 45877 | N40: Input Berkas | Q40: 30-11-2025 | R40: 45992 | S40: SUMIDAH | T40: KHAIRUL ANWAR
A41: 196511171986031013 | B41: I MADE TAMBIN | D41: Pemerintah Kab. Tolitoli | E41: SD Negeri 2 Sibaluton | F41: Dinas Pendidikan Dan Kebudayaan | G41: Pemberhentian Instansi Daerah IV/c ke Atas Non Jenjang Utama | H41: BUP KPP | I41: 8 | J41: 34 | K41: 9 | L41: 39 | M41: 45875 | N41: Input Berkas | Q41: 30-11-2025 | R41: 45992 | S41: RANDU RAHMANDA ANTON | T41: RANDU RAHMANDA ANTON
A42: 196511231986112001 | B42: MARTHA RURU | D42: Pemerintah Kab. Tolitoli | E42: SD Negeri 13 Tolitoli | F42: Dinas Pendidikan Dan Kebudayaan | G42: Pemberhentian Instansi Daerah IV/b ke Bawah | H42: BUP KPP | I42: 0 | J42: 34 | K42: 1 | L42: 39 | M42: 45877 | N42: Input Berkas | Q42: 30-11-2025 | R42: 45992 | S42: SUMIDAH | T42: RANDU RAHMANDA ANTON
A43: 196512311986022029 | B43: HENY | D43: Pemerintah Kab. Tolitoli | E43: SD Negeri 10 Tolitoli | F43: Dinas Pendidikan Dan Kebudayaan | G43: Pemberhentian Instansi Daerah IV/c ke Atas Non Jenjang Utama | H43: BUP KPP | I43: 10 | J43: 34 | K43: 11 | L43: 39 | M43: 45856 | N43: Menunggu TTE SK | O43: PH-27206000104 | P43: 00107/27206/AZ/07/25 | Q43: 31-12-2025 | R43: 46023 | S43: SUMIDAH | T43: RANDU RAHMANDA ANTON
A44: 196512311991041002 | B44: TAMRIN | D44: Pemerintah Kab. Tolitoli | E44: SD Negeri 12 Tolitoli | F44: Dinas Pendidikan Dan Kebudayaan | G44: Pemberhentian Instansi Daerah IV/c ke Atas Non Jenjang Utama | H44: BUP KPP | I44: 8 | J44: 29 | K44: 9 | L44: 34 | M44: 45908 | N44: Input Berkas | Q44: 15-07-2025 | R44: 01-08-2025 | S44: SUMIDAH | T44: RANDU RAHMANDA ANTON
A45: 196607122000121006 | B45: BAHTIAR | D45: Pemerintah Kab. Tolitoli | E45: SD Negeri 2 Binontoan | F45: Dinas Pendidikan Dan Kebudayaan | G45: Pemberhentian Instansi Daerah IV/b ke Bawah | H45: BUP KPP | I45: 7 | J45: 19 | K45: 8 | L45: 24 | M45: 45855 | N45: Input Berkas | Q45: 31-07-2026 | R45: 46235 | S45: SUMIDAH | T45: RANDU RAHMANDA ANTON
A46: 196607232000122004 | B46: SUMIATY M. RUIYAS | D46: Pemerintah Kab. Tolitoli | E46: SD Negeri 18 Tolitoli | F46: Dinas Pendidikan Dan Kebudayaan | G46: Pemberhentian Instansi Daerah IV/b ke Bawah | H46: Pemberhentian Karena Meninggal Dunia (Janda/Duda) KPP | I46: 2 | J46: 19 | K46: 3 | L46: 24 | M46: 45796 | N46: Sudah TTE SK | O46: PH-27206000074 | P46: 00081/27206/AZ/06/25 | Q46: 01-02-2025 | R46: 45717 | S46: SUMIDAH | T46: RANDU RAHMANDA ANTON
A47: 196612092014051001 | B47: JUFRI | D47: Pemerintah Kab. Tolitoli | E47: SD Negeri 1 Basi | F47: Dinas Pendidikan Dan Kebudayaan | G47: Pemberhentian Instansi Daerah IV/b ke Bawah | H47: BUP KPP | I47: 6 | J47: 21 | K47: 7 | L47: 21 | M47: 45660 | N47: Sudah TTE SK | O47: PH-27206000002 | P47: 00008/27206/AZ/01/25 | Q47: 31-12-2024 | R47: 45658 | S47: SUMIDAH | T47: KHAIRUL ANWAR
A48: 196612162014112001 | B48: ELSA DESELINA | D48: Pemerintah Kab. Tolitoli | E48: Bidang Sarana dan Prasarana dan Pemberdayaan Industri | F48: Dinas Perindustrian | G48: Pemberhentian Instansi Daerah IV/b ke Bawah | H48: BUP Non KPP | I48: 7 | J48: 20 | K48: 8 | L48: 20 | M48: 45660 | N48: Sudah TTE SK | O48: PD-27206000001 | P48: 00005/27206/AV/01/25 | Q48: 31-12-2024 | R48: 45658 | S48: SUMIDAH | T48: RANDU RAHMANDA ANTON
A49: 196612292015052001 | B49: ADRIANA | D49: Pemerintah Kab. Tolitoli | E49: SMP Negeri 8 Tolitoli | F49: Dinas Pendidikan Dan Kebudayaan | G49: Pemberhentian Instansi Daerah IV/b ke Bawah | H49: BUP Non KPP | I49: 9 | J49: 20 | K49: 10 | L49: 20 | M49: 45693 | N49: Sudah TTE SK | O49: PD-27206000004 | P49: 00008/27206/AV/03/25 | Q49: 31-12-2024 | R49: 45658 | S49: SUMIDAH | T49: RANDU RAHMANDA ANTON
A50: 196612311989091009 | B50: NYOMAN SUMAYASA | D50: Pemerintah Kab. Tolitoli | E50: SD Negeri Sibea | F50: Dinas Pendidikan Dan Kebudayaan | G50: Pemberhentian Instansi Daerah IV/c ke Atas Non Jenjang Utama | H50: Pemberhentian Karena Meninggal Dunia (Janda/Duda) KPP | I50: 4 | J50: 30 | K50: 5 | L50: 35 | M50: 45672 | N50: Sudah TTE SK | O50: PH-27206000009 | P50: 00020/27206/AZ/02/25 | Q50: 05-01-2025 | R50: 45689 | S50: SUMIDAH | T50: SUMIDAH
A51: 196612312006041099 | B51: MUH TAHIR | D51: Pemerintah Kab. Tolitoli | E51: SD Negeri 5 Basi | F51: Dinas Pendidikan Dan Kebudayaan | G51: Pemberhentian Instansi Daerah IV/b ke Bawah | H51: Pemberhentian Karena Meninggal Dunia (Janda/Duda) NON KPP | I51: 4 | J51: 25 | K51: 5 | L51: 30 | M51: 45875 | N51: Input Berkas | Q51: 24-06-2025 | R51: 45839 | S51: SUMIDAH | T51: RANDU RAHMANDA ANTON
A52: 196702112014091001 | B52: DJONI T. DOKA | D52: Pemerintah Kab. Tolitoli | E52: SMP Negeri 1 Galang | F52: Dinas Pendidikan Dan Kebudayaan | G52: Pemberhentian Instansi Daerah IV/b ke Bawah | H52: BUP Non KPP | I52: 3 | J52: 20 | K52: 4 | L52: 20 | M52: 45670 | N52: Sudah TTE SK | O52: PD-27206000002 | P52: 00006/27206/AV/01/25 | Q52: 28-02-2025 | R52: 45717 | S52: SUMIDAH | T52: SUMIDAH
A53: 196703072006041008 | B53: AMRAN | D53: Pemerintah Kab. Tolitoli | E53: KORWIL KECAMATAN LAMPASIO | F53: Dinas Pendidikan Dan Kebudayaan | G53: Pemberhentian Instansi Daerah IV/b ke Bawah | H53: BUP KPP | I53: 1 | J53: 30 | K53: 2 | L53: 30 | M53: 45679 | N53: Sudah TTE SK | O53: PH-27206000015 | P53: 00016/27206/AZ/02/25 | Q53: 31-03-2025 | R53: 45748 | S53: SUMIDAH | T53: RANDU RAHMANDA ANTON
A54: 196704052007012023 | B54: SURIYANI KAMIS | D54: Pemerintah Kab. Tolitoli | E54: Bidang Statistik | F54: DINAS KOMUNIKASI INFORMATIKA, PERSANDIAN DAN STATISTIK | G54: Pemberhentian Instansi Daerah IV/b ke Bawah | H54: BUP KPP | I54: 3 | J54: 25 | K54: 4 | L54: 25 | M54: 45728 | N54: Sudah TTE SK | O54: PH-27206000038 | P54: 00049/27206/AZ/04/25 | Q54: 30-04-2025 | R54: 45778 | S54: SUMIDAH | T54: RANDU RAHMANDA ANTON
A55: 196704102014091002 | B55: RUSLAN | D55: Pemerintah Kab. Tolitoli | E55: UPT Pendapatan Daerah Wilayah IV | F55: Badan Pendapatan Daerah | G55: Pemberhentian Instansi Daerah IV/b ke Bawah | H55: BUP KPP | I55: 3 | J55: 23 | K55: 4 | L55: 23 | M55: 45664 | N55: Sudah TTE SK | O55: PH-27206000033 | P55: 00040/27206/AZ/03/25 | Q55: 30-04-2025 | R55: 45778 | S55: SUMIDAH | T55: SUMIDAH
A56: 196704142000032009 | B56: EMAUNTUNG JOSEF LIMBU | D56: Pemerintah Kab. Tolitoli | E56: Sub Bagian Tata Usaha Dan Kepegawaian | F56: Sekretariat DPRD | G56: Pemberhentian Instansi Daerah IV/b ke Bawah | H56: BUP KPP | I56: 9 | J56: 28 | K56: 10 | L56: 33 | M56: 45698 | N56: Sudah TTE SK | O56: PH-27206000039 | P56: 00041/27206/AZ/03/25 | Q56: 30-04-2025 | R56: 45778 | S56: SUMIDAH | T56: SUMIDAH
A57: 196704152002111001 | B57: ERMON BURHAN | D57: Pemerintah Kab. Tolitoli | E57: Bidang Bina Marga | F57: Dinas Pekerjaan Umum Dan Penataan Ruang | G57: Pemberhentian Instansi Daerah IV/b ke Bawah | H57: BUP KPP | I57: 0 | J57: 20 | K57: 1 | L57: 28 | M57: 45734 | N57: Sudah TTE SK | O57: PH-27206000049 | P57: 00045/27206/AZ/04/25 | Q57: 30-04-2025 | R57: 45778 | S57: SUMIDAH | T57: RANDU RAHMANDA ANTON
A58: 196704212007011053 | B58: MOHAMMAD HUSNI THAMRIN | D58: Pemerintah Kab. Tolitoli | E58: Sub Bagian Umum dan Kepegawaian | F58: Dinas Perumahan Rakyat dan Kawasan Permukiman | G58: Pemberhentian Instansi Daerah IV/b ke Bawah | H58: BUP Non KPP | I58: 10 | J58: 24 | K58: 11 | L58: 27 | M58: 45664 | N58: Sudah TTE SK | O58: PD-27206000006 | P58: 00011/27206/AV/03/25 | Q58: 30-04-2025 | R58: 45778 | S58: SUMIDAH | T58: RANDU RAHMANDA ANTON
A59: 196705052007011041 | B59: DARWIN | D59: Pemerintah Kab. Tolitoli | E59: Sub Bagian Umum Dan Program | F59: Dinas Tanaman Pangan Dan Hortikultura | G59: Pemberhentian Instansi Daerah IV/b ke Bawah | H59: BUP KPP | I59: 4 | J59: 20 | K59: 5 | L59: 25 | M59: 45666 | N59: Sudah TTE SK | O59: PH-27206000036 | P59: 00072/27206/AZ/05/25 | Q59: 31-05-2025 | R59: 45809 | S59: SUMIDAH | T59: SUMIDAH
A60: 196705072015021001 | B60: RIDWAN LAUHA | D60: Pemerintah Kab. Tolitoli | E60: SD Negeri 3 Nalu | F60: Dinas Pendidikan Dan Kebudayaan | G60: Pemberhentian Instansi Daerah IV/b ke Bawah | H60: BUP KPP | I60: 4 | J60: 25 | K60: 5 | L60: 25 | M60: 45698 | N60: Sudah TTE SK | O60: PH-27206000051 | P60: 00051/27206/AZ/04/25 | Q60: 31-05-2025 | R60: 45809 | S60: SUMIDAH | T60: SUMIDAH
A61: 196705121989111001 | B61: ABDUL HALIM | D61: Pemerintah Kab. Tolitoli | E61: PUSKESMAS PEMBANTU KAPAS | F61: Dinas Kesehatan | G61: Pemberhentian Instansi Daerah IV/b ke Bawah | H61: BUP KPP | I61: 6 | J61: 30 | K61: 7 | L61: 35 | M61: 45708 | N61: Sudah TTE SK | O61: PH-27206000047 | P61: 00073/27206/AZ/06/25 | Q61: 31-05-2025 | R61: 45809 | S61: SUMIDAH | T61: SAPRIADI RUSLI
A62: 196705162003121003 | B62: SUHARDI | D62: Pemerintah Kab. Tolitoli | E62: UPT Pendapatan Daerah Wilayah II | F62: Badan Pendapatan Daerah | G62: Pemberhentian Instansi Daerah IV/b ke Bawah | H62: BUP KPP | I62: 7 | J62: 23 | K62: 8 | L62: 28 | M62: 45743 | N62: Sudah TTE SK | O62: PH-27206000053 | P62: 00058/27206/AZ/05/25 | Q62: 31-05-2025 | R62: 45809 | S62: SUMIDAH | T62: RANDU RAHMANDA ANTON
A63: 196705292006042009 | B63: SRI ENDANG | D63: Pemerintah Kab. Tolitoli | E63: Bidang Kerawangan Pangan Dan Gizi | F63: Dinas Ketahanan Pangan | G63: Pemberhentian Instansi Daerah IV/b ke Bawah | H63: BUP KPP | I63: 1 | J63: 27 | K63: 2 | L63: 27 | M63: 45664 | N63: Sudah TTE SK | O63: PH-27206000041 | P63: 00047/27206/AZ/04/25 | Q63: 31-05-2025 | R63: 45809 | S63: SUMIDAH | T63: SUMIDAH
... A84: 196708122015022001 | B84: SITTI RAHMA | D84: Pemerintah Kab. Tolitoli | E84: Sub Bagian Umum Dan Kepegawaian | F84: Kecamatan Dondo | G84: Pemberhentian Instansi Daerah IV/b ke Bawah | H84: BUP Non KPP | I84: 11 | J84: 20 | K84: 0 | L84: 21 | M84: 45769 | N84: Sudah TTE SK | O84: PD-27206000013 | P84: 00016/27206/AV/07/25 | Q84: 31-08-2025 | R84: 45901 | S84: RANDU RAHMANDA ANTON | T84: SUMIDAH
A85: 196708172000032004 | B85: HERLINA | D85: Pemerintah Kab. Tolitoli | E85: Sekretariat | F85: Kecamatan Galang | G85: Pemberhentian Instansi Daerah IV/b ke Bawah | H85: BUP KPP | I85: 1 | J85: 29 | K85: 2 | L85: 34 | M85: 45821 | N85: Sudah TTE SK | O85: PH-27206000081 | P85: 00096/27206/AZ/07/25 | Q85: 31-08-2025 | R85: 45901 | S85: SUMIDAH
A86: 196708221993032008 | B86: HAFSAH L | D86: Pemerintah Kab. Tolitoli | E86: Sekretariat | F86: Dinas Pemberdayaan Masyarakat Dan Desa | G86: Pemberhentian Instansi Daerah IV/c ke Atas Non Jenjang Utama | H86: BUP KPP | I86: 5 | J86: 32 | K86: 6 | L86: 32 | M86: 45812 | N86: Sudah TTE SK | O86: PH-27206000088 | P86: 00084/27206/AZ/07/25 | Q86: 31-08-2025 | R86: 45901 | S86: SUMIDAH
A87: 196708251989032011 | B87: MASYITA HI NGAJI | D87: Pemerintah Kab. Tolitoli | E87: UPT Puskesmas Galang | F87: Dinas Kesehatan | G87: Pemberhentian Instansi Daerah IV/b ke Bawah | H87: BUP KPP | I87: 5 | J87: 31 | K87: 6 | L87: 36 | M87: 45769 | N87: Sudah TTE SK | O87: PH-27206000096 | P87: 00101/27206/AZ/07/25 | Q87: 31-08-2025 | R87: 45901 | S87: SUMIDAH | T87: SUMIDAH
A88: 196709031994021004 | B88: MUSDAR ABDUL GANI | D88: Pemerintah Kab. Tolitoli | E88: Bidang Politik Dalam Negeri | F88: Badan Kesatuan Bangsa Dan Politik | G88: Pemberhentian Instansi Daerah IV/b ke Bawah | H88: BUP KPP | I88: 7 | J88: 31 | K88: 8 | L88: 31 | M88: 45831 | N88: Sudah TTE SK | O88: PH-27206000080 | P88: 00086/27206/AZ/07/25 | Q88: 30-09-2025 | R88: 45931 | S88: SUMIDAH | T88: SUMIDAH
A89: 196709042007011023 | B89: ANWAR J. PALIBA | D89: Pemerintah Kab. Tolitoli | E89: Sub Bagian Umum Dan Kepegawaian | F89: Kecamatan Ogodeide | G89: Pemberhentian Instansi Daerah IV/b ke Bawah | H89: BUP KPP | I89: 11 | J89: 20 | K89: 0 | L89: 26 | M89: 45842 | N89: Sudah TTE SK | O89: PH-27206000094 | P89: 00097/27206/AZ/07/25 | Q89: 30-09-2025 | R89: 45931 | S89: SUMIDAH | T89: SUMIDAH
A90: 196709062006041001 | B90: YUSHAR AHMAD | D90: Pemerintah Kab. Tolitoli | E90: Bidang Penempatan Tenaga Kerja | F90: Dinas Tenaga Kerja | G90: Pemberhentian Instansi Daerah IV/b ke Bawah | H90: BUP KPP | I90: 5 | J90: 19 | K90: 6 | L90: 19 | M90: 45853 | N90: Perbaikan Pertek | O90: PH-27206000103 | P90: 00103/27206/AZ/07/25 | Q90: 30-09-2025 | R90: 45931 | S90: SUMIDAH
A91: 196709072014092001 | B91: MAWAR YUSUF | D91: Pemerintah Kab. Tolitoli | E91: SMP Negeri 2 Dampal Selatan | F91: Dinas Pendidikan Dan Kebudayaan | G91: Pemberhentian Instansi Daerah IV/b ke Bawah | H91: BUP KPP | I91: 2 | J91: 25 | K91: 3 | L91: 25 | M91: 45841 | N91: Sudah TTE SK | O91: PH-27206000091 | P91: 00098/27206/AZ/07/25 | Q91: 30-09-2025 | R91: 45931 | S91: KHAIRUL ANWAR
A92: 196709172014092001 | B92: ISENGENG | D92: Pemerintah Kab. Tolitoli | E92: Sub Bagian Umum Dan Kepegawaian | F92: Kecamatan Ogodeide | G92: Pemberhentian Instansi Daerah IV/b ke Bawah | H92: BUP KPP | I92: 11 | J92: 16 | K92: 0 | L92: 21 | M92: 45776 | N92: Sudah TTE SK | O92: PH-27206000068 | P92: 00094/27206/AZ/07/25 | Q92: 30-09-2025 | R92: 45931 | S92: SUMIDAH | T92: KHAIRUL ANWAR
A93: 196709242015021001 | B93: MOHAMMAD RIDWAN AYUB ISMAIL | D93: Pemerintah Kab. Tolitoli | E93: Sekretariat | F93: Kelurahan Tambun | G93: Pemberhentian Instansi Daerah IV/b ke Bawah | H93: BUP KPP | I93: 1 | J93: 21 | K93: 2 | L93: 21 | M93: 45842 | N93: Sudah TTE Pertek | O93: PH-27206000101 | Q93: 30-09-2025 | R93: 45931 | S93: SUMIDAH
A94: 196709252006041004 | B94: AHMAD | D94: Pemerintah Kab. Tolitoli | E94: Sekretariat | F94: Kecamatan Baolan | G94: Pemberhentian Instansi Daerah IV/b ke Bawah | H94: BUP KPP | I94: 10 | J94: 26 | K94: 11 | L94: 26 | M94: 45832 | N94: Sudah TTE SK | O94: PH-27206000092 | P94: 00093/27206/AZ/07/25 | Q94: 30-09-2025 | R94: 45931 | S94: SUMIDAH | T94: SUMIDAH
A95: 196709252007012016 | B95: RUMIATI ISMAIL PALOPO | D95: Pemerintah Kab. Tolitoli | E95: Sub Bagian Tata Usaha Dan Kepegawaian | F95: Sekretariat DPRD | G95: Pemberhentian Instansi Daerah IV/b ke Bawah | H95: BUP Non KPP | I95: 8 | J95: 20 | K95: 9 | L95: 25 | M95: 45839 | N95: Sudah TTE SK | O95: PD-27206000012 | P95: 00015/27206/AV/07/25 | Q95: 30-09-2025 | R95: 45931 | S95: SUMIDAH
A96: 196709261988031005 | B96: HARTON Y. DAUD | D96: Pemerintah Kab. Tolitoli | E96: Bidang Pembinaan Ketenagaan | F96: Dinas Pendidikan Dan Kebudayaan | G96: Pemberhentian Instansi Daerah IV/b ke Bawah | H96: BUP KPP | I96: 6 | J96: 32 | K96: 7 | L96: 37 | M96: 45804 | N96: Sudah TTE SK | O96: PH-27206000093 | P96: 00092/27206/AZ/07/25 | Q96: 30-09-2025 | R96: 45931 | S96: SUMIDAH | T96: SUMIDAH
A97: 196709272007011021 | B97: RASI DOROHIWU | D97: Pemerintah Kab. Tolitoli | E97: Rumah Sakit Umum Daerah Mokopido | F97: Pemerintah Kabupaten Tolitoli | G97: Pemberhentian Instansi Daerah IV/b ke Bawah | H97: BUP Non KPP | I97: 8 | J97: 19 | K97: 9 | L97: 24 | M97: 45832 | N97: Input Berkas | Q97: 30-09-2025 | R97: 45931 | S97: SUMIDAH | T97: KHAIRUL ANWAR
A98: 196710071988022003 | B98: CORLINA TE`DANG | D98: Pemerintah Kab. Tolitoli | E98: Sub Bidang Pelayanan Medis dan Keperawatan | F98: Rumah Sakit Umum Daerah Mokopido | G98: Pemberhentian Instansi Daerah IV/b ke Bawah | H98: BUP KPP | I98: 8 | J98: 32 | K98: 9 | L98: 37 | M98: 45856 | N98: Input Berkas | Q98: 31-10-2025 | R98: 45962 | S98: SUMIDAH
A99: 196710112001072001 | B99: DEWI SARTIKA | D99: Pemerintah Kab. Tolitoli | E99: Bidang Pengarusutamaan Gender dan Pemberdayaan Perempuan | F99: Dinas Pemberdayaan Perempuan Dan Perlindungan Anak | G99: Pemberhentian Instansi Daerah IV/b ke Bawah | H99: BUP KPP | I99: 6 | J99: 27 | K99: 7 | L99: 27 | M99: 45875 | N99: Input Berkas | Q99: 31-10-2025 | R99: 45962 | S99: SUMIDAH
A100: 196710121986071002 | B100: KAMARIA | D100: Pemerintah Kab. Tolitoli | E100: SD Negeri 6 Basi | F100: Dinas Pendidikan Dan Kebudayaan | G100: Pemberhentian Instansi Daerah IV/b ke Bawah | H100: BUP KPP | I100: 3 | J100: 33 | K100: 4 | L100: 39 | M100: 45825 | N100: Sudah TTE SK | O100: PH-27206000079 | P100: 00088/27206/AZ/07/25 | Q100: 31-10-2025 | R100: 45962 | S100: SUMIDAH | T100: SUMIDAH
A101: 196710131992031010 | B101: ABDUL GANI T HI UKUM | D101: Pemerintah Kab. Tolitoli | E101: Bidang Tata Lingkungan | F101: Dinas Lingkungan Hidup | G101: Pemberhentian Instansi Daerah IV/b ke Bawah | H101: BUP KPP | I101: 7 | J101: 28 | K101: 8 | L101: 33 | M101: 45825 | N101: Sudah TTE SK | O101: PH-27206000084 | P101: 00089/27206/AZ/07/25 | Q101: 31-10-2025 | R101: 45962 | S101: SUMIDAH | T101: RANDU RAHMANDA ANTON
A102: 196710161991041001 | B102: IDHAM | D102: Pemerintah Kab. Tolitoli | E102: Kecamatan Dondo | F102: Pemerintah Kabupaten Tolitoli | G102: Pemberhentian Instansi Daerah IV/c ke Atas Non Jenjang Utama | H102: BUP KPP | I102: 6 | J102: 29 | K102: 7 | L102: 34 | M102: 45842 | N102: Sudah TTE SK | O102: PH-27206000102 | P102: 00105/27206/AZ/07/25 | Q102: 31-10-2025 | R102: 45962 | S102: SUMIDAH | T102: RANDU RAHMANDA ANTON
A103: 196710172007011020 | B103: IRWAN W. DATUAMAS | D103: Pemerintah Kab. Tolitoli | E103: SMP Negeri 5 Tolitoli | F103: Dinas Pendidikan Dan Kebudayaan | G103: Pemberhentian Instansi Daerah IV/b ke Bawah | H103: BUP KPP | I103: 9 | J103: 25 | K103: 10 | L103: 25 | M103: 45856 | N103: Input Berkas | Q103: 31-10-2025 | R103: 45962 | S103: SUMIDAH | T103: RANDU RAHMANDA ANTON
A104: 196710242001121003 | B104: LUMANDUNG TEMPOH | D104: Pemerintah Kab. Tolitoli | E104: Sekretariat | F104: Kelurahan Panasakan | G104: Pemberhentian Instansi Daerah IV/b ke Bawah | H104: BUP Non KPP | I104: 3 | J104: 22 | K104: 11 | L104: 23 | M104: 45911 | N104: Input Berkas | Q104: 31-10-2025 | R104: 01-11-2025
A105: 196710251993101002 | B105: SUPRIADI | D105: Pemerintah Kab. Tolitoli | E105: SD Negeri 2 Buga | F105: Dinas Pendidikan Dan Kebudayaan | G105: Pemberhentian Instansi Daerah IV/b ke Bawah | H105: BUP KPP | I105: 0 | J105: 26 | K105: 1 | L105: 32 | M105: 45875 | N105: Input Berkas | Q105: 31-10-2025 | R105: 45962
A106: 196710281985111001 | B106: SARYONO AWAT LIPUTO | D106: Pemerintah Kab. Tolitoli | E106: Bidang Pengolahan Data dan Informasi Penanaman Modal | F106: Dinas Penanaman Modal Dan Pelayanan Terpadu Satu Pintu | G106: Pemberhentian Instansi Daerah IV/b ke Bawah | H106: BUP KPP | I106: 0 | J106: 32 | K106: 0 | L106: 40 | M106: 45702 | N106: Input Berkas | Q106: 31-10-2025 | R106: 45962
A107: 196711172006042006 | B107: SNOVIA | D107: Pemerintah Kab. Tolitoli | E107: Bidang Perencanaan dan Pengembangan Iklim Penanaman Modal | F107: Dinas Penanaman Modal Dan Pelayanan Terpadu Satu Pintu | G107: Pemberhentian Instansi Daerah IV/b ke Bawah | H107: BUP KPP | I107: 0 | J107: 32 | K107: 1 | L107: 37 | M107: 45875 | N107: Input Berkas | Q107: 30-11-2025 | R107: 45992
A108: 196711301989031011 | B108: DJAMALUDDIN | D108: Pemerintah Kab. Tolitoli | E108: Sub Bidang Pelayanan Medis dan Keperawatan | F108: Rumah Sakit Umum Daerah Mokopido | G108: Pemberhentian Instansi Daerah IV/b ke Bawah | H108: BUP KPP | I108: 8 | J108: 31 | K108: 9 | L108: 36 | M108: 45877 | N108: Input Berkas | Q108: 30-11-2025 | R108: 45992
A109: 196712221988032007 | B109: ANITA TANGGUL ISOL | D109: Pemerintah Kab. Tolitoli | E109: Bidang Pelayanan | F109: Rumah Sakit Umum Daerah Mokopido | G109: Pemberhentian Instansi Daerah IV/b ke Bawah | H109: BUP KPP | I109: 9 | J109: 32 | K109: 10 | L109: 37 | M109: 45909 | N109: Input Berkas | Q109: 31-12-2025 | R109: 01-01-2026
A110: 196712291998031006 | B110: MURSAHID MURSALI MAMONTO | D110: Pemerintah Kab. Tolitoli | E110: SD Negeri Butun | F110: Dinas Pendidikan Dan Kebudayaan | G110: Pemberhentian Instansi Daerah IV/b ke Bawah | H110: Pemberhentian Karena Meninggal Dunia (Janda/Duda) KPP | I110: 9 | J110: 21 | K110: 10 | L110: 26 | M110: 45670 | N110: Sudah TTE SK | O110: PH-27206000021 | P110: 00026/27206/AZ/03/25 | Q110: 15-12-2024 | R110: 45658
A111: 196712311988031048 | B111: DAMZAH | D111: Pemerintah Kab. Tolitoli | E111: UPT Puskesmas Ogodeide | F111: Dinas Kesehatan | G111: Pemberhentian Instansi Daerah IV/b ke Bawah | H111: BUP KPP | I111: 9 | J111: 32 | K111: 10 | L111: 37 | M111: 45896 | N111: Input Berkas | Q111: 31-12-2025 | R111: 01-01-2026
A112: 196712311989102009 | B112: HERLINA | D112: Pemerintah Kab. Tolitoli | E112: Bidang Perencanaan Kawasan Transmigrasi | F112: Dinas Transmigrasi | G112: Pemberhentian Instansi Daerah IV/b ke Bawah | H112: BUP KPP | I112: 4 | J112: 31 | K112: 3 | L112: 36 | M112: 45863 | N112: Input Berkas | Q112: 31-12-2025 | R112: 46023
A113: 196712312000122012 | B113: HADIJAH B RIDWAN | D113: Pemerintah Kab. Tolitoli | E113: Bidang Ketahanan Dan Kesejahteraan Keluarga | F113: Dinas Pengendalian Penduduk Dan Keluarga Berencana | G113: Pemberhentian Instansi Daerah IV/b ke Bawah | H113: BUP KPP | I113: 0 | J113: 25 | K113: 1 | L113: 25 | M113: 45877 | N113: Input Berkas | Q113: 31-12-2025 | R113: 46023
A114: 196801102003121005 | B114: ALIMIN | D114: Pemerintah Kab. Tolitoli | E114: Bagian Umum | F114: Sekretariat Daerah | G114: Pemberhentian Instansi Daerah IV/b ke Bawah | H114: BUP KPP | I114: 11 | J114: 27 | K114: 0 | L114: 27 | M114: 45911 | N114: Input Berkas | Q114: 31-01-2026 | R114: 01-02-2026
A115: 196801201989111001 | B115: KALPIN | D115: Pemerintah Kab. Tolitoli | E115: Seksi Ketentraman Dan Ketertiban Umum | F115: Kecamatan Dampal Selatan | G115: Pemberhentian Instansi Daerah IV/b ke Bawah | H115: BUP KPP | I115: 2 | J115: 32 | K115: 3 | L115: 37 | M115: 45909 | N115: Input Berkas | Q115: 31-01-2026 | R115: 01-02-2026
A116: 196801212014111002 | B116: SEMUEL RUITANG | D116: Pemerintah Kab. Tolitoli | E116: Sub Bagian Umum dan Kepegawaian | F116: Badan Pengelolaan Keuangan dan Aset Daerah | G116: Pemberhentian Instansi Daerah IV/b ke Bawah | H116: BUP KPP | I116: 6 | J116: 25 | K116: 7 | L116: 25 | M116: 45911 | N116: Input Berkas | Q116: 31-01-2026 | R116: 01-02-2026
A117: 196801241989032006 | B117: SUMARNI | D117: Pemerintah Kab. Tolitoli | E117: Sub Bidang Pelayanan Medis Dan Keperawatan | F117: Rumah Sakit Umum Hj. Zubaeda Bantilan | G117: Pemberhentian Instansi Daerah IV/b ke Bawah | H117: BUP KPP | I117: 10 | J117: 31 | K117: 11 | L117: 36 | M117: 45911 | N117: Input Berkas | Q117: 31-01-2026 | R117: 01-02-2026
A118: 196801252006041005 | B118: DJUANDA HUSAIN | D118: Pemerintah Kab. Tolitoli | E118: Bidang Pemberdayaan Lembaga Kemasyarakatan Desa | F118: Dinas Pemberdayaan Masyarakat Dan Desa | G118: Pemberhentian Instansi Daerah IV/b ke Bawah | H118: BUP KPP | I118: 10 | J118: 27 | K118: 10 | L118: 35 | M118: 45909 | N118: Input Berkas | Q118: 31-01-2026 | R118: 01-02-2026
A119: 196802051998011001 | B119: BAKHTIAR | D119: Pemerintah Kab. Tolitoli | E119: SMP Negeri 2 Tolitoli | F119: Dinas Pendidikan Dan Kebudayaan | G119: Pemberhentian Instansi Daerah IV/c ke Atas Non Jenjang Utama | H119: Pemberhentian Karena Meninggal Dunia (Janda/Duda) KPP | I119: 6 | J119: 27 | K119: 7 | L119: 27 | M119: 45902 | N119: Input Berkas
A120: 196803101995031004 | B120: NASRUDDIN | D120: Pemerintah Kab. Tolitoli | E120: Bidang Prasarana, Sarana dan Utilitas (PSU) | F120: Dinas Perumahan Rakyat dan Kawasan Permukiman | G120: Pemberhentian Instansi Daerah IV/b ke Bawah | H120: Pemberhentian Karena Meninggal Dunia (Janda/Duda) KPP | I120: 0 | J120: 30 | K120: 1 | L120: 30 | M120: 45796 | N120: Sudah TTE SK | O120: PH-27206000095 | P120: 00099/27206/AZ/07/25 | Q120: 03-03-2025 | R120: 45748
A121: 196805071994032013 | B121: SITTI KALSUM | D121: Pemerintah Kab. Tolitoli | E121: Sub Bagian Umum Dan Kepegawaian | F121: Dinas Pekerjaan Umum Dan Penataan Ruang | G121: Pemberhentian Instansi Daerah IV/b ke Bawah | H121: Pemberhentian Karena Meninggal Dunia (Janda/Duda) KPP | I121: 1 | J121: 27 | K121: 2 | L121: 32 | M121: 45827 | N121: Input Berkas | Q121: 21-05-2025 | R121: 45809
A122: 196810032009061001 | B122: YOEDDY WIBOWO | D122: Pemerintah Kab. Tolitoli | E122: Seksi Sarana Prasarana Umum | F122: Kecamatan Lampasio | G122: Pemberhentian Instansi Daerah IV/b ke Bawah | H122: Pemberhentian Karena Meninggal Dunia (Janda/Duda) KPP | I122: 3 | J122: 20 | K122: 4 | L122: 20 | M122: 45839 | N122: Sudah TTE SK | O122: PH-27206000099 | P122: 00102/27206/AZ/07/25 | Q122: 28-04-2025 | R122: 45778
A123: 196903211989112002 | B123: KAMARIA | D123: Pemerintah Kab. Tolitoli | E123: UPT Puskesmas Galang | F123: Dinas Kesehatan | G123: Pemberhentian Instansi Daerah IV/b ke Bawah | H123: Pemberhentian Karena Meninggal Dunia (Janda/Duda) KPP | I123: 11 | J123: 29 | K123: 0 | L123: 35 | M123: 45698 | N123: Sudah TTE SK | O123: PH-27206000037 | P123: 00038/27206/AZ/03/25 | Q123: 19-10-2024 | R123: 45597
...

Sheet LAP PENSIUN 25
A1: USULAN PENSIUN TAHUN 2025
A3: NO | B3: NIP | C3: NAMA | D3: PROGRES | E3: BERKAS MASUK | F3: STATUS | G3: KET. | H3: JENIS | I3: TGL LAHIR | J3: PANGKAT | K3: JABATAN TERAKHIR | L3: ESELON | M3: ESELON | N3: UNIT ORGANISASI | O3: PENDIDIKAN TERAKHIR | P3: noSK | Q3: GOL. | S3: dataUSUL | T3: JENIS PENSIUN | W3: AKTA KEMATIAN | Y3: TANGGAL USUL | AB3: UMUR | AC3: SK PENSIUN | AH3: TMT (rumus) | AI3: KETERANGAN
F4: BERKAS / USUL | H4: PENSIUN | Q4: LAMA | R4: BARU | W4: TGL KEMATIAN | X4: NO SURAT | AC4: NOMOR PERTEK | AD4: TANGGAL PERTEK | AE4: NOMOR SK | AF4: TANGGAL SK | AG4: TMT PENSIUN
A5: 1 | C5: 2 | D5: 4 | I5: 5 | K5: 6 | L5: 7 | M5: 7 | N5: 8 | O5: 9 | Q5: 10 | R5: 11 | T5: 12 | W5: 13 | X5: 14 | Y5: 16 | AB5: 17 | AE5: 18 | AF5: 19 | AG5: 20 | AI5: 21
A6: 1 | B6: 196502211991031007 | C6: =VLOOKUP(B6,'pns_A5EB03E23BB5F6A0E040640 (2)'!$A$1:$AX$4558,3) -> BINSUD | D6: =IF(F6="ok","Proses Usul",IF(F6="o","Berkas Lengkap",IF(F6="x","Butuh Kelengkapan",IF(F6="cp","Cetak Pertek",IF(F6="","Cek","Selesai"))))) -> Selesai | E6: - | F6: cek | H6: BUP KPP | I6: =DATE(MID(B6,1,4),MID(B6,5,2),MID(B6,7,2)) -> 23794 | J6: =VLOOKUP(D6,sapk21,4) -> #REF! | K6: =VLOOKUP(B6,'pns_A5EB03E23BB5F6A0E040640 (2)'!$A$1:$AX$4558,35) -> Guru Ahli Madya | L6: =VLOOKUP(B6,'pns_A5EB03E23BB5F6A0E040640 (2)'!$A$1:$AX$4558,36) -> 0 | M6: =IF(L6="41","IV.a",IF(L6="42","IV.b",IF(L6="31","III.a",IF(L6="32","III.b",IF(L6="22","II.b",IF(L6="21","II.a",IF(L6="0","-"))))))) -> FALSE | N6: =VLOOKUP(B6,'pns_A5EB03E23BB5F6A0E040640 (2)'!$A$1:$AX$4558,44) -> SD Negeri 1 Tambun - Dinas Pendidikan Dan Kebudayaan | O6: =VLOOKUP(B6,'pns_A5EB03E23BB5F6A0E040640 (2)'!$A$1:$AX$4558,41) -> S-1/A-IV PENDIDIKAN PGSD | Q6: =VLOOKUP(B6,'pns_A5EB03E23BB5F6A0E040640 (2)'!$A$1:$AX$4558,30) -> IV/b | T6: =VLOOKUP(B6,USUL25!A4:$Q$1048576,8) -> BUP KPP | U6: =LEFT(T6,LEN(T6)-4) -> BUP | V6: =U6&" "&Z6 -> BUP February | Y6: =VLOOKUP(B6,USUL25!A4:$Q$1048576,13) -> 45716 | Z6: =TEXT(Y6,"mmmm") -> February | AB6: =DATEDIF(I6,AG6,"Y") &" Tahun "&DATEDIF(I6,AG6,"YM") &" Bulan" -> 60 Tahun 0 Bulan | AC6: =VLOOKUP(B6,USUL25!A4:$Q$1048576,15) -> PH-27206000040 | AE6: =VLOOKUP(B6,USUL25!A$4:$Q$1048576,16) -> 00042/27206/AZ/03/25 | AG6: =VLOOKUP(B6,USUL25!$A$4:$R$1048576,18) -> 45717 | AH6: =DATE(LEFT(B6,4)+58,MID(B6,5,2)+1,1) -> 44986 | AR6: BUP | AS6: JANDA/DUDA | AT6: APS | AU6: UDZUR
A7: 2 | B7: 196503092006041005 | C7: =VLOOKUP(B7,'pns_A5EB03E23BB5F6A0E040640 (2)'!$A$1:$AX$4558,3) -> TUGIMIN | D7: =IF(F7="ok","Proses Usul",IF(F7="o","Berkas Lengkap",IF(F7="x","Butuh Kelengkapan",IF(F7="cp","Cetak Pertek",IF(F7="","Cek","Selesai"))))) -> Selesai | E7: - | F7: cek | H7: BUP KPP | I7: =DATE(MID(B7,1,4),MID(B7,5,2),MID(B7,7,2)) -> 23810 | J7: =VLOOKUP(D7,sapk21,4) -> #REF! | K7: =VLOOKUP(B7,'pns_A5EB03E23BB5F6A0E040640 (2)'!$A$1:$AX$4558,35) -> Guru Ahli Pertama | L7: =VLOOKUP(B7,'pns_A5EB03E23BB5F6A0E040640 (2)'!$A$1:$AX$4558,36) -> 0 | M7: =IF(L7="41","IV.a",IF(L7="42","IV.b",IF(L7="31","III.a",IF(L7="32","III.b",IF(L7="22","II.b",IF(L7="21","II.a",IF(L7="0","-"))))))) -> FALSE | N7: =VLOOKUP(B7,'pns_A5EB03E23BB5F6A0E040640 (2)'!$A$1:$AX$4558,44) -> SD Negeri Galandau - Dinas Pendidikan Dan Kebudayaan | O7: =VLOOKUP(B7,'pns_A5EB03E23BB5F6A0E040640 (2)'!$A$1:$AX$4558,41) -> S-1 PENDIDIKAN GURU SEKOLAH DASAR | Q7: =VLOOKUP(B7,'pns_A5EB03E23BB5F6A0E040640 (2)'!$A$1:$AX$4558,30) -> III/b | R7: III/b | T7: =VLOOKUP(B7,USUL25!A5:$Q$1048576,8) -> BUP Non KPP | U7: =LEFT(T7,LEN(T7)-4) -> BUP Non | V7: =U7&" "&Z7 -> BUP Non March | Y7: =VLOOKUP(B7,USUL25!A5:$Q$1048576,13) -> 45720 | Z7: =TEXT(Y7,"mmmm") -> March | AB7: =DATEDIF(I7,AG7,"Y") &" Tahun "&DATEDIF(I7,AG7,"YM") &" Bulan" -> 60 Tahun 0 Bulan | AC7: =VLOOKUP(B7,USUL25!A5:$Q$1048576,15) -> PD-27206000008 | AE7: =VLOOKUP(B7,USUL25!A$4:$Q$1048576,16) -> 00012/27206/AV/03/25 | AG7: =VLOOKUP(B7,USUL25!$A$4:$R$1048576,18) -> 45748 | AH7: =DATE(LEFT(B7,4)+60,MID(B7,5,2)+1,1) -> 45748 | AP7: 44197 | AQ7: =TEXT(AP7,"mmmm") -> January | AR7: =COUNTIF(V6:V193,"BUP JANUARI")+COUNTIF(V6:V193,"BUP NON JANUARI") -> 0 | AS7: =COUNTIF(V6:V193,"Pemberhentian Karena Meninggal Dunia (Janda/Duda) Januari")+COUNTIF(V6:V193,"Pemberhentian Karena Meninggal Dunia (Janda/Duda) NON JANUARI") -> 0 | AT7: =COUNTIF($V$6:$V$193,"APS JANUARI") -> 0 | AU7: =COUNTIF($V$6:$V$67,"UDZUR JANUARY") -> 0 | AV7: =SUM(AR7:AU7) -> 0
A8: 3 | B8: 196503101999032002 | C8: =VLOOKUP(B8,'pns_A5EB03E23BB5F6A0E040640 (2)'!$A$1:$AX$4558,3) -> SYAMSIAR S MAHMUD | D8: =IF(F8="ok","Proses Usul",IF(F8="o","Berkas Lengkap",IF(F8="x","Butuh Kelengkapan",IF(F8="cp","Cetak Pertek",IF(F8="","Cek","Selesai"))))) -> Selesai | E8: - | F8: cek | H8: BUP KPP | I8: =DATE(MID(B8,1,4),MID(B8,5,2),MID(B8,7,2)) -> 23811 | J8: =VLOOKUP(D8,sapk21,4) -> #REF! | K8: =VLOOKUP(B8,'pns_A5EB03E23BB5F6A0E040640 (2)'!$A$1:$AX$4558,35) -> Guru Ahli Pertama | L8: =VLOOKUP(B8,'pns_A5EB03E23BB5F6A0E040640 (2)'!$A$1:$AX$4558,36) -> 0 | M8: =IF(L8="41","IV.a",IF(L8="42","IV.b",IF(L8="31","III.a",IF(L8="32","III.b",IF(L8="22","II.b",IF(L8="21","II.a",IF(L8="0","-"))))))) -> FALSE | N8: =VLOOKUP(B8,'pns_A5EB03E23BB5F6A0E040640 (2)'!$A$1:$AX$4558,44) -> SD Negeri 1 Maibua - Dinas Pendidikan Dan Kebudayaan | O8: =VLOOKUP(B8,'pns_A5EB03E23BB5F6A0E040640 (2)'!$A$1:$AX$4558,41) -> SPG | Q8: =VLOOKUP(B8,'pns_A5EB03E23BB5F6A0E040640 (2)'!$A$1:$AX$4558,30) -> III/b | T8: =VLOOKUP(B8,USUL25!A6:$Q$1048576,8) -> BUP KPP | U8: =LEFT(T8,LEN(T8)-4) -> BUP | V8: =U8&" "&Z8 -> BUP March | Y8: =VLOOKUP(B8,USUL25!A6:$Q$1048576,13) -> 45721 | Z8: =TEXT(Y8,"mmmm") -> March | AB8: =DATEDIF(I8,AG8,"Y") &" Tahun "&DATEDIF(I8,AG8,"YM") &" Bulan" -> 60 Tahun 0 Bulan | AC8: =VLOOKUP(B8,USUL25!A6:$Q$1048576,15) -> PH-27206000025 | AE8: =VLOOKUP(B8,USUL25!A$4:$Q$1048576,16) -> 00030/27206/AZ/03/25 | AG8: =VLOOKUP(B8,USUL25!$A$4:$R$1048576,18) -> 45748 | AH8: =DATE(LEFT(B8,4)+60,MID(B8,5,2)+1,1) -> 45748 | AP8: 44228 | AQ8: =TEXT(AP8,"mmmm") -> February | AR8: =COUNTIF(V6:V193,"BUP FEBRUARI")+COUNTIF(V6:V193,"BUP NON FEBRUARI") -> 0 | AS8: =COUNTIF(V6:V193,"Pemberhentian Karena Meninggal Dunia (Janda/Duda) Februari")+COUNTIF(V6:V193,"Pemberhentian Karena Meninggal Dunia (Janda/Duda) NON Februari") -> 0 | AT8: =COUNTIF($V$6:$V$193,"APS FEBRUARI") -> 0 | AU8: =COUNTIF($V$6:$V$67,"UDZUR FEBRUARY") -> 0 | AV8: =SUM(AR8:AU8) -> 0
A9: 4 | B9: 196503201985121002 | C9: =VLOOKUP(B9,'pns_A5EB03E23BB5F6A0E040640 (2)'!$A$1:$AX$4558,3) -> MARTINUS TALUNDA | D9: =IF(F9="ok","Proses Usul",IF(F9="o","Berkas Lengkap",IF(F9="x","Butuh Kelengkapan",IF(F9="cp","Cetak Pertek",IF(F9="","Cek","Selesai"))))) -> Selesai | E9: - | F9: cek | H9: BUP KPP | I9: =DATE(MID(B9,1,4),MID(B9,5,2),MID(B9,7,2)) -> 23821 | J9: =VLOOKUP(D9,sapk21,4) -> #REF! | K9: =VLOOKUP(B9,'pns_A5EB03E23BB5F6A0E040640 (2)'!$A$1:$AX$4558,35) -> Guru Ahli Madya | L9: =VLOOKUP(B9,'pns_A5EB03E23BB5F6A0E040640 (2)'!$A$1:$AX$4558,36) -> 0 | M9: =IF(L9="41","IV.a",IF(L9="42","IV.b",IF(L9="31","III.a",IF(L9="32","III.b",IF(L9="22","II.b",IF(L9="21","II.a",IF(L9="0","-"))))))) -> FALSE | N9: =VLOOKUP(B9,'pns_A5EB03E23BB5F6A0E040640 (2)'!$A$1:$AX$4558,44) -> SD Negeri 3 Dadakitan - Dinas Pendidikan Dan Kebudayaan | O9: =VLOOKUP(B9,'pns_A5EB03E23BB5F6A0E040640 (2)'!$A$1:$AX$4558,41) -> D-II/A-II PGSD | Q9: =VLOOKUP(B9,'pns_A5EB03E23BB5F6A0E040640 (2)'!$A$1:$AX$4558,30) -> IV/a | R9: IV/a | T9: =VLOOKUP(B9,USUL25!A7:$Q$1048576,8) -> BUP Non KPP | U9: =LEFT(T9,LEN(T9)-4) -> BUP Non | V9: =U9&" "&Z9 -> BUP Non February | Y9: =VLOOKUP(B9,USUL25!A7:$Q$1048576,13) -> 45712 | Z9: =TEXT(Y9,"mmmm") -> February | AB9: =DATEDIF(I9,AG9,"Y") &" Tahun "&DATEDIF(I9,AG9,"YM") &" Bulan" -> 60 Tahun 0 Bulan | AC9: =VLOOKUP(B9,USUL25!A7:$Q$1048576,15) -> PD-27206000005 | AE9: =VLOOKUP(B9,USUL25!A$4:$Q$1048576,16) -> 00009/27206/AV/03/25 | AG9: =VLOOKUP(B9,USUL25!$A$4:$R$1048576,18) -> 45748 | AH9: =DATE(LEFT(B9,4)+60,MID(B9,5,2)+1,1) -> 45748 | AP9: 44256 | AQ9: =TEXT(AP9,"mmmm") -> March | AR9: =COUNTIF(V6:V193,"BUP MARET")+COUNTIF(V6:V193,"BUP NON MARET") -> 0 | AS9: =COUNTIF(V6:V193,"Pemberhentian Karena Meninggal Dunia (Janda/Duda) Maret")+COUNTIF(V6:V193,"Pemberhentian Karena Meninggal Dunia (Janda/Duda) NON Maret") -> 0 | AT9: =COUNTIF($V$6:$V$193,"APS MARET") -> 0 | AU9: =COUNTIF($V$6:$V$67,"UDZUR Maret") -> 0 | AV9: =SUM(AR9:AU9) -> 0
A10: 5 | B10: 196504061986021010 | C10: =VLOOKUP(B10,'pns_A5EB03E23BB5F6A0E040640 (2)'!$A$1:$AX$4558,3) -> ABD KADIR | D10: =IF(F10="ok","Proses Usul",IF(F10="o","Berkas Lengkap",IF(F10="x","Butuh Kelengkapan",IF(F10="cp","Cetak Pertek",IF(F10="","Cek","Selesai"))))) -> Selesai | E10: - | F10: cek | H10: BUP KPP | I10: =DATE(MID(B10,1,4),MID(B10,5,2),MID(B10,7,2)) -> 23838 | J10: =VLOOKUP(D10,sapk21,4) -> #REF! | K10: =VLOOKUP(B10,'pns_A5EB03E23BB5F6A0E040640 (2)'!$A$1:$AX$4558,35) -> Guru Ahli Madya | L10: =VLOOKUP(B10,'pns_A5EB03E23BB5F6A0E040640 (2)'!$A$1:$AX$4558,36) -> 0 | M10: =IF(L10="41","IV.a",IF(L10="42","IV.b",IF(L10="31","III.a",IF(L10="32","III.b",IF(L10="22","II.b",IF(L10="21","II.a",IF(L10="0","-"))))))) -> FALSE | N10: =VLOOKUP(B10,'pns_A5EB03E23BB5F6A0E040640 (2)'!$A$1:$AX$4558,44) -> SD Negeri 3 Basi - Dinas Pendidikan Dan Kebudayaan | O10: =VLOOKUP(B10,'pns_A5EB03E23BB5F6A0E040640 (2)'!$A$1:$AX$4558,41) -> D-II/A-II PGSD | Q10: =VLOOKUP(B10,'pns_A5EB03E23BB5F6A0E040640 (2)'!$A$1:$AX$4558,30) -> IV/a | R10: IV/a | T10: =VLOOKUP(B10,USUL25!A8:$Q$1048576,8) -> BUP Non KPP | U10: =LEFT(T10,LEN(T10)-4) -> BUP Non | V10: =U10&" "&Z10 -> BUP Non February | Y10: =VLOOKUP(B10,USUL25!A8:$Q$1048576,13) -> 45716 | Z10: =TEXT(Y10,"mmmm") -> February | AB10: =DATEDIF(I10,AG10,"Y") &" Tahun "&DATEDIF(I10,AG10,"YM") &" Bulan" -> 60 Tahun 0 Bulan | AC10: =VLOOKUP(B10,USUL25!A8:$Q$1048576,15) -> PD-27206000007 | AE10: =VLOOKUP(B10,USUL25!A$4:$Q$1048576,16) -> 00010/27206/AV/03/25 | AG10: =VLOOKUP(B10,USUL25!$A$4:$R$1048576,18) -> 45778 | AH10: =DATE(LEFT(B10,4)+60,MID(B10,5,2)+1,1) -> 45778 | AP10: 44287 | AQ10: =TEXT(AP10,"mmmm") -> April | AR10: =COUNTIF(V6:V193,"BUP APRIL")+COUNTIF(V6:V193,"BUP NON APRIL") -> 12 | AS10: =COUNTIF(V6:V193,"Pemberhentian Karena Meninggal Dunia (Janda/Duda) April")+COUNTIF(V6:V193,"Pemberhentian Karena Meninggal Dunia (Janda/Duda) NON April") -> 1 | AT10: =COUNTIF($V$6:$V$193,"APS APRIL") -> 0 | AU10: =COUNTIF($V$6:$V$67,"UDZUR MARET") -> 0 | AV10: =SUM(AR10:AU10) -> 13
A11: 6 | B11: 196505041999031006 | C11: =VLOOKUP(B11,'pns_A5EB03E23BB5F6A0E040640 (2)'!$A$1:$AX$4558,3) -> SUKONO | D11: =IF(F11="ok","Proses Usul",IF(F11="o","Berkas Lengkap",IF(F11="x","Butuh Kelengkapan",IF(F11="cp","Cetak Pertek",IF(F11="","Cek","Selesai"))))) -> Selesai | E11: - | F11: cek | H11: BUP KPP | I11: =DATE(MID(B11,1,4),MID(B11,5,2),MID(B11,7,2)) -> 23866 | J11: =VLOOKUP(D11,sapk21,4) -> #REF! | K11: =VLOOKUP(B11,'pns_A5EB03E23BB5F6A0E040640 (2)'!$A$1:$AX$4558,35) -> Penyuluh Pertanian Ahli Madya | L11: =VLOOKUP(B11,'pns_A5EB03E23BB5F6A0E040640 (2)'!$A$1:$AX$4558,36) -> 0 | M11: =IF(L11="41","IV.a",IF(L11="42","IV.b",IF(L11="31","III.a",IF(L11="32","III.b",IF(L11="22","II.b",IF(L11="21","II.a",IF(L11="0","-"))))))) -> FALSE | N11: =VLOOKUP(B11,'pns_A5EB03E23BB5F6A0E040640 (2)'!$A$1:$AX$4558,44) -> UPT. BALAI PENYULUH PERTANIAN DINAS TANAMAN PANGAN DAN HORTIKULTURA - Dinas Tanaman Pangan Dan Hortikultura | O11: =VLOOKUP(B11,'pns_A5EB03E23BB5F6A0E040640 (2)'!$A$1:$AX$4558,41) -> S-1 AGRIBISNIS PERTANIAN | Q11: =VLOOKUP(B11,'pns_A5EB03E23BB5F6A0E040640 (2)'!$A$1:$AX$4558,30) -> IV/a | T11: =VLOOKUP(B11,USUL25!A9:$Q$1048576,8) -> BUP KPP | U11: =LEFT(T11,LEN(T11)-4) -> BUP | V11: =U11&" "&Z11 -> BUP January | Y11: =VLOOKUP(B11,USUL25!A9:$Q$1048576,13) -> 45666 | Z11: =TEXT(Y11,"mmmm") -> January | AB11: =DATEDIF(I11,AG11,"Y") &" Tahun "&DATEDIF(I11,AG11,"YM") &" Bulan" -> 60 Tahun 0 Bulan | AC11: =VLOOKUP(B11,USUL25!A9:$Q$1048576,15) -> PH-27206000044 | AE11: =VLOOKUP(B11,USUL25!A$4:$Q$1048576,16) -> 00046/27206/AZ/04/25 | AG11: =VLOOKUP(B11,USUL25!$A$4:$R$1048576,18) -> 45809 | AH11: =DATE(LEFT(B11,4)+60,MID(B11,5,2)+1,1) -> 45809 | AP11: 44317 | AQ11: =TEXT(AP11,"mmmm") -> May | AR11: =COUNTIF(V6:V193,"BUP Mei")+COUNTIF(V6:V193,"BUP NON Mei") -> 0 | AS11: =COUNTIF(V6:V193,"Pemberhentian Karena Meninggal Dunia (Janda/Duda) mei")+COUNTIF(V6:V193,"Pemberhentian Karena Meninggal Dunia (Janda/Duda) NON Mei") -> 0 | AT11: =COUNTIF($V$6:$V$193,"APS Mei") -> 0 | AU11: =COUNTIF($V$6:$V$67,"UDZUR MAY") -> 0 | AV11: =SUM(AR11:AU11) -> 0
A12: 7 | B12: 196505081989091001 | C12: =VLOOKUP(B12,'pns_A5EB03E23BB5F6A0E040640 (2)'!$A$1:$AX$4558,3) -> WIJI | D12: =IF(F12="ok","Proses Usul",IF(F12="o","Berkas Lengkap",IF(F12="x","Butuh Kelengkapan",IF(F12="cp","Cetak Pertek",IF(F12="","Cek","Selesai"))))) -> Selesai | E12: - | F12: cek | H12: BUP KPP | I12: =DATE(MID(B12,1,4),MID(B12,5,2),MID(B12,7,2)) -> 23870 | J12: =VLOOKUP(D12,sapk21,4) -> #REF! | K12: =VLOOKUP(B12,'pns_A5EB03E23BB5F6A0E040640 (2)'!$A$1:$AX$4558,35) -> Guru Ahli Madya | L12: =VLOOKUP(B12,'pns_A5EB03E23BB5F6A0E040640 (2)'!$A$1:$AX$4558,36) -> 0 | M12: =IF(L12="41","IV.a",IF(L12="42","IV.b",IF(L12="31","III.a",IF(L12="32","III.b",IF(L12="22","II.b",IF(L12="21","II.a",IF(L12="0","-"))))))) -> FALSE | N12: =VLOOKUP(B12,'pns_A5EB03E23BB5F6A0E040640 (2)'!$A$1:$AX$4558,44) -> SD Negeri 3 Basi - Dinas Pendidikan Dan Kebudayaan | O12: =VLOOKUP(B12,'pns_A5EB03E23BB5F6A0E040640 (2)'!$A$1:$AX$4558,41) -> S-1 SARJANA PENDIDIKAN | Q12: =VLOOKUP(B12,'pns_A5EB03E23BB5F6A0E040640 (2)'!$A$1:$AX$4558,30) -> IV/b | T12: =VLOOKUP(B12,USUL25!A10:$Q$1048576,8) -> BUP KPP | U12: =LEFT(T12,LEN(T12)-4) -> BUP | V12: =U12&" "&Z12 -> BUP January | Y12: =VLOOKUP(B12,USUL25!A10:$Q$1048576,13) -> 45670 | Z12: =TEXT(Y12,"mmmm") -> January | AB12: =DATEDIF(I12,AG12,"Y") &" Tahun "&DATEDIF(I12,AG12,"YM") &" Bulan" -> 60 Tahun 0 Bulan | AC12: =VLOOKUP(B12,USUL25!A10:$Q$1048576,15) -> PH-27206000008 | AE12: =VLOOKUP(B12,USUL25!A$4:$Q$1048576,16) -> 00028/27206/AZ/03/25 | AG12: =VLOOKUP(B12,USUL25!$A$4:$R$1048576,18) -> 45809 | AH12: =DATE(LEFT(B12,4)+60,MID(B12,5,2)+1,1) -> 45809 | AP12: 44348 | AQ12: =TEXT(AP12,"mmmm") -> June | AR12: =COUNTIF(V6:V193,"BUP JUNi")+COUNTIF(V6:V193,"BUP NON JUNi") -> 0 | AS12: =COUNTIF(V6:V193,"Pemberhentian Karena Meninggal Dunia (Janda/Duda) juni")+COUNTIF(V6:V193,"Pemberhentian Karena Meninggal Dunia (Janda/Duda) NON Juni") -> 0 | AT12: =COUNTIF($V$6:$V$193,"APS JUNi") -> 0 | AU12: =COUNTIF($V$6:$V$67,"UDZUR JUNE") -> 0 | AV12: =SUM(AR12:AU12) -> 0
A13: 8 | B13: 196505161989101005 | C13: =VLOOKUP(B13,'pns_A5EB03E23BB5F6A0E040640 (2)'!$A$1:$AX$4558,3) -> MUHAMMAD SYAFEI | D13: =IF(F13="ok","Proses Usul",IF(F13="o","Berkas Lengkap",IF(F13="x","Butuh Kelengkapan",IF(F13="cp","Cetak Pertek",IF(F13="","Cek","Selesai"))))) -> Selesai | E13: - | F13: cek | H13: BUP KPP | I13: =DATE(MID(B13,1,4),MID(B13,5,2),MID(B13,7,2)) -> 23878 | J13: =VLOOKUP(D13,sapk21,4) -> #REF! | K13: =VLOOKUP(B13,'pns_A5EB03E23BB5F6A0E040640 (2)'!$A$1:$AX$4558,35) -> Guru Ahli Muda | L13: =VLOOKUP(B13,'pns_A5EB03E23BB5F6A0E040640 (2)'!$A$1:$AX$4558,36) -> 0 | M13: =IF(L13="41","IV.a",IF(L13="42","IV.b",IF(L13="31","III.a",IF(L13="32","III.b",IF(L13="22","II.b",IF(L13="21","II.a",IF(L13="0","-"))))))) -> FALSE | N13: =VLOOKUP(B13,'pns_A5EB03E23BB5F6A0E040640 (2)'!$A$1:$AX$4558,44) -> SD Negeri Mosing - Dinas Pendidikan Dan Kebudayaan | O13: =VLOOKUP(B13,'pns_A5EB03E23BB5F6A0E040640 (2)'!$A$1:$AX$4558,41) -> SPG PENDIDIKAN SD | Q13: =VLOOKUP(B13,'pns_A5EB03E23BB5F6A0E040640 (2)'!$A$1:$AX$4558,30) -> III/d | T13: =VLOOKUP(B13,USUL25!A10:$Q$1048576,8) -> BUP KPP | U13: =LEFT(T13,LEN(T13)-4) -> BUP | V13: =U13&" "&Z13 -> BUP February | Y13: =VLOOKUP(B13,USUL25!A10:$Q$1048576,13) -> 45698 | Z13: =TEXT(Y13,"mmmm") -> February | AB13: =DATEDIF(I13,AG13,"Y") &" Tahun "&DATEDIF(I13,AG13,"YM") &" Bulan" -> 60 Tahun 0 Bulan | AC13: =VLOOKUP(B13,USUL25!A10:$Q$1048576,15) -> PH-27206000013 | AE13: =VLOOKUP(B13,USUL25!A$4:$Q$1048576,16) -> 00022/27206/AZ/02/25 | AG13: =VLOOKUP(B13,USUL25!$A$4:$R$1048576,18) -> 45809 | AH13: =DATE(LEFT(B13,4)+60,MID(B13,5,2)+1,1) -> 45809 | AP13: 44378 | AQ13: =TEXT(AP13,"mmmm") -> July | AR13: =COUNTIF(V6:V193,"BUP JULi")+COUNTIF(V6:V193,"BUP non Juli") -> 0 | AS13: =COUNTIF(V6:V193,"Pemberhentian Karena Meninggal Dunia (Janda/Duda) juli")+COUNTIF(V6:V193,"Pemberhentian Karena Meninggal Dunia (Janda/Duda) NON Juli") -> 0 | AT13: =COUNTIF($V$6:$V$67,"APS JULi") -> 0 | AU13: =COUNTIF($V$6:$V$67,"UDZUR JULY") -> 0 | AV13: =SUM(AR13:AU13) -> 0
A14: 9 | B14: 196506021992031009 | C14: =VLOOKUP(B14,'pns_A5EB03E23BB5F6A0E040640 (2)'!$A$1:$AX$4558,3) -> R FADJAR SUKO SYUHADHA | D14: =IF(F14="ok","Proses Usul",IF(F14="o","Berkas Lengkap",IF(F14="x","Butuh Kelengkapan",IF(F14="cp","Cetak Pertek",IF(F14="","Cek","Selesai"))))) -> Selesai | E14: - | F14: cek | H14: BUP KPP | I14: =DATE(MID(B14,1,4),MID(B14,5,2),MID(B14,7,2)) -> 23895 | J14: =VLOOKUP(D14,sapk21,4) -> #REF! | K14: =VLOOKUP(B14,'pns_A5EB03E23BB5F6A0E040640 (2)'!$A$1:$AX$4558,35) -> Kepala Dinas Pekerjaan Umum Dan Penataan Ruang | L14: =VLOOKUP(B14,'pns_A5EB03E23BB5F6A0E040640 (2)'!$A$1:$AX$4558,36) -> II b | M14: =IF(L14="41","IV.a",IF(L14="42","IV.b",IF(L14="31","III.a",IF(L14="32","III.b",IF(L14="22","II.b",IF(L14="21","II.a",IF(L14="0","-"))))))) -> FALSE | N14: =VLOOKUP(B14,'pns_A5EB03E23BB5F6A0E040640 (2)'!$A$1:$AX$4558,44) -> Dinas Pekerjaan Umum Dan Penataan Ruang - Pemerintah Kabupaten Tolitoli | O14: =VLOOKUP(B14,'pns_A5EB03E23BB5F6A0E040640 (2)'!$A$1:$AX$4558,41) -> S-2 TEKNIK SIPIL | Q14: =VLOOKUP(B14,'pns_A5EB03E23BB5F6A0E040640 (2)'!$A$1:$AX$4558,30) -> IV/c | T14: =VLOOKUP(B14,USUL25!A11:$Q$1048576,8) -> BUP KPP | U14: =LEFT(T14,LEN(T14)-4) -> BUP | V14: =U14&" "&Z14 -> BUP March | Y14: =VLOOKUP(B14,USUL25!A11:$Q$1048576,13) -> 45743 | Z14: =TEXT(Y14,"mmmm") -> March | AB14: =DATEDIF(I14,AG14,"Y") &" Tahun "&DATEDIF(I14,AG14,"YM") &" Bulan" -> 60 Tahun 0 Bulan | AC14: =VLOOKUP(B14,USUL25!A11:$Q$1048576,15) -> PH-27206000050 | AE14: =VLOOKUP(B14,USUL25!A$4:$Q$1048576,16) -> 00055/27206/AZ/04/25 | AG14: =VLOOKUP(B14,USUL25!$A$4:$R$1048576,18) -> 45839 | AH14: =DATE(LEFT(B14,4)+60,MID(B14,5,2)+1,1) -> 45839 | AP14: 44409 | AQ14: =TEXT(AP14,"mmmm") -> August | AR14: =COUNTIF(V6:V193,"BUP Agustus")+COUNTIF(V6:V193,"BUP NON Agustus") -> 0 | AS14: =COUNTIF(V6:V193,"Pemberhentian Karena Meninggal Dunia (Janda/Duda) Agustus")+COUNTIF(V6:V193,"Pemberhentian Karena Meninggal Dunia (Janda/Duda) NON Agustus") -> 0 | AT14: =COUNTIF($V$6:$V$193,"APS Agustus") -> 0 | AU14: =COUNTIF($V$6:$V$67,"UDZUR AUGUST") -> 0 | AV14: =SUM(AR14:AU14) -> 0
A15: 10 | B15: 196506031993031009 | C15: =VLOOKUP(B15,'pns_A5EB03E23BB5F6A0E040640 (2)'!$A$1:$AX$4558,3) -> SYAFRUDDIN | D15: =IF(F15="ok","Proses Usul",IF(F15="o","Berkas Lengkap",IF(F15="x","Butuh Kelengkapan",IF(F15="cp","Cetak Pertek",IF(F15="","Cek","Selesai"))))) -> Selesai | E15: - | F15: cek | H15: BUP KPP | I15: =DATE(MID(B15,1,4),MID(B15,5,2),MID(B15,7,2)) -> 23896 | J15: =VLOOKUP(D15,sapk21,4) -> #REF! | K15: =VLOOKUP(B15,'pns_A5EB03E23BB5F6A0E040640 (2)'!$A$1:$AX$4558,35) -> Guru Ahli Madya | L15: =VLOOKUP(B15,'pns_A5EB03E23BB5F6A0E040640 (2)'!$A$1:$AX$4558,36) -> 0 | M15: =IF(L15="41","IV.a",IF(L15="42","IV.b",IF(L15="31","III.a",IF(L15="32","III.b",IF(L15="22","II.b",IF(L15="21","II.a",IF(L15="0","-"))))))) -> FALSE | N15: =VLOOKUP(B15,'pns_A5EB03E23BB5F6A0E040640 (2)'!$A$1:$AX$4558,44) -> SMP NEGERI 3 TOLITOLI - Dinas Pendidikan Dan Kebudayaan | O15: =VLOOKUP(B15,'pns_A5EB03E23BB5F6A0E040640 (2)'!$A$1:$AX$4558,41) -> S-1 PENDIDIKAN GEOGRAFI | Q15: =VLOOKUP(B15,'pns_A5EB03E23BB5F6A0E040640 (2)'!$A$1:$AX$4558,30) -> IV/b | T15: =VLOOKUP(B15,USUL25!A12:$Q$1048576,8) -> BUP KPP | U15: =LEFT(T15,LEN(T15)-4) -> BUP | V15: =U15&" "&Z15 -> BUP January | Y15: =VLOOKUP(B15,USUL25!A12:$Q$1048576,13) -> 45673 | Z15: =TEXT(Y15,"mmmm") -> January | AB15: =DATEDIF(I15,AG15,"Y") &" Tahun "&DATEDIF(I15,AG15,"YM") &" Bulan" -> 60 Tahun 0 Bulan | AC15: =VLOOKUP(B15,USUL25!A12:$Q$1048576,15) -> PH-27206000043 | AE15: =VLOOKUP(B15,USUL25!A$4:$Q$1048576,16) -> 00052/27206/AZ/04/25 | AG15: =VLOOKUP(B15,USUL25!$A$4:$R$1048576,18) -> 45839 | AH15: =DATE(LEFT(B15,4)+60,MID(B15,5,2)+1,1) -> 45839 | AP15: 44440 | AQ15: =TEXT(AP15,"mmmm") -> September | AR15: =COUNTIF(V6:V193,"BUP SEPTEMBER")+COUNTIF(V6:V193,"BUP NON SEPTEMBER") -> 23 | AS15: =COUNTIF(V6:V193,"Pemberhentian Karena Meninggal Dunia (Janda/Duda) September")+COUNTIF(V6:V193,"Pemberhentian Karena Meninggal Dunia (Janda/Duda) NON September") -> 6 | AT15: =COUNTIF($V$6:$V$67,"APS SEPTEMBER") -> 0 | AU15: =COUNTIF($V$6:$V$67,"UDZUR SEPTEMBER") -> 0 | AV15: =SUM(AR15:AU15) -> 29 | AW15: =SUM(AV7:AV15) -> 42
A16: 11 | B16: 196506162006041008 | C16: =VLOOKUP(B16,'pns_A5EB03E23BB5F6A0E040640 (2)'!$A$1:$AX$4558,3) -> MOHAMMAD RUM | D16: =IF(F16="ok","Proses Usul",IF(F16="o","Berkas Lengkap",IF(F16="x","Butuh Kelengkapan",IF(F16="cp","Cetak Pertek",IF(F16="","Cek","Selesai"))))) -> Selesai | E16: - | F16: cek | H16: BUP KPP | I16: =DATE(MID(B16,1,4),MID(B16,5,2),MID(B16,7,2)) -> 23909 | J16: =VLOOKUP(D16,sapk21,4) -> #REF! | K16: =VLOOKUP(B16,'pns_A5EB03E23BB5F6A0E040640 (2)'!$A$1:$AX$4558,35) -> Penyuluh Pertanian Ahli Madya | L16: =VLOOKUP(B16,'pns_A5EB03E23BB5F6A0E040640 (2)'!$A$1:$AX$4558,36) -> 0 | M16: =IF(L16="41","IV.a",IF(L16="42","IV.b",IF(L16="31","III.a",IF(L16="32","III.b",IF(L16="22","II.b",IF(L16="21","II.a",IF(L16="0","-"))))))) -> FALSE | N16: =VLOOKUP(B16,'pns_A5EB03E23BB5F6A0E040640 (2)'!$A$1:$AX$4558,44) -> UPT. BALAI PENYULUH PERTANIAN DINAS TANAMAN PANGAN DAN HORTIKULTURA - Dinas Tanaman Pangan Dan Hortikultura | O16: =VLOOKUP(B16,'pns_A5EB03E23BB5F6A0E040640 (2)'!$A$1:$AX$4558,41) -> S-1 BUDIDAYA PERTANIAN | Q16: =VLOOKUP(B16,'pns_A5EB03E23BB5F6A0E040640 (2)'!$A$1:$AX$4558,30) -> IV/c | R16: IV/c | T16: =VLOOKUP(B16,USUL25!A13:$Q$1048576,8) -> BUP Non KPP | U16: =LEFT(T16,LEN(T16)-4) -> BUP Non | V16: =U16&" "&Z16 -> BUP Non April | Y16: =VLOOKUP(B16,USUL25!A13:$Q$1048576,13) -> 45763 | Z16: =TEXT(Y16,"mmmm") -> April | AB16: =DATEDIF(I16,AG16,"Y") &" Tahun "&DATEDIF(I16,AG16,"YM") &" Bulan" -> 60 Tahun 0 Bulan | AC16: =VLOOKUP(B16,USUL25!A13:$Q$1048576,15) -> PD-27206000009 | AE16: =VLOOKUP(B16,USUL25!A$4:$Q$1048576,16) -> 00013/27206/AV/05/25 | AG16: =VLOOKUP(B16,USUL25!$A$4:$R$1048576,18) -> 45839 | AH16: =DATE(LEFT(B16,4)+60,MID(B16,5,2)+1,1) -> 45839 | AP16: 44470 | AQ16: =TEXT(AP16,"mmmm") -> October | AR16: =COUNTIF(V6:V193,"BUP OKTOBER")+COUNTIF(V6:V193,"BUP NON OKTOBER") -> 0 | AS16: =COUNTIF(V6:V193,"Pemberhentian Karena Meninggal Dunia (Janda/Duda) OKTOBER")+COUNTIF(V6:V193,"Pemberhentian Karena Meninggal Dunia (Janda/Duda) NON October") -> 0 | AT16: =COUNTIF($V$6:$V$193,"APS OKTOBER") -> 0 | AU16: =COUNTIF(V6:V67,"UDZUR OKTOBER") -> 0 | AV16: =SUM(AR16:AU16) -> 0
A17: 12 | B17: 196506222006042004 | C17: =VLOOKUP(B17,'pns_A5EB03E23BB5F6A0E040640 (2)'!$A$1:$AX$4558,3) -> FITRI D SWATAN | D17: =IF(F17="ok","Proses Usul",IF(F17="o","Berkas Lengkap",IF(F17="x","Butuh Kelengkapan",IF(F17="cp","Cetak Pertek",IF(F17="","Cek","Selesai"))))) -> Selesai | E17: - | F17: cek | H17: BUP KPP | I17: =DATE(MID(B17,1,4),MID(B17,5,2),MID(B17,7,2)) -> 23915 | J17: =VLOOKUP(D17,sapk21,4) -> #REF! | K17: =VLOOKUP(B17,'pns_A5EB03E23BB5F6A0E040640 (2)'!$A$1:$AX$4558,35) -> Guru Ahli Madya | L17: =VLOOKUP(B17,'pns_A5EB03E23BB5F6A0E040640 (2)'!$A$1:$AX$4558,36) -> 0 | M17: =IF(L17="41","IV.a",IF(L17="42","IV.b",IF(L17="31","III.a",IF(L17="32","III.b",IF(L17="22","II.b",IF(L17="21","II.a",IF(L17="0","-"))))))) -> FALSE | N17: =VLOOKUP(B17,'pns_A5EB03E23BB5F6A0E040640 (2)'!$A$1:$AX$4558,44) -> SMP Negeri 3 Tolitoli Utara - Dinas Pendidikan Dan Kebudayaan | O17: =VLOOKUP(B17,'pns_A5EB03E23BB5F6A0E040640 (2)'!$A$1:$AX$4558,41) -> S-1 PENDIDIKAN AGAMA ISLAM | Q17: =VLOOKUP(B17,'pns_A5EB03E23BB5F6A0E040640 (2)'!$A$1:$AX$4558,30) -> IV/b | T17: =VLOOKUP(B17,USUL25!A14:$Q$1048576,8) -> BUP KPP | U17: =LEFT(T17,LEN(T17)-4) -> BUP | V17: =U17&" "&Z17 -> BUP January | Y17: =VLOOKUP(B17,USUL25!A14:$Q$1048576,13) -> 45674 | Z17: =TEXT(Y17,"mmmm") -> January | AB17: =DATEDIF(I17,AG17,"Y") &" Tahun "&DATEDIF(I17,AG17,"YM") &" Bulan" -> 60 Tahun 0 Bulan | AC17: =VLOOKUP(B17,USUL25!A14:$Q$1048576,15) -> PH-27206000057 | AE17: =VLOOKUP(B17,USUL25!A$4:$Q$1048576,16) -> 00060/27206/AZ/05/25 | AG17: =VLOOKUP(B17,USUL25!$A$4:$R$1048576,18) -> 45839 | AH17: =DATE(LEFT(B17,4)+60,MID(B17,5,2)+1,1) -> 45839 | AP17: 44501 | AQ17: =TEXT(AP17,"mmmm") -> November | AR17: =COUNTIF(V6:V193,"BUP November")+COUNTIF(V134:V193,"BUP NON november") -> 0 | AS17: =COUNTIF(V7:V194,"Pemberhentian Karena Meninggal Dunia (Janda/Duda) NOVEMBER")+COUNTIF(V6:V193,"Pemberhentian Karena Meninggal Dunia (Janda/Duda) NON November") -> 0 | AT17: =COUNTIF($V$6:$V$67,"APS NOVEMBER") -> 0 | AU17: =COUNTIF($V$6:$V$67,"UDZUR NOVEMBER") -> 0 | AV17: =SUM(AR17:AU17) -> 0
A18: 13 | B18: 196506232006042005 | C18: =VLOOKUP(B18,'pns_A5EB03E23BB5F6A0E040640 (2)'!$A$1:$AX$4558,3) -> ROSSANTI | D18: =IF(F18="ok","Proses Usul",IF(F18="o","Berkas Lengkap",IF(F18="x","Butuh Kelengkapan",IF(F18="cp","Cetak Pertek",IF(F18="","Cek","Selesai"))))) -> Selesai | E18: - | F18: cek | H18: BUP KPP | I18: =DATE(MID(B18,1,4),MID(B18,5,2),MID(B18,7,2)) -> 23916 | J18: =VLOOKUP(D18,sapk21,4) -> #REF! | K18: =VLOOKUP(B18,'pns_A5EB03E23BB5F6A0E040640 (2)'!$A$1:$AX$4558,35) -> Guru Ahli Pertama | L18: =VLOOKUP(B18,'pns_A5EB03E23BB5F6A0E040640 (2)'!$A$1:$AX$4558,36) -> 0 | M18: =IF(L18="41","IV.a",IF(L18="42","IV.b",IF(L18="31","III.a",IF(L18="32","III.b",IF(L18="22","II.b",IF(L18="21","II.a",IF(L18="0","-"))))))) -> FALSE | N18: =VLOOKUP(B18,'pns_A5EB03E23BB5F6A0E040640 (2)'!$A$1:$AX$4558,44) -> SD Negeri Percontohan - Dinas Pendidikan Dan Kebudayaan | O18: =VLOOKUP(B18,'pns_A5EB03E23BB5F6A0E040640 (2)'!$A$1:$AX$4558,41) -> S-1 SARJANA PENDIDIKAN | Q18: =VLOOKUP(B18,'pns_A5EB03E23BB5F6A0E040640 (2)'!$A$1:$AX$4558,30) -> III/a | T18: =VLOOKUP(B18,USUL25!A15:$Q$1048576,8) -> BUP KPP | U18: =LEFT(T18,LEN(T18)-4) -> BUP | V18: =U18&" "&Z18 -> BUP April | Y18: =VLOOKUP(B18,USUL25!A15:$Q$1048576,13) -> 45768 | Z18: =TEXT(Y18,"mmmm") -> April | AB18: =DATEDIF(I18,AG18,"Y") &" Tahun "&DATEDIF(I18,AG18,"YM") &" Bulan" -> 60 Tahun 0 Bulan | AC18: =VLOOKUP(B18,USUL25!A15:$Q$1048576,15) -> PH-27206000069 | AE18: =VLOOKUP(B18,USUL25!A$4:$Q$1048576,16) -> 00075/27206/AZ/06/25 | AG18: =VLOOKUP(B18,USUL25!$A$4:$R$1048576,18) -> 45839 | AH18: =DATE(LEFT(B18,4)+60,MID(B18,5,2)+1,1) -> 45839 | AP18: 44531 | AQ18: =TEXT(AP18,"mmmm") -> December | AR18: =COUNTIF(V6:V195,"BUP DESEMBER")+COUNTIF(V6:V195,"BUP NON DESEMBER") -> 0 | AS18: =COUNTIF(V6:V195,"Pemberhentian Karena Meninggal Dunia (Janda/Duda) DECEMBER")+COUNTIF(V6:V193,"Pemberhentian Karena Meninggal Dunia (Janda/Duda) NON December") -> 0 | AT18: =COUNTIF($V$6:$V$193,"BERHENTI ATAS PERMINTAAN SENDIRI DECEMBER") -> 0 | AU18: =COUNTIF($V$6:$V$67,"UDZUR DECEMBER") -> 0 | AV18: =SUM(AR18:AU18) -> 0
A19: 14 | B19: 196506241993031011 | C19: =VLOOKUP(B19,'pns_A5EB03E23BB5F6A0E040640 (2)'!$A$1:$AX$4558,3) -> SURYADI ANWAR | D19: =IF(F19="ok","Proses Usul",IF(F19="o","Berkas Lengkap",IF(F19="x","Butuh Kelengkapan",IF(F19="cp","Cetak Pertek",IF(F19="","Cek","Selesai"))))) -> Selesai | E19: - | F19: cek | H19: BUP KPP | I19: =DATE(MID(B19,1,4),MID(B19,5,2),MID(B19,7,2)) -> 23917 | J19: =VLOOKUP(D19,sapk21,4) -> #REF! | K19: =VLOOKUP(B19,'pns_A5EB03E23BB5F6A0E040640 (2)'!$A$1:$AX$4558,35) -> Guru Ahli Madya | L19: =VLOOKUP(B19,'pns_A5EB03E23BB5F6A0E040640 (2)'!$A$1:$AX$4558,36) -> 0 | M19: =IF(L19="41","IV.a",IF(L19="42","IV.b",IF(L19="31","III.a",IF(L19="32","III.b",IF(L19="22","II.b",IF(L19="21","II.a",IF(L19="0","-"))))))) -> FALSE | N19: =VLOOKUP(B19,'pns_A5EB03E23BB5F6A0E040640 (2)'!$A$1:$AX$4558,44) -> SMP Negeri Satu Atap Sibaluton - Dinas Pendidikan Dan Kebudayaan | O19: =VLOOKUP(B19,'pns_A5EB03E23BB5F6A0E040640 (2)'!$A$1:$AX$4558,41) -> S-1 BAHASA INDONESIA | Q19: =VLOOKUP(B19,'pns_A5EB03E23BB5F6A0E040640 (2)'!$A$1:$AX$4558,30) -> IV/a | T19: =VLOOKUP(B19,USUL25!A16:$Q$1048576,8) -> BUP KPP | U19: =LEFT(T19,LEN(T19)-4) -> BUP | V19: =U19&" "&Z19 -> BUP January | Y19: =VLOOKUP(B19,USUL25!A16:$Q$1048576,13) -> 45667 | Z19: =TEXT(Y19,"mmmm") -> January | AB19: =DATEDIF(I19,AG19,"Y") &" Tahun "&DATEDIF(I19,AG19,"YM") &" Bulan" -> 60 Tahun 0 Bulan | AC19: =VLOOKUP(B19,USUL25!A16:$Q$1048576,15) -> PH-27206000060 | AE19: =VLOOKUP(B19,USUL25!A$4:$Q$1048576,16) -> 00063/27206/AZ/05/25 | AG19: =VLOOKUP(B19,USUL25!$A$4:$R$1048576,18) -> 45839 | AH19: =DATE(LEFT(B19,4)+60,MID(B19,5,2)+1,1) -> 45839 | AR19: =SUM(AR7:AR18) -> 35 | AS19: =SUM(AS7:AS18) -> 7 | AT19: =SUM(AT7:AT18) -> 0 | AU19: =SUM(AU15:AU18) -> 0 | AV19: =SUM(AV7:AV18) -> 42
A20: 15 | B20: 196507031986021007 | C20: =VLOOKUP(B20,'pns_A5EB03E23BB5F6A0E040640 (2)'!$A$1:$AX$4558,3) -> AZIS | D20: =IF(F20="ok","Proses Usul",IF(F20="o","Berkas Lengkap",IF(F20="x","Butuh Kelengkapan",IF(F20="cp","Cetak Pertek",IF(F20="","Cek","Selesai"))))) -> Selesai | E20: - | F20: cek | H20: BUP KPP | I20: =DATE(MID(B20,1,4),MID(B20,5,2),MID(B20,7,2)) -> 23926 | J20: =VLOOKUP(D20,sapk21,4) -> #REF! | K20: =VLOOKUP(B20,'pns_A5EB03E23BB5F6A0E040640 (2)'!$A$1:$AX$4558,35) -> Guru Ahli Madya | L20: =VLOOKUP(B20,'pns_A5EB03E23BB5F6A0E040640 (2)'!$A$1:$AX$4558,36) -> 0 | M20: =IF(L20="41","IV.a",IF(L20="42","IV.b",IF(L20="31","III.a",IF(L20="32","III.b",IF(L20="22","II.b",IF(L20="21","II.a",IF(L20="0","-"))))))) -> FALSE | N20: =VLOOKUP(B20,'pns_A5EB03E23BB5F6A0E040640 (2)'!$A$1:$AX$4558,44) -> SD Negeri 1 Sambujang - Dinas Pendidikan Dan Kebudayaan | O20: =VLOOKUP(B20,'pns_A5EB03E23BB5F6A0E040640 (2)'!$A$1:$AX$4558,41) -> D-II/A-II | Q20: =VLOOKUP(B20,'pns_A5EB03E23BB5F6A0E040640 (2)'!$A$1:$AX$4558,30) -> IV/a | T20: =VLOOKUP(B20,USUL25!A17:$Q$1048576,8) -> BUP KPP | U20: =LEFT(T20,LEN(T20)-4) -> BUP | V20: =U20&" "&Z20 -> BUP February | Y20: =VLOOKUP(B20,USUL25!A17:$Q$1048576,13) -> 45708 | Z20: =TEXT(Y20,"mmmm") -> February | AB20: =DATEDIF(I20,AG20,"Y") &" Tahun "&DATEDIF(I20,AG20,"YM") &" Bulan" -> 60 Tahun 0 Bulan | AC20: =VLOOKUP(B20,USUL25!A17:$Q$1048576,15) -> PH-27206000035 | AE20: =VLOOKUP(B20,USUL25!A$4:$Q$1048576,16) -> 00053/27206/AZ/04/25 | AG20: =VLOOKUP(B20,USUL25!$A$4:$R$1048576,18) -> 45870 | AH20: =DATE(LEFT(B20,4)+60,MID(B20,5,2)+1,1) -> 45870
A21: 16 | B21: 196507121995121006 | C21: =VLOOKUP(B21,'pns_A5EB03E23BB5F6A0E040640 (2)'!$A$1:$AX$4558,3) -> BUHARI HI AZIS | D21: =IF(F21="ok","Proses Usul",IF(F21="o","Berkas Lengkap",IF(F21="x","Butuh Kelengkapan",IF(F21="cp","Cetak Pertek",IF(F21="","Cek","Selesai"))))) -> Selesai | E21: - | F21: cek | H21: BUP KPP | I21: =DATE(MID(B21,1,4),MID(B21,5,2),MID(B21,7,2)) -> 23935 | J21: =VLOOKUP(D21,sapk21,4) -> #REF! | K21: =VLOOKUP(B21,'pns_A5EB03E23BB5F6A0E040640 (2)'!$A$1:$AX$4558,35) -> Guru Madya | L21: =VLOOKUP(B21,'pns_A5EB03E23BB5F6A0E040640 (2)'!$A$1:$AX$4558,36) -> 0 | M21: =IF(L21="41","IV.a",IF(L21="42","IV.b",IF(L21="31","III.a",IF(L21="32","III.b",IF(L21="22","II.b",IF(L21="21","II.a",IF(L21="0","-"))))))) -> FALSE | N21: =VLOOKUP(B21,'pns_A5EB03E23BB5F6A0E040640 (2)'!$A$1:$AX$4558,44) -> SD Negeri 2 Galumpang - Dinas Pendidikan Dan Kebudayaan | O21: =VLOOKUP(B21,'pns_A5EB03E23BB5F6A0E040640 (2)'!$A$1:$AX$4558,41) -> D-II | Q21: =VLOOKUP(B21,'pns_A5EB03E23BB5F6A0E040640 (2)'!$A$1:$AX$4558,30) -> IV/a | T21: =VLOOKUP(B21,USUL25!A18:$Q$1048576,8) -> BUP KPP | U21: =LEFT(T21,LEN(T21)-4) -> BUP | V21: =U21&" "&Z21 -> BUP February | Y21: =VLOOKUP(B21,USUL25!A18:$Q$1048576,13) -> 45695 | Z21: =TEXT(Y21,"mmmm") -> February | AB21: =DATEDIF(I21,AG21,"Y") &" Tahun "&DATEDIF(I21,AG21,"YM") &" Bulan" -> 60 Tahun 0 Bulan | AC21: PH-27206000105 | AD21: PH-27206000105 | AE21: 00112/27206/AZ/08/25 | AG21: =VLOOKUP(B21,USUL25!$A$4:$R$1048576,18) -> 45870 | AH21: =DATE(LEFT(B21,4)+58,MID(B21,5,2)+1,1) -> 45139
A22: 17 | B22: 196507151986112003 | C22: =VLOOKUP(B22,'pns_A5EB03E23BB5F6A0E040640 (2)'!$A$1:$AX$4558,3) -> WARDA | D22: =IF(F22="ok","Proses Usul",IF(F22="o","Berkas Lengkap",IF(F22="x","Butuh Kelengkapan",IF(F22="cp","Cetak Pertek",IF(F22="","Cek","Selesai"))))) -> Selesai | E22: - | F22: cek | H22: BUP KPP | I22: =DATE(MID(B22,1,4),MID(B22,5,2),MID(B22,7,2)) -> 23938 | J22: =VLOOKUP(D22,sapk21,4) -> #REF! | K22: =VLOOKUP(B22,'pns_A5EB03E23BB5F6A0E040640 (2)'!$A$1:$AX$4558,35) -> Guru Pembina | L22: =VLOOKUP(B22,'pns_A5EB03E23BB5F6A0E040640 (2)'!$A$1:$AX$4558,36) -> 0 | M22: =IF(L22="41","IV.a",IF(L22="42","IV.b",IF(L22="31","III.a",IF(L22="32","III.b",IF(L22="22","II.b",IF(L22="21","II.a",IF(L22="0","-"))))))) -> FALSE | N22: =VLOOKUP(B22,'pns_A5EB03E23BB5F6A0E040640 (2)'!$A$1:$AX$4558,44) -> SD Negeri Pembina - Dinas Pendidikan Dan Kebudayaan | O22: =VLOOKUP(B22,'pns_A5EB03E23BB5F6A0E040640 (2)'!$A$1:$AX$4558,41) -> S-1 AGAMA ISLAM | Q22: =VLOOKUP(B22,'pns_A5EB03E23BB5F6A0E040640 (2)'!$A$1:$AX$4558,30) -> IV/a | T22: =VLOOKUP(B22,USUL25!A19:$Q$1048576,8) -> BUP KPP | U22: =LEFT(T22,LEN(T22)-4) -> BUP | V22: =U22&" "&Z22 -> BUP April | Y22: =VLOOKUP(B22,USUL25!A19:$Q$1048576,13) -> 45763 | Z22: =TEXT(Y22,"mmmm") -> April | AB22: =DATEDIF(I22,AG22,"Y") &" Tahun "&DATEDIF(I22,AG22,"YM") &" Bulan" -> 60 Tahun 0 Bulan | AC22: =VLOOKUP(B22,USUL25!A19:$Q$1048576,15) -> PH-27206000073 | AE22: =VLOOKUP(B22,USUL25!A$4:$Q$1048576,16) -> 00090/27206/AZ/07/25 | AG22: =VLOOKUP(B22,USUL25!$A$4:$R$1048576,18) -> 45870 | AH22: =DATE(LEFT(B22,4)+58,MID(B22,5,2)+1,1) -> 45139
A23: 18 | B23: 196507151988032023 | C23: =VLOOKUP(B23,'pns_A5EB03E23BB5F6A0E040640 (2)'!$A$1:$AX$4558,3) -> SAHMIN NUWA | D23: =IF(F23="ok","Proses Usul",IF(F23="o","Berkas Lengkap",IF(F23="x","Butuh Kelengkapan",IF(F23="cp","Cetak Pertek",IF(F23="","Cek","Selesai"))))) -> Selesai | E23: - | F23: cek | H23: BUP KPP | I23: =DATE(MID(B23,1,4),MID(B23,5,2),MID(B23,7,2)) -> 23938 | J23: =VLOOKUP(D23,sapk21,4) -> #REF! | K23: =VLOOKUP(B23,'pns_A5EB03E23BB5F6A0E040640 (2)'!$A$1:$AX$4558,35) -> Guru Ahli Madya | L23: =VLOOKUP(B23,'pns_A5EB03E23BB5F6A0E040640 (2)'!$A$1:$AX$4558,36) -> 0 | M23: =IF(L23="41","IV.a",IF(L23="42","IV.b",IF(L23="31","III.a",IF(L23="32","III.b",IF(L23="22","II.b",IF(L23="21","II.a",IF(L23="0","-"))))))) -> FALSE | N23: =VLOOKUP(B23,'pns_A5EB03E23BB5F6A0E040640 (2)'!$A$1:$AX$4558,44) -> SD Negeri Percontohan - Dinas Pendidikan Dan Kebudayaan | O23: =VLOOKUP(B23,'pns_A5EB03E23BB5F6A0E040640 (2)'!$A$1:$AX$4558,41) -> S-1 PENDIDIKAN PGSD | Q23: =VLOOKUP(B23,'pns_A5EB03E23BB5F6A0E040640 (2)'!$A$1:$AX$4558,30) -> IV/b | T23: =VLOOKUP(B23,USUL25!A20:$Q$1048576,8) -> Pemberhentian Karena Meninggal Dunia (Janda/Duda) KPP | U23: =LEFT(T23,LEN(T23)-4) -> Pemberhentian Karena Meninggal Dunia (Janda/Duda) | V23: =U23&" "&Z23 -> Pemberhentian Karena Meninggal Dunia (Janda/Duda) February | Y23: =VLOOKUP(B23,USUL25!A20:$Q$1048576,13) -> 45698 | Z23: =TEXT(Y23,"mmmm") -> February | AB23: =DATEDIF(I23,AG23,"Y") &" Tahun "&DATEDIF(I23,AG23,"YM") &" Bulan" -> 59 Tahun 4 Bulan | AC23: =VLOOKUP(B23,USUL25!A20:$Q$1048576,15) -> PH-27206000016 | AE23: =VLOOKUP(B23,USUL25!A$4:$Q$1048576,16) -> 00015/27206/AZ/02/25 | AG23: =VLOOKUP(B23,USUL25!$A$4:$R$1048576,18) -> 45627 | AH23: =DATE(LEFT(B23,4)+58,MID(B23,5,2)+1,1) -> 45139
A24: 19 | B24: 196507201989091001 | C24: =VLOOKUP(B24,'pns_A5EB03E23BB5F6A0E040640 (2)'!$A$1:$AX$4558,3) -> PONIMAN | D24: =IF(F24="ok","Proses Usul",IF(F24="o","Berkas Lengkap",IF(F24="x","Butuh Kelengkapan",IF(F24="cp","Cetak Pertek",IF(F24="","Cek","Selesai"))))) -> Selesai | E24: - | F24: cek | H24: BUP KPP | I24: =DATE(MID(B24,1,4),MID(B24,5,2),MID(B24,7,2)) -> 23943 | J24: =VLOOKUP(D24,sapk21,4) -> #REF! | K24: =VLOOKUP(B24,'pns_A5EB03E23BB5F6A0E040640 (2)'!$A$1:$AX$4558,35) -> Guru Ahli Madya | L24: =VLOOKUP(B24,'pns_A5EB03E23BB5F6A0E040640 (2)'!$A$1:$AX$4558,36) -> 0 | M24: =IF(L24="41","IV.a",IF(L24="42","IV.b",IF(L24="31","III.a",IF(L24="32","III.b",IF(L24="22","II.b",IF(L24="21","II.a",IF(L24="0","-"))))))) -> FALSE | N24: =VLOOKUP(B24,'pns_A5EB03E23BB5F6A0E040640 (2)'!$A$1:$AX$4558,44) -> SD Negeri Dontong - Dinas Pendidikan Dan Kebudayaan | O24: =VLOOKUP(B24,'pns_A5EB03E23BB5F6A0E040640 (2)'!$A$1:$AX$4558,41) -> S-1 SARJANA PENDIDIKAN | Q24: =VLOOKUP(B24,'pns_A5EB03E23BB5F6A0E040640 (2)'!$A$1:$AX$4558,30) -> IV/b | T24: =VLOOKUP(B24,USUL25!A21:$Q$1048576,8) -> BUP KPP | U24: =LEFT(T24,LEN(T24)-4) -> BUP | V24: =U24&" "&Z24 -> BUP January | Y24: =VLOOKUP(B24,USUL25!A21:$Q$1048576,13) -> 45667 | Z24: =TEXT(Y24,"mmmm") -> January | AB24: =DATEDIF(I24,AG24,"Y") &" Tahun "&DATEDIF(I24,AG24,"YM") &" Bulan" -> 60 Tahun 0 Bulan | AC24: =VLOOKUP(B24,USUL25!A21:$Q$1048576,15) -> PH-27206000059 | AE24: =VLOOKUP(B24,USUL25!A$4:$Q$1048576,16) -> 00069/27206/AZ/05/25 | AG24: =VLOOKUP(B24,USUL25!$A$4:$R$1048576,18) -> 45870 | AH24: =DATE(LEFT(B24,4)+58,MID(B24,5,2)+1,1) -> 45139
A25: 20 | B25: 196508091992031006 | C25: =VLOOKUP(B25,'pns_A5EB03E23BB5F6A0E040640 (2)'!$A$1:$AX$4558,3) -> NASIR DAENG SILASA | D25: =IF(F25="ok","Proses Usul",IF(F25="o","Berkas Lengkap",IF(F25="x","Butuh Kelengkapan",IF(F25="cp","Cetak Pertek",IF(F25="","Cek","Selesai"))))) -> Selesai | E25: - | F25: cek | H25: BUP KPP | I25: =DATE(MID(B25,1,4),MID(B25,5,2),MID(B25,7,2)) -> 23963 | J25: =VLOOKUP(D25,sapk21,4) -> #REF! | K25: =VLOOKUP(B25,'pns_A5EB03E23BB5F6A0E040640 (2)'!$A$1:$AX$4558,35) -> Pengawas Pemerintahan Madya / Ahli Madya | L25: =VLOOKUP(B25,'pns_A5EB03E23BB5F6A0E040640 (2)'!$A$1:$AX$4558,36) -> 0 | M25: =IF(L25="41","IV.a",IF(L25="42","IV.b",IF(L25="31","III.a",IF(L25="32","III.b",IF(L25="22","II.b",IF(L25="21","II.a",IF(L25="0","-"))))))) -> FALSE | N25: =VLOOKUP(B25,'pns_A5EB03E23BB5F6A0E040640 (2)'!$A$1:$AX$4558,44) -> Inspektur IV - Inspektorat Daerah | O25: =VLOOKUP(B25,'pns_A5EB03E23BB5F6A0E040640 (2)'!$A$1:$AX$4558,41) -> S-2 MASTER OF SCIENCE | Q25: =VLOOKUP(B25,'pns_A5EB03E23BB5F6A0E040640 (2)'!$A$1:$AX$4558,30) -> IV/c | T25: =VLOOKUP(B25,USUL25!A22:$Q$1048576,8) -> BUP KPP | U25: =LEFT(T25,LEN(T25)-4) -> BUP | V25: =U25&" "&Z25 -> BUP May | Y25: =VLOOKUP(B25,USUL25!A22:$Q$1048576,13) -> 45779 | Z25: =TEXT(Y25,"mmmm") -> May | AB25: =DATEDIF(I25,AG25,"Y") &" Tahun "&DATEDIF(I25,AG25,"YM") &" Bulan" -> 60 Tahun 0 Bulan | AC25: =VLOOKUP(B25,USUL25!A22:$Q$1048576,15) -> PH-27206000063 | AE25: =VLOOKUP(B25,USUL25!A$4:$Q$1048576,16) -> 00070/27206/AZ/05/25 | AG25: =VLOOKUP(B25,USUL25!$A$4:$R$1048576,18) -> 45901 | AH25: =DATE(LEFT(B25,4)+58,MID(B25,5,2)+1,1) -> 45170
A26: 21 | B26: 196508141986012002 | C26: =VLOOKUP(B26,'pns_A5EB03E23BB5F6A0E040640 (2)'!$A$1:$AX$4558,3) -> MARITJE HADJU | D26: =IF(F26="ok","Proses Usul",IF(F26="o","Berkas Lengkap",IF(F26="x","Butuh Kelengkapan",IF(F26="cp","Cetak Pertek",IF(F26="","Cek","Selesai"))))) -> Selesai | E26: - | F26: cek | H26: BUP KPP | I26: =DATE(MID(B26,1,4),MID(B26,5,2),MID(B26,7,2)) -> 23968 | J26: =VLOOKUP(D26,sapk21,4) -> #REF! | K26: =VLOOKUP(B26,'pns_A5EB03E23BB5F6A0E040640 (2)'!$A$1:$AX$4558,35) -> Guru Pembina | L26: =VLOOKUP(B26,'pns_A5EB03E23BB5F6A0E040640 (2)'!$A$1:$AX$4558,36) -> 0 | M26: =IF(L26="41","IV.a",IF(L26="42","IV.b",IF(L26="31","III.a",IF(L26="32","III.b",IF(L26="22","II.b",IF(L26="21","II.a",IF(L26="0","-"))))))) -> FALSE | N26: =VLOOKUP(B26,'pns_A5EB03E23BB5F6A0E040640 (2)'!$A$1:$AX$4558,44) -> SMP Negeri 1 Dondo - Dinas Pendidikan Dan Kebudayaan | O26: =VLOOKUP(B26,'pns_A5EB03E23BB5F6A0E040640 (2)'!$A$1:$AX$4558,41) -> D-I/A-I BAHASA DAN SASTRA INDONESIA | Q26: =VLOOKUP(B26,'pns_A5EB03E23BB5F6A0E040640 (2)'!$A$1:$AX$4558,30) -> IV/a | T26: =VLOOKUP(B26,USUL25!A23:$Q$1048576,8) -> BUP KPP | U26: =LEFT(T26,LEN(T26)-4) -> BUP | V26: =U26&" "&Z26 -> BUP May | Y26: =VLOOKUP(B26,USUL25!A23:$Q$1048576,13) -> 45797 | Z26: =TEXT(Y26,"mmmm") -> May | AB26: =DATEDIF(I26,AG26,"Y") &" Tahun "&DATEDIF(I26,AG26,"YM") &" Bulan" -> 60 Tahun 0 Bulan | AC26: =VLOOKUP(B26,USUL25!A23:$Q$1048576,15) -> PH-27206000077 | AE26: =VLOOKUP(B26,USUL25!A$4:$Q$1048576,16) -> 00080/27206/AZ/06/25 | AG26: =VLOOKUP(B26,USUL25!$A$4:$R$1048576,18) -> 45901 | AH26: =DATE(LEFT(B26,4)+58,MID(B26,5,2)+1,1) -> 45170
A27: 22 | B27: 196508152000121003 | C27: =VLOOKUP(B27,'pns_A5EB03E23BB5F6A0E040640 (2)'!$A$1:$AX$4558,3) -> BANGUN | D27: =IF(F27="ok","Proses Usul",IF(F27="o","Berkas Lengkap",IF(F27="x","Butuh Kelengkapan",IF(F27="cp","Cetak Pertek",IF(F27="","Cek","Selesai"))))) -> Selesai | E27: - | F27: cek | H27: BUP KPP | I27: =DATE(MID(B27,1,4),MID(B27,5,2),MID(B27,7,2)) -> 23969 | J27: =VLOOKUP(D27,sapk21,4) -> #REF! | K27: =VLOOKUP(B27,'pns_A5EB03E23BB5F6A0E040640 (2)'!$A$1:$AX$4558,35) -> Guru Madya | L27: =VLOOKUP(B27,'pns_A5EB03E23BB5F6A0E040640 (2)'!$A$1:$AX$4558,36) -> 0 | M27: =IF(L27="41","IV.a",IF(L27="42","IV.b",IF(L27="31","III.a",IF(L27="32","III.b",IF(L27="22","II.b",IF(L27="21","II.a",IF(L27="0","-"))))))) -> FALSE | N27: =VLOOKUP(B27,'pns_A5EB03E23BB5F6A0E040640 (2)'!$A$1:$AX$4558,44) -> SMP Negeri 1 Ogodeide - Dinas Pendidikan Dan Kebudayaan | O27: =VLOOKUP(B27,'pns_A5EB03E23BB5F6A0E040640 (2)'!$A$1:$AX$4558,41) -> S-1 PENDIDIKAN KESEHATAN DAN REKREASI | Q27: =VLOOKUP(B27,'pns_A5EB03E23BB5F6A0E040640 (2)'!$A$1:$AX$4558,30) -> IV/a | T27: =VLOOKUP(B27,USUL25!A24:$Q$1048576,8) -> BUP KPP | U27: =LEFT(T27,LEN(T27)-4) -> BUP | V27: =U27&" "&Z27 -> BUP May | Y27: =VLOOKUP(B27,USUL25!A24:$Q$1048576,13) -> 45797 | Z27: =TEXT(Y27,"mmmm") -> May | AB27: =DATEDIF(I27,AG27,"Y") &" Tahun "&DATEDIF(I27,AG27,"YM") &" Bulan" -> 60 Tahun 0 Bulan | AC27: =VLOOKUP(B27,USUL25!A24:$Q$1048576,15) -> PH-27206000083 | AE27: =VLOOKUP(B27,USUL25!A$4:$Q$1048576,16) -> 00082/27206/AZ/06/25 | AG27: =VLOOKUP(B27,USUL25!$A$4:$R$1048576,18) -> 45901 | AH27: =DATE(LEFT(B27,4)+58,MID(B27,5,2)+1,1) -> 45170
A28: 23 | B28: 196508241988032010 | C28: =VLOOKUP(B28,'pns_A5EB03E23BB5F6A0E040640 (2)'!$A$1:$AX$4558,3) -> FAISAL DAUD A USU | D28: =IF(F28="ok","Proses Usul",IF(F28="o","Berkas Lengkap",IF(F28="x","Butuh Kelengkapan",IF(F28="cp","Cetak Pertek",IF(F28="","Cek","Selesai"))))) -> Selesai | E28: - | F28: cek | H28: BUP KPP | I28: =DATE(MID(B28,1,4),MID(B28,5,2),MID(B28,7,2)) -> 23978 | J28: =VLOOKUP(D28,sapk21,4) -> #REF! | K28: =VLOOKUP(B28,'pns_A5EB03E23BB5F6A0E040640 (2)'!$A$1:$AX$4558,35) -> Guru Ahli Madya | L28: =VLOOKUP(B28,'pns_A5EB03E23BB5F6A0E040640 (2)'!$A$1:$AX$4558,36) -> 0 | M28: =IF(L28="41","IV.a",IF(L28="42","IV.b",IF(L28="31","III.a",IF(L28="32","III.b",IF(L28="22","II.b",IF(L28="21","II.a",IF(L28="0","-"))))))) -> FALSE | N28: =VLOOKUP(B28,'pns_A5EB03E23BB5F6A0E040640 (2)'!$A$1:$AX$4558,44) -> SD Negeri Taring - Dinas Pendidikan Dan Kebudayaan | O28: =VLOOKUP(B28,'pns_A5EB03E23BB5F6A0E040640 (2)'!$A$1:$AX$4558,41) -> SPG PENDIDIKAN SD | Q28: =VLOOKUP(B28,'pns_A5EB03E23BB5F6A0E040640 (2)'!$A$1:$AX$4558,30) -> IV/a | T28: =VLOOKUP(B28,USUL25!A25:$Q$1048576,8) -> BUP KPP | U28: =LEFT(T28,LEN(T28)-4) -> BUP | V28: =U28&" "&Z28 -> BUP July | Y28: =VLOOKUP(B28,USUL25!A25:$Q$1048576,13) -> 45856 | Z28: =TEXT(Y28,"mmmm") -> July | AB28: =DATEDIF(I28,AG28,"Y") &" Tahun "&DATEDIF(I28,AG28,"YM") &" Bulan" -> 60 Tahun 0 Bulan | AC28: PH-27206000108 | AE28: 00113/27206/AZ/08/25 | AG28: =VLOOKUP(B28,USUL25!$A$4:$R$1048576,18) -> 45901 | AH28: =DATE(YEAR(W28),MONTH(W28)+1,1) -> 32
A29: 24 | B29: 196509111993031011 | C29: =VLOOKUP(B29,'pns_A5EB03E23BB5F6A0E040640 (2)'!$A$1:$AX$4558,3) -> MOHAMMAD AKBAR SYAH | D29: =IF(F29="ok","Proses Usul",IF(F29="o","Berkas Lengkap",IF(F29="x","Butuh Kelengkapan",IF(F29="cp","Cetak Pertek",IF(F29="","Cek","Selesai"))))) -> Selesai | E29: - | F29: cek | H29: BUP KPP | I29: =DATE(MID(B29,1,4),MID(B29,5,2),MID(B29,7,2)) -> 23996 | J29: =VLOOKUP(D29,sapk21,4) -> #REF! | K29: =VLOOKUP(B29,'pns_A5EB03E23BB5F6A0E040640 (2)'!$A$1:$AX$4558,35) -> Staf Ahli Bidang Kemasyarakatan Dan Sumber Daya Manusia | L29: =VLOOKUP(B29,'pns_A5EB03E23BB5F6A0E040640 (2)'!$A$1:$AX$4558,36) -> II b | M29: =IF(L29="41","IV.a",IF(L29="42","IV.b",IF(L29="31","III.a",IF(L29="32","III.b",IF(L29="22","II.b",IF(L29="21","II.a",IF(L29="0","-"))))))) -> FALSE | N29: =VLOOKUP(B29,'pns_A5EB03E23BB5F6A0E040640 (2)'!$A$1:$AX$4558,44) -> Staf Ahli Bidang Kemasyarakatan Dan Sumber Daya Manusia - Sekretariat Daerah | O29: =VLOOKUP(B29,'pns_A5EB03E23BB5F6A0E040640 (2)'!$A$1:$AX$4558,41) -> S-1 PERTANIAN | Q29: =VLOOKUP(B29,'pns_A5EB03E23BB5F6A0E040640 (2)'!$A$1:$AX$4558,30) -> IV/c | T29: =VLOOKUP(B29,USUL25!A26:$Q$1048576,8) -> BUP KPP | U29: =LEFT(T29,LEN(T29)-4) -> BUP | V29: =U29&" "&Z29 -> BUP June | Y29: =VLOOKUP(B29,USUL25!A26:$Q$1048576,13) -> 45825 | Z29: =TEXT(Y29,"mmmm") -> June | AB29: =DATEDIF(I29,AG29,"Y") &" Tahun "&DATEDIF(I29,AG29,"YM") &" Bulan" -> 60 Tahun 0 Bulan | AC29: =VLOOKUP(B29,USUL25!A26:$Q$1048576,15) -> PH-27206000082 | AE29: =VLOOKUP(B29,USUL25!A$4:$Q$1048576,16) -> 00085/27206/AZ/07/25 | AG29: =VLOOKUP(B29,USUL25!$A$4:$R$1048576,18) -> 45931 | AH29: =DATE(YEAR(W29),MONTH(W29)+1,1) -> 32
A30: 25 | B30: 196509141986012002 | C30: =VLOOKUP(B30,'pns_A5EB03E23BB5F6A0E040640 (2)'!$A$1:$AX$4558,3) -> INNEKE JOOLA ELSJE GIROTH | D30: =IF(F30="ok","Proses Usul",IF(F30="o","Berkas Lengkap",IF(F30="x","Butuh Kelengkapan",IF(F30="cp","Cetak Pertek",IF(F30="","Cek","Selesai"))))) -> Selesai | E30: - | F30: cek | H30: BUP KPP | I30: =DATE(MID(B30,1,4),MID(B30,5,2),MID(B30,7,2)) -> 23999 | J30: =VLOOKUP(D30,sapk21,4) -> #REF! | K30: =VLOOKUP(B30,'pns_A5EB03E23BB5F6A0E040640 (2)'!$A$1:$AX$4558,35) -> Guru Madya | L30: =VLOOKUP(B30,'pns_A5EB03E23BB5F6A0E040640 (2)'!$A$1:$AX$4558,36) -> 0 | M30: =IF(L30="41","IV.a",IF(L30="42","IV.b",IF(L30="31","III.a",IF(L30="32","III.b",IF(L30="22","II.b",IF(L30="21","II.a",IF(L30="0","-"))))))) -> FALSE | N30: =VLOOKUP(B30,'pns_A5EB03E23BB5F6A0E040640 (2)'!$A$1:$AX$4558,44) -> SMP Negeri 5 Tolitoli - Dinas Pendidikan Dan Kebudayaan | O30: =VLOOKUP(B30,'pns_A5EB03E23BB5F6A0E040640 (2)'!$A$1:$AX$4558,41) -> A-IV BAHASA INDONESIA | Q30: =VLOOKUP(B30,'pns_A5EB03E23BB5F6A0E040640 (2)'!$A$1:$AX$4558,30) -> IV/b | T30: =VLOOKUP(B30,USUL25!A27:$Q$1048576,8) -> BUP KPP | U30: =LEFT(T30,LEN(T30)-4) -> BUP | V30: =U30&" "&Z30 -> BUP June | Y30: =VLOOKUP(B30,USUL25!A27:$Q$1048576,13) -> 45831 | Z30: =TEXT(Y30,"mmmm") -> June | AB30: =DATEDIF(I30,AG30,"Y") &" Tahun "&DATEDIF(I30,AG30,"YM") &" Bulan" -> 60 Tahun 0 Bulan | AC30: =VLOOKUP(B30,USUL25!A27:$Q$1048576,15) -> PH-27206000090 | AE30: =VLOOKUP(B30,USUL25!A$4:$Q$1048576,16) -> 00095/27206/AZ/07/25 | AG30: =VLOOKUP(B30,USUL25!$A$4:$R$1048576,18) -> 45931 | AH30: =DATE(LEFT(B30,4)+58,MID(B30,5,2)+1,1) -> 45200
A31: 26 | B31: 196509171988032009 | C31: =VLOOKUP(B31,'pns_A5EB03E23BB5F6A0E040640 (2)'!$A$1:$AX$4558,3) -> YULIN H. LARADA | D31: =IF(F31="ok","Proses Usul",IF(F31="o","Berkas Lengkap",IF(F31="x","Butuh Kelengkapan",IF(F31="cp","Cetak Pertek",IF(F31="","Cek","Selesai"))))) -> Selesai | E31: - | F31: cek | H31: BUP KPP | I31: =DATE(MID(B31,1,4),MID(B31,5,2),MID(B31,7,2)) -> 24002 | J31: =VLOOKUP(D31,sapk21,4) -> #REF! | K31: =VLOOKUP(B31,'pns_A5EB03E23BB5F6A0E040640 (2)'!$A$1:$AX$4558,35) -> Guru Ahli Muda | L31: =VLOOKUP(B31,'pns_A5EB03E23BB5F6A0E040640 (2)'!$A$1:$AX$4558,36) -> 0 | M31: =IF(L31="41","IV.a",IF(L31="42","IV.b",IF(L31="31","III.a",IF(L31="32","III.b",IF(L31="22","II.b",IF(L31="21","II.a",IF(L31="0","-"))))))) -> FALSE | N31: =VLOOKUP(B31,'pns_A5EB03E23BB5F6A0E040640 (2)'!$A$1:$AX$4558,44) -> SD Negeri 2 Binontoan - Dinas Pendidikan Dan Kebudayaan | O31: =VLOOKUP(B31,'pns_A5EB03E23BB5F6A0E040640 (2)'!$A$1:$AX$4558,41) -> S-1 SARJANA PENDIDIKAN | Q31: =VLOOKUP(B31,'pns_A5EB03E23BB5F6A0E040640 (2)'!$A$1:$AX$4558,30) -> III/d | T31: =VLOOKUP(B31,USUL25!A28:$Q$1048576,8) -> BUP KPP | U31: =LEFT(T31,LEN(T31)-4) -> BUP | V31: =U31&" "&Z31 -> BUP June | Y31: =VLOOKUP(B31,USUL25!A28:$Q$1048576,13) -> 45827 | Z31: =TEXT(Y31,"mmmm") -> June | AB31: =DATEDIF(I31,AG31,"Y") &" Tahun "&DATEDIF(I31,AG31,"YM") &" Bulan" -> 60 Tahun 0 Bulan | AC31: =VLOOKUP(B31,USUL25!A28:$Q$1048576,15) -> PH-27206000086 | AE31: =VLOOKUP(B31,USUL25!A$4:$Q$1048576,16) -> 00100/27206/AZ/07/25 | AG31: =VLOOKUP(B31,USUL25!$A$4:$R$1048576,18) -> 45931 | AH31: =DATE(LEFT(B31,4)+58,MID(B31,5,2)+1,1) -> 45200
A32: 27 | B32: 196509231988031009 | C32: =VLOOKUP(B32,'pns_A5EB03E23BB5F6A0E040640 (2)'!$A$1:$AX$4558,3) -> LIS PUJI WIYONO | D32: =IF(F32="ok","Proses Usul",IF(F32="o","Berkas Lengkap",IF(F32="x","Butuh Kelengkapan",IF(F32="cp","Cetak Pertek",IF(F32="","Cek","Selesai"))))) -> Selesai | E32: - | F32: cek | H32: BUP KPP | I32: =DATE(MID(B32,1,4),MID(B32,5,2),MID(B32,7,2)) -> 24008 | J32: =VLOOKUP(D32,sapk21,4) -> #REF! | K32: =VLOOKUP(B32,'pns_A5EB03E23BB5F6A0E040640 (2)'!$A$1:$AX$4558,35) -> Penyuluh Pertanian Ahli Madya | L32: =VLOOKUP(B32,'pns_A5EB03E23BB5F6A0E040640 (2)'!$A$1:$AX$4558,36) -> 0 | M32: =IF(L32="41","IV.a",IF(L32="42","IV.b",IF(L32="31","III.a",IF(L32="32","III.b",IF(L32="22","II.b",IF(L32="21","II.a",IF(L32="0","-"))))))) -> FALSE | N32: =VLOOKUP(B32,'pns_A5EB03E23BB5F6A0E040640 (2)'!$A$1:$AX$4558,44) -> UPT. BALAI PENYULUH PERTANIAN DINAS TANAMAN PANGAN DAN HORTIKULTURA - Dinas Tanaman Pangan Dan Hortikultura | O32: =VLOOKUP(B32,'pns_A5EB03E23BB5F6A0E040640 (2)'!$A$1:$AX$4558,41) -> S-1 PERTANIAN | Q32: =VLOOKUP(B32,'pns_A5EB03E23BB5F6A0E040640 (2)'!$A$1:$AX$4558,30) -> IV/b | T32: =VLOOKUP(B32,USUL25!A29:$Q$1048576,8) -> BUP KPP | U32: =LEFT(T32,LEN(T32)-4) -> BUP | V32: =U32&" "&Z32 -> BUP July | Y32: =VLOOKUP(B32,USUL25!A29:$Q$1048576,13) -> 45839 | Z32: =TEXT(Y32,"mmmm") -> July | AB32: =DATEDIF(I32,AG32,"Y") &" Tahun "&DATEDIF(I32,AG32,"YM") &" Bulan" -> 60 Tahun 0 Bulan | AC32: =VLOOKUP(B32,USUL25!A29:$Q$1048576,15) -> PH-27206000089 | AE32: 00109/27206/AZ/07/25 | AG32: =VLOOKUP(B32,USUL25!$A$4:$R$1048576,18) -> 45931 | AH32: =DATE(LEFT(B32,4)+58,MID(B32,5,2)+1,1) -> 45200
A33: 28 | B33: 196510061989091001 | C33: =VLOOKUP(B33,'pns_A5EB03E23BB5F6A0E040640 (2)'!$A$1:$AX$4558,3) -> I WAYAN SUNDRA | D33: =IF(F33="ok","Proses Usul",IF(F33="o","Berkas Lengkap",IF(F33="x","Butuh Kelengkapan",IF(F33="cp","Cetak Pertek",IF(F33="","Cek","Selesai"))))) -> Selesai | E33: - | F33: cek | H33: BUP KPP | I33: =DATE(MID(B33,1,4),MID(B33,5,2),MID(B33,7,2)) -> 24021 | J33: =VLOOKUP(D33,sapk21,4) -> #REF! | K33: =VLOOKUP(B33,'pns_A5EB03E23BB5F6A0E040640 (2)'!$A$1:$AX$4558,35) -> Guru Ahli Madya | L33: =VLOOKUP(B33,'pns_A5EB03E23BB5F6A0E040640 (2)'!$A$1:$AX$4558,36) -> 0 | M33: =IF(L33="41","IV.a",IF(L33="42","IV.b",IF(L33="31","III.a",IF(L33="32","III.b",IF(L33="22","II.b",IF(L33="21","II.a",IF(L33="0","-"))))))) -> FALSE | N33: =VLOOKUP(B33,'pns_A5EB03E23BB5F6A0E040640 (2)'!$A$1:$AX$4558,44) -> SD Negeri 2 Basi - Dinas Pendidikan Dan Kebudayaan | O33: =VLOOKUP(B33,'pns_A5EB03E23BB5F6A0E040640 (2)'!$A$1:$AX$4558,41) -> D-II/A-II PENDIDIKAN DASAR | Q33: =VLOOKUP(B33,'pns_A5EB03E23BB5F6A0E040640 (2)'!$A$1:$AX$4558,30) -> IV/a | T33: =VLOOKUP(B33,USUL25!A30:$Q$1048576,8) -> BUP KPP | U33: =LEFT(T33,LEN(T33)-4) -> BUP | V33: =U33&" "&Z33 -> BUP July | Y33: =VLOOKUP(B33,USUL25!A30:$Q$1048576,13) -> 45856 | Z33: =TEXT(Y33,"mmmm") -> July | AB33: =DATEDIF(I33,AG33,"Y") &" Tahun "&DATEDIF(I33,AG33,"YM") &" Bulan" -> 60 Tahun 0 Bulan | AC33: =VLOOKUP(B33,USUL25!A30:$Q$1048576,15) -> 0 | AE33: =VLOOKUP(B33,USUL25!A$4:$Q$1048576,16) -> 0 | AG33: =VLOOKUP(B33,USUL25!$A$4:$R$1048576,18) -> 45962 | AH33: =DATE(LEFT(B33,4)+58,MID(B33,5,2)+1,1) -> 45231
A34: 29 | B34: 196510131986012002 | C34: =VLOOKUP(B34,'pns_A5EB03E23BB5F6A0E040640 (2)'!$A$1:$AX$4558,3) -> SULASTRI | D34: =IF(F34="ok","Proses Usul",IF(F34="o","Berkas Lengkap",IF(F34="x","Butuh Kelengkapan",IF(F34="cp","Cetak Pertek",IF(F34="","Cek","Selesai"))))) -> Selesai | E34: - | F34: cek | H34: BUP KPP | I34: =DATE(MID(B34,1,4),MID(B34,5,2),MID(B34,7,2)) -> 24028 | J34: =VLOOKUP(D34,sapk21,4) -> #REF! | K34: =VLOOKUP(B34,'pns_A5EB03E23BB5F6A0E040640 (2)'!$A$1:$AX$4558,35) -> Guru Madya | L34: =VLOOKUP(B34,'pns_A5EB03E23BB5F6A0E040640 (2)'!$A$1:$AX$4558,36) -> 0 | M34: =IF(L34="41","IV.a",IF(L34="42","IV.b",IF(L34="31","III.a",IF(L34="32","III.b",IF(L34="22","II.b",IF(L34="21","II.a",IF(L34="0","-"))))))) -> FALSE | N34: =VLOOKUP(B34,'pns_A5EB03E23BB5F6A0E040640 (2)'!$A$1:$AX$4558,44) -> SMP Negeri 2 Tolitoli - Dinas Pendidikan Dan Kebudayaan | O34: =VLOOKUP(B34,'pns_A5EB03E23BB5F6A0E040640 (2)'!$A$1:$AX$4558,41) -> S-1/A-IV PENDIDIKAN PMP DAN KEWARGANEGARAAN | Q34: =VLOOKUP(B34,'pns_A5EB03E23BB5F6A0E040640 (2)'!$A$1:$AX$4558,30) -> IV/b | T34: =VLOOKUP(B34,USUL25!A31:$Q$1048576,8) -> BUP KPP | U34: =LEFT(T34,LEN(T34)-4) -> BUP | V34: =U34&" "&Z34 -> BUP July | Y34: =VLOOKUP(B34,USUL25!A31:$Q$1048576,13) -> 45856 | Z34: =TEXT(Y34,"mmmm") -> July | AB34: =DATEDIF(I34,AG34,"Y") &" Tahun "&DATEDIF(I34,AG34,"YM") &" Bulan" -> 60 Tahun 0 Bulan | AC34: PH-27206000112 | AE34: 00118/27206/AZ/08/25 | AG34: =VLOOKUP(B34,USUL25!$A$4:$R$1048576,18) -> 45962 | AH34: =DATE(YEAR(W34),MONTH(W34)+1,1) -> 32
A35: 30 | B35: 196510152003121001 | C35: =VLOOKUP(B35,'pns_A5EB03E23BB5F6A0E040640 (2)'!$A$1:$AX$4558,3) -> HILMI | D35: =IF(F35="ok","Proses Usul",IF(F35="o","Berkas Lengkap",IF(F35="x","Butuh Kelengkapan",IF(F35="cp","Cetak Pertek",IF(F35="","Cek","Selesai"))))) -> Selesai | E35: - | F35: cek | H35: BUP KPP | I35: =DATE(MID(B35,1,4),MID(B35,5,2),MID(B35,7,2)) -> 24030 | J35: =VLOOKUP(D35,sapk21,4) -> #REF! | K35: =VLOOKUP(B35,'pns_A5EB03E23BB5F6A0E040640 (2)'!$A$1:$AX$4558,35) -> Guru Ahli Pertama | L35: =VLOOKUP(B35,'pns_A5EB03E23BB5F6A0E040640 (2)'!$A$1:$AX$4558,36) -> 0 | M35: =IF(L35="41","IV.a",IF(L35="42","IV.b",IF(L35="31","III.a",IF(L35="32","III.b",IF(L35="22","II.b",IF(L35="21","II.a",IF(L35="0","-"))))))) -> FALSE | N35: =VLOOKUP(B35,'pns_A5EB03E23BB5F6A0E040640 (2)'!$A$1:$AX$4558,44) -> SD Negeri 2 Nalu - Dinas Pendidikan Dan Kebudayaan | O35: =VLOOKUP(B35,'pns_A5EB03E23BB5F6A0E040640 (2)'!$A$1:$AX$4558,41) -> SPG PENDIDIKAN SD | Q35: =VLOOKUP(B35,'pns_A5EB03E23BB5F6A0E040640 (2)'!$A$1:$AX$4558,30) -> III/b | T35: =VLOOKUP(B35,USUL25!A32:$Q$1048576,8) -> BUP KPP | U35: =LEFT(T35,LEN(T35)-4) -> BUP | V35: =U35&" "&Z35 -> BUP July | Y35: =VLOOKUP(B35,USUL25!A32:$Q$1048576,13) -> 45856 | Z35: =TEXT(Y35,"mmmm") -> July | AB35: =DATEDIF(I35,AG35,"Y") &" Tahun "&DATEDIF(I35,AG35,"YM") &" Bulan" -> 60 Tahun 0 Bulan | AC35: =VLOOKUP(B35,USUL25!A32:$Q$1048576,15) -> 0 | AE35: =VLOOKUP(B35,USUL25!A$4:$Q$1048576,16) -> 0 | AG35: =VLOOKUP(B35,USUL25!$A$4:$R$1048576,18) -> 45962 | AH35: =DATE(YEAR(W35),MONTH(W35)+1,1) -> 32
A36: 31 | B36: 196510262006041005 | C36: =VLOOKUP(B36,'pns_A5EB03E23BB5F6A0E040640 (2)'!$A$1:$AX$4558,3) -> ITEN NANI | D36: =IF(F36="ok","Proses Usul",IF(F36="o","Berkas Lengkap",IF(F36="x","Butuh Kelengkapan",IF(F36="cp","Cetak Pertek",IF(F36="","Cek","Selesai"))))) -> Selesai | E36: - | F36: cek | H36: BUP KPP | I36: =DATE(MID(B36,1,4),MID(B36,5,2),MID(B36,7,2)) -> 24041 | J36: =VLOOKUP(D36,sapk21,4) -> #REF! | K36: =VLOOKUP(B36,'pns_A5EB03E23BB5F6A0E040640 (2)'!$A$1:$AX$4558,35) -> Guru Muda Tingkat. I | L36: =VLOOKUP(B36,'pns_A5EB03E23BB5F6A0E040640 (2)'!$A$1:$AX$4558,36) -> 0 | M36: =IF(L36="41","IV.a",IF(L36="42","IV.b",IF(L36="31","III.a",IF(L36="32","III.b",IF(L36="22","II.b",IF(L36="21","II.a",IF(L36="0","-"))))))) -> FALSE | N36: =VLOOKUP(B36,'pns_A5EB03E23BB5F6A0E040640 (2)'!$A$1:$AX$4558,44) -> SD Negeri Diule - Dinas Pendidikan Dan Kebudayaan | O36: =VLOOKUP(B36,'pns_A5EB03E23BB5F6A0E040640 (2)'!$A$1:$AX$4558,41) -> SPG PENDIDIKAN SD | Q36: =VLOOKUP(B36,'pns_A5EB03E23BB5F6A0E040640 (2)'!$A$1:$AX$4558,30) -> II/d | T36: =VLOOKUP(B36,USUL25!A33:$Q$1048576,8) -> BUP KPP | U36: =LEFT(T36,LEN(T36)-4) -> BUP | V36: =U36&" "&Z36 -> BUP July | Y36: =VLOOKUP(B36,USUL25!A33:$Q$1048576,13) -> 45856 | Z36: =TEXT(Y36,"mmmm") -> July | AB36: =DATEDIF(I36,AG36,"Y") &" Tahun "&DATEDIF(I36,AG36,"YM") &" Bulan" -> 60 Tahun 0 Bulan | AC36: PH-27206000111 | AE36: 00116/27206/AZ/08/25 | AG36: =VLOOKUP(B36,USUL25!$A$4:$R$1048576,18) -> 45962 | AH36: =DATE(YEAR(W36),MONTH(W36)+1,1) -> 32
A37: 32 | B37: 196510281986021006 | C37: =VLOOKUP(B37,'pns_A5EB03E23BB5F6A0E040640 (2)'!$A$1:$AX$4558,3) -> MOHAMAD SAID | D37: =IF(F37="ok","Proses Usul",IF(F37="o","Berkas Lengkap",IF(F37="x","Butuh Kelengkapan",IF(F37="cp","Cetak Pertek",IF(F37="","Cek","Selesai"))))) -> Selesai | E37: - | F37: CEK | H37: BUP KPP | I37: =DATE(MID(B37,1,4),MID(B37,5,2),MID(B37,7,2)) -> 24043 | J37: =VLOOKUP(D37,sapk21,4) -> #REF! | K37: =VLOOKUP(B37,'pns_A5EB03E23BB5F6A0E040640 (2)'!$A$1:$AX$4558,35) -> Guru Ahli Madya | L37: =VLOOKUP(B37,'pns_A5EB03E23BB5F6A0E040640 (2)'!$A$1:$AX$4558,36) -> 0 | M37: =IF(L37="41","IV.a",IF(L37="42","IV.b",IF(L37="31","III.a",IF(L37="32","III.b",IF(L37="22","II.b",IF(L37="21","II.a",IF(L37="0","-"))))))) -> FALSE | N37: =VLOOKUP(B37,'pns_A5EB03E23BB5F6A0E040640 (2)'!$A$1:$AX$4558,44) -> SD Negeri Batuilo - Dinas Pendidikan Dan Kebudayaan | O37: =VLOOKUP(B37,'pns_A5EB03E23BB5F6A0E040640 (2)'!$A$1:$AX$4558,41) -> S-1 SARJANA PENDIDIKAN | Q37: =VLOOKUP(B37,'pns_A5EB03E23BB5F6A0E040640 (2)'!$A$1:$AX$4558,30) -> IV/b | T37: =VLOOKUP(B37,USUL25!A34:$Q$1048576,8) -> BUP KPP | U37: =LEFT(T37,LEN(T37)-4) -> BUP | V37: =U37&" "&Z37 -> BUP July | Y37: =VLOOKUP(B37,USUL25!A34:$Q$1048576,13) -> 45856 | Z37: =TEXT(Y37,"mmmm") -> July | AB37: =DATEDIF(I37,AG37,"Y") &" Tahun "&DATEDIF(I37,AG37,"YM") &" Bulan" -> 60 Tahun 0 Bulan | AC37: PH-27206000110 | AE37: 00117/27206/AZ/08/25 | AG37: =VLOOKUP(B37,USUL25!$A$4:$R$1048576,18) -> 45962 | AH37: =DATE(LEFT(B37,4)+60,MID(B37,5,2)+1,1) -> 45962
A38: 33 | B38: 196512311986022029 | C38: =VLOOKUP(B38,'pns_A5EB03E23BB5F6A0E040640 (2)'!$A$1:$AX$4558,3) -> HENY | D38: =IF(F38="ok","Proses Usul",IF(F38="o","Berkas Lengkap",IF(F38="x","Butuh Kelengkapan",IF(F38="cp","Cetak Pertek",IF(F38="","Cek","Selesai"))))) -> Selesai | E38: - | F38: CEK | H38: BUP KPP | I38: =DATE(MID(B38,1,4),MID(B38,5,2),MID(B38,7,2)) -> 24107 | J38: =VLOOKUP(D38,sapk21,4) -> #REF! | K38: =VLOOKUP(B38,'pns_A5EB03E23BB5F6A0E040640 (2)'!$A$1:$AX$4558,35) -> Guru Ahli Madya | L38: =VLOOKUP(B38,'pns_A5EB03E23BB5F6A0E040640 (2)'!$A$1:$AX$4558,36) -> 0 | M38: =IF(L38="41","IV.a",IF(L38="42","IV.b",IF(L38="31","III.a",IF(L38="32","III.b",IF(L38="22","II.b",IF(L38="21","II.a",IF(L38="0","-"))))))) -> FALSE | N38: =VLOOKUP(B38,'pns_A5EB03E23BB5F6A0E040640 (2)'!$A$1:$AX$4558,44) -> SD Negeri 10 Tolitoli - Dinas Pendidikan Dan Kebudayaan | O38: =VLOOKUP(B38,'pns_A5EB03E23BB5F6A0E040640 (2)'!$A$1:$AX$4558,41) -> S-1 SARJANA PENDIDIKAN | Q38: =VLOOKUP(B38,'pns_A5EB03E23BB5F6A0E040640 (2)'!$A$1:$AX$4558,30) -> IV/b | T38: =VLOOKUP(B38,USUL25!A34:$Q$1048576,8) -> BUP KPP | U38: =LEFT(T38,LEN(T38)-4) -> BUP | V38: =U38&" "&Z38 -> BUP July | Y38: =VLOOKUP(B38,USUL25!A34:$Q$1048576,13) -> 45856 | Z38: =TEXT(Y38,"mmmm") -> July | AB38: =DATEDIF(I38,AG38,"Y") &" Tahun "&DATEDIF(I38,AG38,"YM") &" Bulan" -> 60 Tahun 0 Bulan | AC38: =VLOOKUP(B38,USUL25!A34:$Q$1048576,15) -> PH-27206000104 | AE38: =VLOOKUP(B38,USUL25!A$4:$Q$1048576,16) -> 00107/27206/AZ/07/25 | AG38: =VLOOKUP(B38,USUL25!$A$4:$R$1048576,18) -> 46023 | AH38: =DATE(LEFT(B38,4)+60,MID(B38,5,2)+1,1) -> 46023
A39: 34 | B39: 196607122000121006 | C39: =VLOOKUP(B39,'pns_A5EB03E23BB5F6A0E040640 (2)'!$A$1:$AX$4558,3) -> BAHTIAR | D39: =IF(F39="ok","Proses Usul",IF(F39="o","Berkas Lengkap",IF(F39="x","Butuh Kelengkapan",IF(F39="cp","Cetak Pertek",IF(F39="","Cek","Selesai"))))) -> Proses Usul | E39: - | F39: OK | H39: BUP KPP | I39: =DATE(MID(B39,1,4),MID(B39,5,2),MID(B39,7,2)) -> 24300 | J39: =VLOOKUP(D39,sapk21,4) -> #REF! | K39: =VLOOKUP(B39,'pns_A5EB03E23BB5F6A0E040640 (2)'!$A$1:$AX$4558,35) -> Guru Ahli Pertama | L39: =VLOOKUP(B39,'pns_A5EB03E23BB5F6A0E040640 (2)'!$A$1:$AX$4558,36) -> 0 | M39: =IF(L39="41","IV.a",IF(L39="42","IV.b",IF(L39="31","III.a",IF(L39="32","III.b",IF(L39="22","II.b",IF(L39="21","II.a",IF(L39="0","-"))))))) -> FALSE | N39: =VLOOKUP(B39,'pns_A5EB03E23BB5F6A0E040640 (2)'!$A$1:$AX$4558,44) -> SD Negeri 2 Binontoan - Dinas Pendidikan Dan Kebudayaan | O39: =VLOOKUP(B39,'pns_A5EB03E23BB5F6A0E040640 (2)'!$A$1:$AX$4558,41) -> SEKOLAH PENDIDIKAN GURU | Q39: =VLOOKUP(B39,'pns_A5EB03E23BB5F6A0E040640 (2)'!$A$1:$AX$4558,30) -> III/b | T39: =VLOOKUP(B39,USUL25!A35:$Q$1048576,8) -> BUP KPP | U39: =LEFT(T39,LEN(T39)-4) -> BUP | V39: =U39&" "&Z39 -> BUP October | Y39: =VLOOKUP(B39,USUL25!A35:$Q$1048576,13) -> 21-10-2025 | Z39: =TEXT(Y39,"mmmm") -> October | AB39: =DATEDIF(I39,AG39,"Y") &" Tahun "&DATEDIF(I39,AG39,"YM") &" Bulan" -> 60 Tahun 0 Bulan | AC39: =VLOOKUP(B39,USUL25!A35:$Q$1048576,15) -> 0 | AE39: =VLOOKUP(B39,USUL25!A$4:$Q$1048576,16) -> 0 | AG39: =VLOOKUP(B39,USUL25!$A$4:$R$1048576,18) -> 46235 | AH39: =DATE(LEFT(B39,4)+60,MID(B39,5,2)+1,1) -> 46235
A40: 35 | B40: 196607232000122004 | C40: =VLOOKUP(B40,'pns_A5EB03E23BB5F6A0E040640 (2)'!$A$1:$AX$4558,3) -> SUMIATY M. RUIYAS | D40: =IF(F40="ok","Proses Usul",IF(F40="o","Berkas Lengkap",IF(F40="x","Butuh Kelengkapan",IF(F40="cp","Cetak Pertek",IF(F40="","Cek","Selesai"))))) -> Selesai | E40: - | F40: cek | H40: BUP KPP | I40: =DATE(MID(B40,1,4),MID(B40,5,2),MID(B40,7,2)) -> 24311 | J40: =VLOOKUP(D40,sapk21,4) -> #REF! | K40: =VLOOKUP(B40,'pns_A5EB03E23BB5F6A0E040640 (2)'!$A$1:$AX$4558,35) -> Guru Ahli Muda | L40: =VLOOKUP(B40,'pns_A5EB03E23BB5F6A0E040640 (2)'!$A$1:$AX$4558,36) -> 0 | M40: =IF(L40="41","IV.a",IF(L40="42","IV.b",IF(L40="31","III.a",IF(L40="32","III.b",IF(L40="22","II.b",IF(L40="21","II.a",IF(L40="0","-"))))))) -> FALSE | N40: =VLOOKUP(B40,'pns_A5EB03E23BB5F6A0E040640 (2)'!$A$1:$AX$4558,44) -> SD Negeri 18 Tolitoli - Dinas Pendidikan Dan Kebudayaan | O40: =VLOOKUP(B40,'pns_A5EB03E23BB5F6A0E040640 (2)'!$A$1:$AX$4558,41) -> S-1 SARJANA PENDIDIKAN | Q40: =VLOOKUP(B40,'pns_A5EB03E23BB5F6A0E040640 (2)'!$A$1:$AX$4558,30) -> III/d | T40: =VLOOKUP(B40,USUL25!A36:$Q$1048576,8) -> Pemberhentian Karena Meninggal Dunia (Janda/Duda) KPP | U40: =LEFT(T40,LEN(T40)-4) -> Pemberhentian Karena Meninggal Dunia (Janda/Duda) | V40: =U40&" "&Z40 -> Pemberhentian Karena Meninggal Dunia (Janda/Duda) May | Y40: =VLOOKUP(B40,USUL25!A36:$Q$1048576,13) -> 45796 | Z40: =TEXT(Y40,"mmmm") -> May | AB40: =DATEDIF(I40,AG40,"Y") &" Tahun "&DATEDIF(I40,AG40,"YM") &" Bulan" -> 58 Tahun 7 Bulan | AC40: =VLOOKUP(B40,USUL25!A36:$Q$1048576,15) -> PH-27206000074 | AE40: =VLOOKUP(B40,USUL25!A$4:$Q$1048576,16) -> 00081/27206/AZ/06/25 | AG40: =VLOOKUP(B40,USUL25!$A$4:$R$1048576,18) -> 45717 | AH40: =DATE(LEFT(B40,4)+60,MID(B40,5,2)+1,1) -> 46235
A41: 36 | B41: 196612092014051001 | C41: =VLOOKUP(B41,'pns_A5EB03E23BB5F6A0E040640 (2)'!$A$1:$AX$4558,3) -> JUFRI | D41: =IF(F41="ok","Proses Usul",IF(F41="o","Berkas Lengkap",IF(F41="x","Butuh Kelengkapan",IF(F41="cp","Cetak Pertek",IF(F41="","Cek","Selesai"))))) -> Selesai | E41: - | F41: cek | H41: BUP KPP | I41: =DATE(MID(B41,1,4),MID(B41,5,2),MID(B41,7,2)) -> 24450 | J41: =VLOOKUP(D41,sapk21,4) -> #REF! | K41: =VLOOKUP(B41,'pns_A5EB03E23BB5F6A0E040640 (2)'!$A$1:$AX$4558,35) -> GURU SD | L41: =VLOOKUP(B41,'pns_A5EB03E23BB5F6A0E040640 (2)'!$A$1:$AX$4558,36) -> 0 | M41: =IF(L41="41","IV.a",IF(L41="42","IV.b",IF(L41="31","III.a",IF(L41="32","III.b",IF(L41="22","II.b",IF(L41="21","II.a",IF(L41="0","-"))))))) -> FALSE | N41: =VLOOKUP(B41,'pns_A5EB03E23BB5F6A0E040640 (2)'!$A$1:$AX$4558,44) -> SD Negeri 1 Basi - Dinas Pendidikan Dan Kebudayaan | O41: =VLOOKUP(B41,'pns_A5EB03E23BB5F6A0E040640 (2)'!$A$1:$AX$4558,41) -> SPG PENDIDIKAN SD | Q41: =VLOOKUP(B41,'pns_A5EB03E23BB5F6A0E040640 (2)'!$A$1:$AX$4558,30) -> II/b | T41: =VLOOKUP(B41,USUL25!A36:$Q$1048576,8) -> BUP KPP | U41: =LEFT(T41,LEN(T41)-4) -> BUP | V41: =U41&" "&Z41 -> BUP January | Y41: =VLOOKUP(B41,USUL25!A36:$Q$1048576,13) -> 45660 | Z41: =TEXT(Y41,"mmmm") -> January | AB41: =DATEDIF(I41,AG41,"Y") &" Tahun "&DATEDIF(I41,AG41,"YM") &" Bulan" -> 58 Tahun 0 Bulan | AC41: =VLOOKUP(B41,USUL25!A36:$Q$1048576,15) -> PH-27206000002 | AE41: =VLOOKUP(B41,USUL25!A$4:$Q$1048576,16) -> 00008/27206/AZ/01/25 | AG41: =VLOOKUP(B41,USUL25!$A$4:$R$1048576,18) -> 45658 | AH41: =DATE(LEFT(B41,4)+58,MID(B41,5,2)+1,1) -> 45658
A42: 37 | B42: 196612162014112001 | C42: =VLOOKUP(B42,'pns_A5EB03E23BB5F6A0E040640 (2)'!$A$1:$AX$4558,3) -> ELSA DESELINA | D42: =IF(F42="ok","Proses Usul",IF(F42="o","Berkas Lengkap",IF(F42="x","Butuh Kelengkapan",IF(F42="cp","Cetak Pertek",IF(F42="","Cek","Selesai"))))) -> Selesai | E42: - | F42: cek | H42: BUP KPP | I42: =DATE(MID(B42,1,4),MID(B42,5,2),MID(B42,7,2)) -> 24457 | J42: =VLOOKUP(D42,sapk21,4) -> #REF! | K42: =VLOOKUP(B42,'pns_A5EB03E23BB5F6A0E040640 (2)'!$A$1:$AX$4558,35) -> PENGADMINISTRASI PROGRAM PEMERINTAHAN | L42: =VLOOKUP(B42,'pns_A5EB03E23BB5F6A0E040640 (2)'!$A$1:$AX$4558,36) -> 0 | M42: =IF(L42="41","IV.a",IF(L42="42","IV.b",IF(L42="31","III.a",IF(L42="32","III.b",IF(L42="22","II.b",IF(L42="21","II.a",IF(L42="0","-"))))))) -> FALSE | N42: =VLOOKUP(B42,'pns_A5EB03E23BB5F6A0E040640 (2)'!$A$1:$AX$4558,44) -> Bidang Sarana dan Prasarana dan Pemberdayaan Industri - Dinas Perindustrian | O42: =VLOOKUP(B42,'pns_A5EB03E23BB5F6A0E040640 (2)'!$A$1:$AX$4558,41) -> S-1 ILMU ADMINISTRASI NEGARA | Q42: =VLOOKUP(B42,'pns_A5EB03E23BB5F6A0E040640 (2)'!$A$1:$AX$4558,30) -> III/b | R42: III/b | T42: =VLOOKUP(B42,USUL25!A37:$Q$1048576,8) -> BUP KPP | U42: =LEFT(T42,LEN(T42)-4) -> BUP | V42: =U42&" "&Z42 -> BUP October | Y42: =VLOOKUP(B42,USUL25!A37:$Q$1048576,13) -> 21-10-2025 | Z42: =TEXT(Y42,"mmmm") -> October | AB42: =DATEDIF(I42,AG42,"Y") &" Tahun "&DATEDIF(I42,AG42,"YM") &" Bulan" -> 58 Tahun 0 Bulan | AC42: =VLOOKUP(B42,USUL25!A37:$Q$1048576,15) -> 0 | AE42: =VLOOKUP(B42,USUL25!A$4:$Q$1048576,16) -> 00005/27206/AV/01/25 | AG42: =VLOOKUP(B42,USUL25!$A$4:$R$1048576,18) -> 45658 | AH42: =DATE(LEFT(B42,4)+58,MID(B42,5,2)+1,1) -> 45658
